BEGIN:VCALENDAR
VERSION:2.0
PRODID:-//The BV - ECPv6.15.20//NONSGML v1.0//EN
CALSCALE:GREGORIAN
METHOD:PUBLISH
X-WR-CALNAME:The BV
X-ORIGINAL-URL:https://www.theblackmorevale.co.uk
X-WR-CALDESC:Events for The BV
REFRESH-INTERVAL;VALUE=DURATION:PT1H
X-Robots-Tag:noindex
X-PUBLISHED-TTL:PT1H
BEGIN:VTIMEZONE
TZID:Europe/London
BEGIN:DAYLIGHT
TZOFFSETFROM:+0000
TZOFFSETTO:+0100
TZNAME:BST
DTSTART:20240331T010000
END:DAYLIGHT
BEGIN:STANDARD
TZOFFSETFROM:+0100
TZOFFSETTO:+0000
TZNAME:GMT
DTSTART:20241027T010000
END:STANDARD
BEGIN:DAYLIGHT
TZOFFSETFROM:+0000
TZOFFSETTO:+0100
TZNAME:BST
DTSTART:20250330T010000
END:DAYLIGHT
BEGIN:STANDARD
TZOFFSETFROM:+0100
TZOFFSETTO:+0000
TZNAME:GMT
DTSTART:20251026T010000
END:STANDARD
BEGIN:DAYLIGHT
TZOFFSETFROM:+0000
TZOFFSETTO:+0100
TZNAME:BST
DTSTART:20260329T010000
END:DAYLIGHT
BEGIN:STANDARD
TZOFFSETFROM:+0100
TZOFFSETTO:+0000
TZNAME:GMT
DTSTART:20261025T010000
END:STANDARD
END:VTIMEZONE
BEGIN:VEVENT
DTSTART;TZID=Europe/London:20250723T193000
DTEND;TZID=Europe/London:20250827T220000
DTSTAMP:20260420T122539
CREATED:20250509T085314Z
LAST-MODIFIED:20250509T085318Z
UID:41302-1753299000-1756332000@www.theblackmorevale.co.uk
SUMMARY:Summer Season of Plays
DESCRIPTION:A second Summer Season of Plays\, bringing rep theatre to the beautiful Marine Theatre\, on the sea front at stunning Lyme Regis\, again. Following the successful performances last year\, this year we bring you five popular plays from 23rd July to 27th August. For five weeks\, you can enjoy a company of professional actors bringing you popular plays\, each one a great evening’s entertainment. Get a season ticket for all five plays for £75 and save money\, plus members of the Marine Theatre get a 10% discount. \nThe first show is Ira Levin’s ‘Deathtrap’\, a murderously funny thriller made into a film with Michael Caine. With multiple plot twists\, this fiendishly funny play spirals into a deadly game of deception and betrayal. \nNext is Alan Ayckbourn’s ‘A Brief History of Women’\, a hilarious and gently touching comedy played out over 60 years. A tragi-comedy with all of Ayckbourn’s trademark theatricality\, this will be performed in-the-round. \nThe third play is ‘Strictly Murder’ by Brian Clemens\, a dark and frightening thriller set just before WWII. Lies\, subterfuge and murder make this fast-moving play a dark and disturbing roller coaster of bluff and double bluff. \nThen\, for her 250th year\, we present Jane Austen’s ‘Persuasion’\, adapted by Mark Healy\, which is set partly in Lyme Regis\, on the famous Cobb. This faithful yet inventive telling of the story blends Jane’s own life with that of her heroine\, Anne. \nThe season finishes with Noël Coward’s sublime comedy of manners ‘Fallen Angels’ which is a champagne cocktail of wit and charm\, described by the Lord Chamberlain as a ‘farcical comedy’ when it was first performed. \nAll plays start at 7.30pm and change midweek\, so if you’re in Lyme for a week you can see two plays. Weekend performances vary – see website for details\, or call in at the Lyme Regis Bookshop or Bridport Tourist Information Centre. \nDo come and join us!
URL:https://www.theblackmorevale.co.uk/whats-on/summer-season-of-plays/
LOCATION:Marine Theatre\, Church Street\, Lyme Regis\, DT7 3QB
CATEGORIES:Theatre
ATTACH;FMTTYPE=image/jpeg:https://www.theblackmorevale.co.uk/wp-content/uploads/2025/05/susummerseason2025.jpg
ORGANIZER;CN="Gilroy Theatre":MAILTO:Gilroy.Theatre@hotmail.com
END:VEVENT
BEGIN:VEVENT
DTSTART;TZID=Europe/London:20250811T193000
DTEND;TZID=Europe/London:20250811T220000
DTSTAMP:20260420T122539
CREATED:20250612T084653Z
LAST-MODIFIED:20250612T084654Z
UID:42734-1754940600-1754949600@www.theblackmorevale.co.uk
SUMMARY:Play Reading evening - 'Open Doors': A Music & Drama Group event at Shaftesbury Arts Centre
DESCRIPTION:Back due to popular demand\, join us with a play reading evening – part of our MAD About Drama events.\n\n‘Open Doors’ is an original piece of work and is a fast-paced comedy set in a provincial town in the present. The action takes place inside a self-service storage warehouse involving nine customers and three staff. Each of the rooms is rented by people who need extra space; but those people have secrets!\nAs the action unfolds and the activity gets more and more frenetic\, these secrets start to unfold with devastating impact and lots and lots of laughs. The play comes to an unexpected climax when… come and find out for yourself!\nA chance to come and have a read\, or just a listen of the play\, grab a drink from the bar and meet new and old friends. All whilst sharing your love of all things drama.\nAge 16+
URL:https://www.theblackmorevale.co.uk/whats-on/play-reading-evening-open-doors-a-music-drama-group-event-at-shaftesbury-arts-centre/
LOCATION:Shaftesbury Arts Centre\, 13 Bell St\, Shaftesbury\, Dorset\, SP7 8AR\, United Kingdom
CATEGORIES:Theatre
ATTACH;FMTTYPE=image/jpeg:https://www.theblackmorevale.co.uk/wp-content/uploads/2025/06/play-reading.jpg
ORGANIZER;CN="The Music &amp%3B Drama Group":MAILTO:publicity@shaftesburtartscentre.org.uk
END:VEVENT
END:VCALENDAR