BEGIN:VCALENDAR
VERSION:2.0
PRODID:-//The BV - ECPv6.15.20//NONSGML v1.0//EN
CALSCALE:GREGORIAN
METHOD:PUBLISH
X-WR-CALNAME:The BV
X-ORIGINAL-URL:https://www.theblackmorevale.co.uk
X-WR-CALDESC:Events for The BV
REFRESH-INTERVAL;VALUE=DURATION:PT1H
X-Robots-Tag:noindex
X-PUBLISHED-TTL:PT1H
BEGIN:VTIMEZONE
TZID:Europe/London
BEGIN:DAYLIGHT
TZOFFSETFROM:+0000
TZOFFSETTO:+0100
TZNAME:BST
DTSTART:20240331T010000
END:DAYLIGHT
BEGIN:STANDARD
TZOFFSETFROM:+0100
TZOFFSETTO:+0000
TZNAME:GMT
DTSTART:20241027T010000
END:STANDARD
BEGIN:DAYLIGHT
TZOFFSETFROM:+0000
TZOFFSETTO:+0100
TZNAME:BST
DTSTART:20250330T010000
END:DAYLIGHT
BEGIN:STANDARD
TZOFFSETFROM:+0100
TZOFFSETTO:+0000
TZNAME:GMT
DTSTART:20251026T010000
END:STANDARD
BEGIN:DAYLIGHT
TZOFFSETFROM:+0000
TZOFFSETTO:+0100
TZNAME:BST
DTSTART:20260329T010000
END:DAYLIGHT
BEGIN:STANDARD
TZOFFSETFROM:+0100
TZOFFSETTO:+0000
TZNAME:GMT
DTSTART:20261025T010000
END:STANDARD
END:VTIMEZONE
BEGIN:VEVENT
DTSTART;TZID=Europe/London:20250607T193000
DTEND;TZID=Europe/London:20250607T213000
DTSTAMP:20260420T153746
CREATED:20250604T152435Z
LAST-MODIFIED:20250604T152437Z
UID:42225-1749324600-1749331800@www.theblackmorevale.co.uk
SUMMARY:A Few Crusted Characters
DESCRIPTION:To celebrate their 20th year\, the New Hardy Players bring Thomas Hardy’s famous series of short stories to Abbotsbury Swannery. Dorset’s most celebrated author’s answer to ‘The Canterbury Tales’\, this is a series of comic and tragic stories\, with small scenes of village gossip from 200 years ago\, told by an ensemble of authentic Dorset voices.\nSuitable for all ages\, the play is followed by country dancing with live music in the best tradition.Come early and bring a picnic! No seating provided.\nWritten by Victoria Bowles after Thomas Hardy. Directed by Penny Levick and Alastair Braidwood.
URL:https://www.theblackmorevale.co.uk/whats-on/a-few-crusted-characters/
LOCATION:Abbotsbury Swannery\, New Barn Road\, Abbotsbury\, DT3 4JG
CATEGORIES:Barn Dance,Family event,live music,music,outdoor theatre,Theatre
ATTACH;FMTTYPE=image/jpeg:https://www.theblackmorevale.co.uk/wp-content/uploads/2025/06/banner.jpg
END:VEVENT
BEGIN:VEVENT
DTSTART;TZID=Europe/London:20250608T160000
DTEND;TZID=Europe/London:20250608T180000
DTSTAMP:20260420T153747
CREATED:20250604T152456Z
LAST-MODIFIED:20250604T152457Z
UID:42232-1749398400-1749405600@www.theblackmorevale.co.uk
SUMMARY:A Few Crusted Characters
DESCRIPTION:To celebrate their 20th year\, the New Hardy Players bring Thomas Hardy’s famous series of short stories to Maumbury Rings. Dorset’s most celebrated author’s answer to ‘The Canterbury Tales’\, this is a series of comic and tragic stories\, with small scenes of village gossip from 200 years ago\, told by an ensemble of authentic Dorset voices.\nSuitable for all ages\, the play is followed by country dancing with live music in the best tradition.Come early and enjoy the festivities! Bring a picnic! No seating provided.\nWritten by Victoria Bowles after Thomas Hardy. Directed by Penny Levick and Alastair Braidwood.
URL:https://www.theblackmorevale.co.uk/whats-on/a-few-crusted-characters-2/
LOCATION:Maumbury Rings\, 17 Maumbury Rd\, Dorchester\, DT1 1QN
CATEGORIES:Barn Dance,Family event,live music,music,outdoor theatre,Theatre
ATTACH;FMTTYPE=image/jpeg:https://www.theblackmorevale.co.uk/wp-content/uploads/2025/06/banner-1.jpg
END:VEVENT
BEGIN:VEVENT
DTSTART;TZID=Europe/London:20250614T193000
DTEND;TZID=Europe/London:20250614T213000
DTSTAMP:20260420T153747
CREATED:20250604T152512Z
LAST-MODIFIED:20250604T152513Z
UID:42238-1749929400-1749936600@www.theblackmorevale.co.uk
SUMMARY:A Few Crusted Characters
DESCRIPTION:To celebrate their 20th year\, the New Hardy Players bring Thomas Hardy’s famous series of short stories to Minterne House. Dorset’s most celebrated author’s answer to ‘The Canterbury Tales’\, this is a series of comic and tragic stories\, with small scenes of village gossip from 200 years ago\, told by an ensemble of authentic Dorset voices.\nSuitable for all ages\, the play is followed by country dancing with live music in the best tradition.Come early and bring a picnic! No seating provided.\nWritten by Victoria Bowles after Thomas Hardy. Directed by Penny Levick and Alastair Braidwood.
URL:https://www.theblackmorevale.co.uk/whats-on/a-few-crusted-characters-3/
LOCATION:Minterne House\, Minterne House and Gardens\, Minterne Magna\, DT2 7AU
CATEGORIES:Barn Dance,Family event,live music,music,outdoor theatre,Theatre
ATTACH;FMTTYPE=image/jpeg:https://www.theblackmorevale.co.uk/wp-content/uploads/2025/06/banner-3.jpg
END:VEVENT
BEGIN:VEVENT
DTSTART;TZID=Europe/London:20250615T160000
DTEND;TZID=Europe/London:20250615T180000
DTSTAMP:20260420T153747
CREATED:20250604T152528Z
LAST-MODIFIED:20250604T152529Z
UID:42249-1750003200-1750010400@www.theblackmorevale.co.uk
SUMMARY:A Few Crusted Characters
DESCRIPTION:To celebrate their 20th year\, the New Hardy Players bring Thomas Hardy’s famous series of short stories to Minterne House. Dorset’s most celebrated author’s answer to ‘The Canterbury Tales’\, this is a series of comic and tragic stories\, with small scenes of village gossip from 200 years ago\, told by an ensemble of authentic Dorset voices.\nSuitable for all ages\, the play is followed by country dancing with live music in the best tradition.Come early and enjoy the festivities! Bring a picnic! No seating provided.\nWritten by Victoria Bowles after Thomas Hardy. Directed by Penny Levick and Alastair Braidwood.
URL:https://www.theblackmorevale.co.uk/whats-on/a-few-crusted-characters-4/
LOCATION:Minterne House\, Minterne House and Gardens\, Minterne Magna\, DT2 7AU
CATEGORIES:Barn Dance,Family event,live music,music,outdoor theatre,Theatre
ATTACH;FMTTYPE=image/jpeg:https://www.theblackmorevale.co.uk/wp-content/uploads/2025/06/banner-4.jpg
END:VEVENT
BEGIN:VEVENT
DTSTART;TZID=Europe/London:20250628T100000
DTEND;TZID=Europe/London:20250628T123000
DTSTAMP:20260420T153747
CREATED:20250612T084625Z
LAST-MODIFIED:20250612T084626Z
UID:42744-1751104800-1751113800@www.theblackmorevale.co.uk
SUMMARY:MAD About Drama: Basic Stage Combat - A Music & Drama Group Event
DESCRIPTION:Join the Music & Drama Group in an exciting morning of Basic Stage Combat\, which is part of our ‘About Drama’ series.\n\n\nThe workshop will be run by MC Combat and will cover basic stage combat techniques\, movement and character. This session will be a physical session and has limited spaces available.\n\nAge Restriction 18+
URL:https://www.theblackmorevale.co.uk/whats-on/mad-about-drama-basic-stage-combat-a-music-drama-group-event/
LOCATION:Shaftesbury Arts Centre\, 13 Bell St\, Shaftesbury\, Dorset\, SP7 8AR\, United Kingdom
CATEGORIES:Theatre
ATTACH;FMTTYPE=image/jpeg:https://www.theblackmorevale.co.uk/wp-content/uploads/2025/06/stage-combat-web.jpg
ORGANIZER;CN="The Music &amp%3B Drama Group":MAILTO:publicity@shaftesburtartscentre.org.uk
END:VEVENT
END:VCALENDAR