BEGIN:VCALENDAR
VERSION:2.0
PRODID:-//The BV - ECPv6.15.20//NONSGML v1.0//EN
CALSCALE:GREGORIAN
METHOD:PUBLISH
X-WR-CALNAME:The BV
X-ORIGINAL-URL:https://www.theblackmorevale.co.uk
X-WR-CALDESC:Events for The BV
REFRESH-INTERVAL;VALUE=DURATION:PT1H
X-Robots-Tag:noindex
X-PUBLISHED-TTL:PT1H
BEGIN:VTIMEZONE
TZID:Europe/London
BEGIN:DAYLIGHT
TZOFFSETFROM:+0000
TZOFFSETTO:+0100
TZNAME:BST
DTSTART:20240331T010000
END:DAYLIGHT
BEGIN:STANDARD
TZOFFSETFROM:+0100
TZOFFSETTO:+0000
TZNAME:GMT
DTSTART:20241027T010000
END:STANDARD
BEGIN:DAYLIGHT
TZOFFSETFROM:+0000
TZOFFSETTO:+0100
TZNAME:BST
DTSTART:20250330T010000
END:DAYLIGHT
BEGIN:STANDARD
TZOFFSETFROM:+0100
TZOFFSETTO:+0000
TZNAME:GMT
DTSTART:20251026T010000
END:STANDARD
BEGIN:DAYLIGHT
TZOFFSETFROM:+0000
TZOFFSETTO:+0100
TZNAME:BST
DTSTART:20260329T010000
END:DAYLIGHT
BEGIN:STANDARD
TZOFFSETFROM:+0100
TZOFFSETTO:+0000
TZNAME:GMT
DTSTART:20261025T010000
END:STANDARD
END:VTIMEZONE
BEGIN:VEVENT
DTSTART;TZID=Europe/London:20250311T193000
DTEND;TZID=Europe/London:20250311T203000
DTSTAMP:20260420T194834
CREATED:20241203T175020Z
LAST-MODIFIED:20241203T175020Z
UID:34618-1741721400-1741725000@www.theblackmorevale.co.uk
SUMMARY:Moments
DESCRIPTION:Celebrating over 13 years of working together\, the critically acclaimed team behind the making of international hits The Nature of Forgetting and BIRTH opens up their precious notebooks and share how their magic works. By doing so the magic seems more impressive\, more real and more magical. Weaving Katherine Graham\, Guillaume Pigé and Alex Judd’s personal stories of becoming parents and reaching mid-life with theatrical imagination\, they unpick their creative bond\, re-evaluate success and make a new show exploring time\, fatherhood and grief.\n\nUltimately\, Moments is about attentiveness to; magic in the making of new work; poetry in our everyday; moment-by-moment existence; life as we live it.\n\n‘I give it (grandfather’s watch) to you not that you may remember time\, but that you might forget it now and then for a moment and not spend all your breath trying to conquer it.’ William Faulkner\, The Sound and the Fury\n\nThe development of this new project is funded by Arts Council England\, co-commissioned by London International Mime Festival\, and supported by The Point Eastleigh\, Shoreditch Town Hall\, The Lowry Salford and University of York. It will take place over a number of months in 2023 and 2024.
URL:https://www.theblackmorevale.co.uk/whats-on/moments/
CATEGORIES:Theatre
END:VEVENT
BEGIN:VEVENT
DTSTART;TZID=Europe/London:20250320T193000
DTEND;TZID=Europe/London:20250320T220000
DTSTAMP:20260420T194834
CREATED:20250130T115751Z
LAST-MODIFIED:20250130T115756Z
UID:37001-1742499000-1742508000@www.theblackmorevale.co.uk
SUMMARY:Pot Licker
DESCRIPTION:Pot licker\nWritten and Directed by Ed Viney\nThursday 20 March\, 7:30pm. Halstock Village Hall. 01935 891744. £12.50\, £6 u18s\nWhen teachers Rich\, Kris and Zara discover a bag of drugs in school lost property\, they should\nreport this straight away. But as the school faces imminent closure\, is there another way to deal\nwith the bag?\nThis brilliant new dark comedy looks at what happens when worlds collide\, and lines of\nresponsibility get blurred.\nWriter/director Ed Viney has worked with theatres across the South West and nationally\,\nincluding the RSC\, Bath Theatre Royal and Bristol Old Vic. He recently received the Creative\nScotland Four Nations Award and is the Festival Director of The Script’s The Thing.\nTouring to Halstock with Artsreach\, Pot licker was part of a new scriptwriting initiative at the\nLighthouse Poole\, and is produced by Dorchester Arts for this wider regional tour.\nSuitable 16+ (contains drug references)\nwww.artsreach.co.uk
URL:https://www.theblackmorevale.co.uk/whats-on/pot-licker/
CATEGORIES:Theatre
ATTACH;FMTTYPE=image/jpeg:https://www.theblackmorevale.co.uk/wp-content/uploads/2025/01/Pot-Licker-Brochure-73.5-x-88mm.jpg
ORGANIZER;CN="Artsreach":MAILTO:info@artsreach.co.uk
END:VEVENT
END:VCALENDAR