BEGIN:VCALENDAR
VERSION:2.0
PRODID:-//The BV - ECPv6.15.20//NONSGML v1.0//EN
CALSCALE:GREGORIAN
METHOD:PUBLISH
X-WR-CALNAME:The BV
X-ORIGINAL-URL:https://www.theblackmorevale.co.uk
X-WR-CALDESC:Events for The BV
REFRESH-INTERVAL;VALUE=DURATION:PT1H
X-Robots-Tag:noindex
X-PUBLISHED-TTL:PT1H
BEGIN:VTIMEZONE
TZID:Europe/London
BEGIN:DAYLIGHT
TZOFFSETFROM:+0000
TZOFFSETTO:+0100
TZNAME:BST
DTSTART:20240331T010000
END:DAYLIGHT
BEGIN:STANDARD
TZOFFSETFROM:+0100
TZOFFSETTO:+0000
TZNAME:GMT
DTSTART:20241027T010000
END:STANDARD
BEGIN:DAYLIGHT
TZOFFSETFROM:+0000
TZOFFSETTO:+0100
TZNAME:BST
DTSTART:20250330T010000
END:DAYLIGHT
BEGIN:STANDARD
TZOFFSETFROM:+0100
TZOFFSETTO:+0000
TZNAME:GMT
DTSTART:20251026T010000
END:STANDARD
BEGIN:DAYLIGHT
TZOFFSETFROM:+0000
TZOFFSETTO:+0100
TZNAME:BST
DTSTART:20260329T010000
END:DAYLIGHT
BEGIN:STANDARD
TZOFFSETFROM:+0100
TZOFFSETTO:+0000
TZNAME:GMT
DTSTART:20261025T010000
END:STANDARD
END:VTIMEZONE
BEGIN:VEVENT
DTSTART;TZID=Europe/London:20250130T193000
DTEND;TZID=Europe/London:20250201T220000
DTSTAMP:20260420T211351
CREATED:20250112T000654Z
LAST-MODIFIED:20251121T095752Z
UID:35951-1738265400-1738447200@www.theblackmorevale.co.uk
SUMMARY:PANTOMIME The Wind In The Willows - A Valley Adventure
DESCRIPTION:The Tarrant Valley Players 2025 The Wind In The Willows. In the Tarrant Valley along the River Tarrant lives Ratty\, enjoying life\, rowing boats\, having picnics\, Mole in his meadow digging happily\, Mr Toad in his magnificent Hall and Badger Keeping to himself in Ashley Wood.\n\nThat’s until they learn from Otter that Chief Weasel has been released from Prison. The chief with the help from his fellow weasels have put plans to re-develop the valley into the biggest housing development the Riverbank has ever seen. Otter and her friends need to come up with a way to stop the development\, but Toads love of motor cars puts their plans into jeopardy.\n\nThe Classic tale retold Panto-Style\, complete with Toad’s caravan\, the stealing of a motor car and the battle for Toad Hall\, but with a few new faces along the way. Written by Alexis Austin and Directed by Alexis Austin & Rob Chalkley.
URL:https://www.theblackmorevale.co.uk/whats-on/pantomime-the-wind-in-the-willows-a-valley-adventure/
LOCATION:Anne Biddlecombe Hall\, Valley Road\, Tarrant Keyneston\, Blandford Forum\, Dt11 9JE
CATEGORIES:Theatre
ATTACH;FMTTYPE=image/jpeg:https://www.theblackmorevale.co.uk/wp-content/uploads/2025/01/Wind-In-The-Willows-POSTER-COMPLETE-December-Update.jpg
ORGANIZER;CN="The Tarrant Valley Players":MAILTO:alexisaustin@hotmail.co.uk
END:VEVENT
BEGIN:VEVENT
DTSTART;TZID=Europe/London:20250201T193000
DTEND;TZID=Europe/London:20250201T213000
DTSTAMP:20260420T211351
CREATED:20250114T112831Z
LAST-MODIFIED:20250114T112832Z
UID:36226-1738438200-1738445400@www.theblackmorevale.co.uk
SUMMARY:JOY by Luke Wright
DESCRIPTION:Come and get some JOY into your life with honesty\, humour\, ire and wonder from a master wordsmith. Luke is a brilliantly charismatic performer\, his poems will shoot arrows through your heart. Suitable 14+
URL:https://www.theblackmorevale.co.uk/whats-on/joy-by-luke-wright/
LOCATION:Piddletrenthide Memorial Hall\, Main Street\, Piddletrenthide\, DT2 7QF
CATEGORIES:Theatre
ORGANIZER;CN="Artsreach":MAILTO:info@artsreach.co.uk
END:VEVENT
BEGIN:VEVENT
DTSTART;TZID=Europe/London:20250213T190000
DTEND;TZID=Europe/London:20250215T210000
DTSTAMP:20260420T211351
CREATED:20241211T182749Z
LAST-MODIFIED:20241211T182752Z
UID:35163-1739473200-1739653200@www.theblackmorevale.co.uk
SUMMARY:Coming to England
DESCRIPTION:The UK tour of the stage adaptation of Floella Benjamin’s much-loved book\, Coming to England\, will head to Lighthouse Pool in February 2025. \n\nThis vibrant and energetic new play with music from Nicoll Entertainment and MAST Mayflower Studios tells Floella’s personal story of moving to England in the 1960s at the age of 10. Coming to England is an inspiring tale about determination and perseverance from which hope and triumph emerge during the Windrush Generation and is being adapted for the stage by David Wood OBE\, one of the country’s leading writers and directors of plays and musicals for children.\n\nAt the age of just 10\, Floella and her siblings left Trinidad and sailed alone to join their parents in England. But Floella’s excitement for her new life is short-lived\, with her family subjected to racism and intolerance in 1960s London. Guided by her mother\, and working twice as hard as her classmates\, Coming to England tells the story of how a young Floella overcame adversity and grew to become Baroness Benjamin of Beckenham.\n\nAges: 7+\nNotes: This production includes strong language and historically accurate racially abusive language
URL:https://www.theblackmorevale.co.uk/whats-on/coming-to-england/
LOCATION:Lighthouse\, Poole’s Centre for the Arts\, 21 Kingland Road\, Poole\, BH15 1UG
CATEGORIES:Theatre
ATTACH;FMTTYPE=image/jpeg:https://www.theblackmorevale.co.uk/wp-content/uploads/2024/12/3B9A432.jpg
END:VEVENT
END:VCALENDAR