BEGIN:VCALENDAR
VERSION:2.0
PRODID:-//The BV - ECPv6.15.20//NONSGML v1.0//EN
CALSCALE:GREGORIAN
METHOD:PUBLISH
X-ORIGINAL-URL:https://www.theblackmorevale.co.uk
X-WR-CALDESC:Events for The BV
REFRESH-INTERVAL;VALUE=DURATION:PT1H
X-Robots-Tag:noindex
X-PUBLISHED-TTL:PT1H
BEGIN:VTIMEZONE
TZID:Europe/London
BEGIN:DAYLIGHT
TZOFFSETFROM:+0000
TZOFFSETTO:+0100
TZNAME:BST
DTSTART:20230326T010000
END:DAYLIGHT
BEGIN:STANDARD
TZOFFSETFROM:+0100
TZOFFSETTO:+0000
TZNAME:GMT
DTSTART:20231029T010000
END:STANDARD
BEGIN:DAYLIGHT
TZOFFSETFROM:+0000
TZOFFSETTO:+0100
TZNAME:BST
DTSTART:20240331T010000
END:DAYLIGHT
BEGIN:STANDARD
TZOFFSETFROM:+0100
TZOFFSETTO:+0000
TZNAME:GMT
DTSTART:20241027T010000
END:STANDARD
BEGIN:DAYLIGHT
TZOFFSETFROM:+0000
TZOFFSETTO:+0100
TZNAME:BST
DTSTART:20250330T010000
END:DAYLIGHT
BEGIN:STANDARD
TZOFFSETFROM:+0100
TZOFFSETTO:+0000
TZNAME:GMT
DTSTART:20251026T010000
END:STANDARD
END:VTIMEZONE
BEGIN:VEVENT
DTSTART;TZID=Europe/London:20241018T193000
DTEND;TZID=Europe/London:20241018T223000
DTSTAMP:20260421T031425
CREATED:20240924T133306Z
LAST-MODIFIED:20240924T133306Z
UID:31729-1729279800-1729290600@www.theblackmorevale.co.uk
SUMMARY:VINTAGE
DESCRIPTION:“Vintage” tells the story of three long serving charity shop volunteers and what happens when a teenager arrives at the shop to serve a Community Service Order. When threatened with closure\, they each discover what the shop really means to them and each other.  The drama has some challenging themes\, such as loss\, grief\, and the importance of friendship all seasoned with some comic moments. It promises to be a hugely entertaining evening that will appeal to audiences over the age of sixteen.
URL:https://www.theblackmorevale.co.uk/whats-on/vintage/
LOCATION:Child Okeford Village Hall\, Child Okeford
CATEGORIES:Theatre
ATTACH;FMTTYPE=image/jpeg:https://www.theblackmorevale.co.uk/wp-content/uploads/2024/09/VintageA5.jpg
END:VEVENT
END:VCALENDAR