BEGIN:VCALENDAR
VERSION:2.0
PRODID:-//The BV - ECPv6.15.20//NONSGML v1.0//EN
CALSCALE:GREGORIAN
METHOD:PUBLISH
X-WR-CALNAME:The BV
X-ORIGINAL-URL:https://www.theblackmorevale.co.uk
X-WR-CALDESC:Events for The BV
REFRESH-INTERVAL;VALUE=DURATION:PT1H
X-Robots-Tag:noindex
X-PUBLISHED-TTL:PT1H
BEGIN:VTIMEZONE
TZID:Europe/London
BEGIN:DAYLIGHT
TZOFFSETFROM:+0000
TZOFFSETTO:+0100
TZNAME:BST
DTSTART:20230326T010000
END:DAYLIGHT
BEGIN:STANDARD
TZOFFSETFROM:+0100
TZOFFSETTO:+0000
TZNAME:GMT
DTSTART:20231029T010000
END:STANDARD
BEGIN:DAYLIGHT
TZOFFSETFROM:+0000
TZOFFSETTO:+0100
TZNAME:BST
DTSTART:20240331T010000
END:DAYLIGHT
BEGIN:STANDARD
TZOFFSETFROM:+0100
TZOFFSETTO:+0000
TZNAME:GMT
DTSTART:20241027T010000
END:STANDARD
BEGIN:DAYLIGHT
TZOFFSETFROM:+0000
TZOFFSETTO:+0100
TZNAME:BST
DTSTART:20250330T010000
END:DAYLIGHT
BEGIN:STANDARD
TZOFFSETFROM:+0100
TZOFFSETTO:+0000
TZNAME:GMT
DTSTART:20251026T010000
END:STANDARD
END:VTIMEZONE
BEGIN:VEVENT
DTSTART;TZID=Europe/London:20240924T193000
DTEND;TZID=Europe/London:20240924T220000
DTSTAMP:20260421T043504
CREATED:20240924T133340Z
LAST-MODIFIED:20240924T133340Z
UID:31845-1727206200-1727215200@www.theblackmorevale.co.uk
SUMMARY:VINTAGE Theare in Child Okeford
DESCRIPTION:Child Okeford’s own theatre group\, COMPACT\, have gathered together local talent to present the premiere of the new play “Vintage”. \nThis full-length drama is a new and exciting undertaking for COMPACT\, and a very community focused enterprise. The play’s authors and the entire cast are village residents. The support crew from director through stage manager and lighting technician to backstage hands and poster design all hail from within five miles of the village centre. \n“Vintage” tells the story of three long serving charity shop volunteers and what happens when a teenager arrives at the shop to serve a Community Service Order. When threatened with closure\, they each discover what the shop really means to them and each other. Although primarily a drama\, “Vintage” is not without its comedic moments\, and promises to be a hugely entertaining evening. \nThe drama deals with some difficult subjects\, such as loss\, grief\, and the importance of friendship. It will appeal to audiences over the age of sixteen. \nPerformances are at 7:30 pm on the 18th and 19th October 2024. \nTickets are £10 each and are available from The Village Shop in Child Okeford or from Richard Hewitt at rik.hewitt(a)outlook.com or tel 01258 861763
URL:https://www.theblackmorevale.co.uk/whats-on/vintage-theare-in-child-okeford/
LOCATION:Child Okeford Village Hall\, Child Okeford
CATEGORIES:Theatre
ATTACH;FMTTYPE=image/jpeg:https://www.theblackmorevale.co.uk/wp-content/uploads/2024/09/A4Price.jpg
ORGANIZER;CN="COMPACT":MAILTO:rik.hewitt@outlook.com
END:VEVENT
END:VCALENDAR