BEGIN:VCALENDAR
VERSION:2.0
PRODID:-//The BV - ECPv6.15.20//NONSGML v1.0//EN
CALSCALE:GREGORIAN
METHOD:PUBLISH
X-ORIGINAL-URL:https://www.theblackmorevale.co.uk
X-WR-CALDESC:Events for The BV
REFRESH-INTERVAL;VALUE=DURATION:PT1H
X-Robots-Tag:noindex
X-PUBLISHED-TTL:PT1H
BEGIN:VTIMEZONE
TZID:Europe/London
BEGIN:DAYLIGHT
TZOFFSETFROM:+0000
TZOFFSETTO:+0100
TZNAME:BST
DTSTART:20230326T010000
END:DAYLIGHT
BEGIN:STANDARD
TZOFFSETFROM:+0100
TZOFFSETTO:+0000
TZNAME:GMT
DTSTART:20231029T010000
END:STANDARD
BEGIN:DAYLIGHT
TZOFFSETFROM:+0000
TZOFFSETTO:+0100
TZNAME:BST
DTSTART:20240331T010000
END:DAYLIGHT
BEGIN:STANDARD
TZOFFSETFROM:+0100
TZOFFSETTO:+0000
TZNAME:GMT
DTSTART:20241027T010000
END:STANDARD
BEGIN:DAYLIGHT
TZOFFSETFROM:+0000
TZOFFSETTO:+0100
TZNAME:BST
DTSTART:20250330T010000
END:DAYLIGHT
BEGIN:STANDARD
TZOFFSETFROM:+0100
TZOFFSETTO:+0000
TZNAME:GMT
DTSTART:20251026T010000
END:STANDARD
END:VTIMEZONE
BEGIN:VEVENT
DTSTART;TZID=Europe/London:20240403T193000
DTEND;TZID=Europe/London:20240406T193000
DTSTAMP:20260421T111718
CREATED:20231206T123913Z
LAST-MODIFIED:20231206T123913Z
UID:23587-1712172600-1712431800@www.theblackmorevale.co.uk
SUMMARY:Milborne Port Opera presents "The Drowsy Chaperone"
DESCRIPTION:MPO leaps into another hit musical – The drowsy Chaperone\, by Lisa Lambert and Greg Morrison\, directed by Karen Pankhurst.\nLast year MPO proved they could do big musical numbers extremely well. MPO’s next production\, to be performed after Easter in 2024\, is a hit Broadway musical THE DROWSY CHAPERONE\, which carried off 5 Tonys in New York and was nominated for several awards in London and the USA\nIt’s a very funny send up of 1920s Hollywood musicals\, with an implausible plot\, even more implausible characters\, and some great music and dancing from the Jazz age.\nThe entire show is set in the apartment of a slightly sad musical theatre fan who decides to play his favourite LP (the show!) and behold\, it comes to life before his eyes in his own living room.\nThe story concerns a wedding. The Drowsy Chaperone of the title (“Drowsy” is an American euphemism for drunk) has the job of keeping the bride\, a Broadway star who is giving up fame and the footlights to get married\, away from her bridegroom\, an oil heir\, on their wedding day. Needless to say\, she fails.\nThe star’s producer\, one Mr Feldzieg (no relation to the famous Zeigfeld!) is hell bent on preventing the wedding\, as he will be bankrupted following the loss of his biggest star. Several jovial gangsters\, disguised as pastry chefs\, are also trying to frustrate the match. They work for an anonymous third party who has invested a lot of money in the show. They intend to punish Feldzeig if he fails.\nThe plot is further enlivened by the antics of the groom’s Best man\, George (played by a girl)\, a latin lothario\, Adolpho and a wanabee Broadway star\, Kitty.\nMost of the MPO regulars are in the show\, along with some talented newcomers. They are being worked hard by director Karen Pankhurst. This is her second show. She directed last years’ highly enjoyable “Everything Goes” and has featured in several successful MPO productions.
URL:https://www.theblackmorevale.co.uk/whats-on/milborne-port-opera-presents-the-drowsy-chaperone/
LOCATION:Milborne Port Village Hall\, Springfield Road\, Milborne Port\, DT9 5RE
CATEGORIES:Theatre
ORGANIZER;CN="Milborne Port Opera":MAILTO:gaunt@idnet.com
END:VEVENT
END:VCALENDAR