BEGIN:VCALENDAR
VERSION:2.0
PRODID:-//The BV - ECPv6.15.20//NONSGML v1.0//EN
CALSCALE:GREGORIAN
METHOD:PUBLISH
X-WR-CALNAME:The BV
X-ORIGINAL-URL:https://www.theblackmorevale.co.uk
X-WR-CALDESC:Events for The BV
REFRESH-INTERVAL;VALUE=DURATION:PT1H
X-Robots-Tag:noindex
X-PUBLISHED-TTL:PT1H
BEGIN:VTIMEZONE
TZID:Europe/London
BEGIN:DAYLIGHT
TZOFFSETFROM:+0000
TZOFFSETTO:+0100
TZNAME:BST
DTSTART:20230326T010000
END:DAYLIGHT
BEGIN:STANDARD
TZOFFSETFROM:+0100
TZOFFSETTO:+0000
TZNAME:GMT
DTSTART:20231029T010000
END:STANDARD
BEGIN:DAYLIGHT
TZOFFSETFROM:+0000
TZOFFSETTO:+0100
TZNAME:BST
DTSTART:20240331T010000
END:DAYLIGHT
BEGIN:STANDARD
TZOFFSETFROM:+0100
TZOFFSETTO:+0000
TZNAME:GMT
DTSTART:20241027T010000
END:STANDARD
BEGIN:DAYLIGHT
TZOFFSETFROM:+0000
TZOFFSETTO:+0100
TZNAME:BST
DTSTART:20250330T010000
END:DAYLIGHT
BEGIN:STANDARD
TZOFFSETFROM:+0100
TZOFFSETTO:+0000
TZNAME:GMT
DTSTART:20251026T010000
END:STANDARD
END:VTIMEZONE
BEGIN:VEVENT
DTSTART;TZID=Europe/London:20240307T193000
DTEND;TZID=Europe/London:20240307T213000
DTSTAMP:20260421T123739
CREATED:20240124T214846Z
LAST-MODIFIED:20240124T214846Z
UID:24573-1709839800-1709847000@www.theblackmorevale.co.uk
SUMMARY:Miracle Theatre: Hell's Bells
DESCRIPTION:Miracle Theatre Presents: Hell’s Bells \nPrepare for a theatrical experience like no other! For the first time in a decade\, Cornwall’s beloved Miracle Theatre is embarking on an epic tour\, bringing its brand-new indoor production to you! Visiting theatres\, village halls and community centres reaching every corner of Cornwall and extending into the South West. \nJoin us for a Murderous Melodrama \nAs the body of a lighthouse keeper mysteriously washes ashore\, covered in strange markings\, Ferelith’s seaside holiday takes an unexpected turn. Taking a break from the tedium of her holiday and unable to resist meddling in the police investigation\, she soon finds herself amidst a peculiar web of events. But as things grow increasingly unusual\, her legendary powers of intuition begin to fail her. \nCan her bumbling brother\, Grubb\, who always seems to be one step behind and heading in the wrong direction\, rescue her from the brink of disaster? \nRecommended age 7+ | Approx running time: 2 hours including interval
URL:https://www.theblackmorevale.co.uk/whats-on/miracle-theatre-hells-bells/
LOCATION:Marnhull Village Hall\, Burton St\, Marnhull\, DT10 1PP
CATEGORIES:Theatre
ATTACH;FMTTYPE=image/jpeg:https://www.theblackmorevale.co.uk/wp-content/uploads/2024/01/Generic-A4-Poster.jpg
ORGANIZER;CN="Artsreach":MAILTO:info@artsreach.co.uk
END:VEVENT
END:VCALENDAR