BEGIN:VCALENDAR
VERSION:2.0
PRODID:-//The BV - ECPv6.15.20//NONSGML v1.0//EN
CALSCALE:GREGORIAN
METHOD:PUBLISH
X-WR-CALNAME:The BV
X-ORIGINAL-URL:https://www.theblackmorevale.co.uk
X-WR-CALDESC:Events for The BV
REFRESH-INTERVAL;VALUE=DURATION:PT1H
X-Robots-Tag:noindex
X-PUBLISHED-TTL:PT1H
BEGIN:VTIMEZONE
TZID:Europe/London
BEGIN:DAYLIGHT
TZOFFSETFROM:+0000
TZOFFSETTO:+0100
TZNAME:BST
DTSTART:20220327T010000
END:DAYLIGHT
BEGIN:STANDARD
TZOFFSETFROM:+0100
TZOFFSETTO:+0000
TZNAME:GMT
DTSTART:20221030T010000
END:STANDARD
BEGIN:DAYLIGHT
TZOFFSETFROM:+0000
TZOFFSETTO:+0100
TZNAME:BST
DTSTART:20230326T010000
END:DAYLIGHT
BEGIN:STANDARD
TZOFFSETFROM:+0100
TZOFFSETTO:+0000
TZNAME:GMT
DTSTART:20231029T010000
END:STANDARD
BEGIN:DAYLIGHT
TZOFFSETFROM:+0000
TZOFFSETTO:+0100
TZNAME:BST
DTSTART:20240331T010000
END:DAYLIGHT
BEGIN:STANDARD
TZOFFSETFROM:+0100
TZOFFSETTO:+0000
TZNAME:GMT
DTSTART:20241027T010000
END:STANDARD
END:VTIMEZONE
BEGIN:VEVENT
DTSTART;TZID=Europe/London:20230830T190000
DTEND;TZID=Europe/London:20230830T210000
DTSTAMP:20260421T223613
CREATED:20230823T160036Z
LAST-MODIFIED:20230823T160036Z
UID:20205-1693422000-1693429200@www.theblackmorevale.co.uk
SUMMARY:Pantomime Auditions
DESCRIPTION:The Tarrant Valley Players are preparing for their next fabulous Panto\, which will grace the stage at the Anne Biddlecombe Hall\, Tarrant Keyneston on Thursday 25 – Saturday 27 January 2024. \nWritten by Alexis Austin\, “A Space Oddity” is set in the depths of space and pits the incredible Captain Flash and his crew against the evil Empress Mange in an age old tale of good versus evil. \nKeen to know more?\nKeen to see who comes out on top?\nKeen to have fun by the bucketful?\nThen join us for auditions at 7pm at the Anne Biddlecombe Hall\, Tarrant Keyneston on either Wednesday 30 / Thursday 31 August. \nWe hope you enjoy the rest of your summer and very much look forward to seeing you there.
URL:https://www.theblackmorevale.co.uk/whats-on/pantomime-auditions/
LOCATION:Anne Biddlecombe Hall\, Valley Road\, Tarrant Keyneston\, Blandford Forum\, Dt11 9JE
CATEGORIES:Theatre
ATTACH;FMTTYPE=image/jpeg:https://www.theblackmorevale.co.uk/wp-content/uploads/2023/08/FB_IMG_1692795799894.jpg
ORGANIZER;CN="Tarrant Valley Players":MAILTO:TheTarrantValleyPlayers@outlook.com
END:VEVENT
END:VCALENDAR