BEGIN:VCALENDAR
VERSION:2.0
PRODID:-//The BV - ECPv6.15.20//NONSGML v1.0//EN
CALSCALE:GREGORIAN
METHOD:PUBLISH
X-ORIGINAL-URL:https://www.theblackmorevale.co.uk
X-WR-CALDESC:Events for The BV
REFRESH-INTERVAL;VALUE=DURATION:PT1H
X-Robots-Tag:noindex
X-PUBLISHED-TTL:PT1H
BEGIN:VTIMEZONE
TZID:Europe/London
BEGIN:DAYLIGHT
TZOFFSETFROM:+0000
TZOFFSETTO:+0100
TZNAME:BST
DTSTART:20220327T010000
END:DAYLIGHT
BEGIN:STANDARD
TZOFFSETFROM:+0100
TZOFFSETTO:+0000
TZNAME:GMT
DTSTART:20221030T010000
END:STANDARD
BEGIN:DAYLIGHT
TZOFFSETFROM:+0000
TZOFFSETTO:+0100
TZNAME:BST
DTSTART:20230326T010000
END:DAYLIGHT
BEGIN:STANDARD
TZOFFSETFROM:+0100
TZOFFSETTO:+0000
TZNAME:GMT
DTSTART:20231029T010000
END:STANDARD
BEGIN:DAYLIGHT
TZOFFSETFROM:+0000
TZOFFSETTO:+0100
TZNAME:BST
DTSTART:20240331T010000
END:DAYLIGHT
BEGIN:STANDARD
TZOFFSETFROM:+0100
TZOFFSETTO:+0000
TZNAME:GMT
DTSTART:20241027T010000
END:STANDARD
END:VTIMEZONE
BEGIN:VEVENT
DTSTART;TZID=Europe/London:20230311T193000
DTEND;TZID=Europe/London:20230311T210000
DTSTAMP:20260422T065816
CREATED:20230223T115819Z
LAST-MODIFIED:20230223T115819Z
UID:14925-1678563000-1678568400@www.theblackmorevale.co.uk
SUMMARY:Ways Of Seeing
DESCRIPTION:What do you see when you enter a museum? But what don’t you see and whose voices might you hear? \n‘Ways of Seeing’ will reflect stories behind two of the Museum’s objects suggested by Museum staff: the fragmented Roman fresco from the excavated Tarrant Hinton villa\, depicting the myth of Narcissus and Echo\, and the Victorian camera\, used by Job Pottle (19th century) and Jimmy James (20th century) in their Eastbrook Photographic studio to capture images in Wimborne Town Centre. \n‘Ways of Seeing’ is a joint production by Wimborne Community Theatre (WCT) and Millstream Theatre who perform original\, site-specific theatre\, bringing to life East Dorset stories often hidden or overlooked\, in a way\, that brings together past\, present and future – rather like Museum of East Dorset does!
URL:https://www.theblackmorevale.co.uk/whats-on/ways-of-seeing/
LOCATION:Museum of East Dorset\, 23-27 High Street\, WIMBORNE MINSTER\, BH21 1HR\, United Kingdom
CATEGORIES:Theatre
ATTACH;FMTTYPE=image/jpeg:https://www.theblackmorevale.co.uk/wp-content/uploads/2023/02/InCollage_20230131_152454873.jpg
END:VEVENT
END:VCALENDAR