BEGIN:VCALENDAR
VERSION:2.0
PRODID:-//The BV - ECPv6.15.20//NONSGML v1.0//EN
CALSCALE:GREGORIAN
METHOD:PUBLISH
X-WR-CALNAME:The BV
X-ORIGINAL-URL:https://www.theblackmorevale.co.uk
X-WR-CALDESC:Events for The BV
REFRESH-INTERVAL;VALUE=DURATION:PT1H
X-Robots-Tag:noindex
X-PUBLISHED-TTL:PT1H
BEGIN:VTIMEZONE
TZID:Europe/London
BEGIN:DAYLIGHT
TZOFFSETFROM:+0000
TZOFFSETTO:+0100
TZNAME:BST
DTSTART:20220327T010000
END:DAYLIGHT
BEGIN:STANDARD
TZOFFSETFROM:+0100
TZOFFSETTO:+0000
TZNAME:GMT
DTSTART:20221030T010000
END:STANDARD
BEGIN:DAYLIGHT
TZOFFSETFROM:+0000
TZOFFSETTO:+0100
TZNAME:BST
DTSTART:20230326T010000
END:DAYLIGHT
BEGIN:STANDARD
TZOFFSETFROM:+0100
TZOFFSETTO:+0000
TZNAME:GMT
DTSTART:20231029T010000
END:STANDARD
BEGIN:DAYLIGHT
TZOFFSETFROM:+0000
TZOFFSETTO:+0100
TZNAME:BST
DTSTART:20240331T010000
END:DAYLIGHT
BEGIN:STANDARD
TZOFFSETFROM:+0100
TZOFFSETTO:+0000
TZNAME:GMT
DTSTART:20241027T010000
END:STANDARD
END:VTIMEZONE
BEGIN:VEVENT
DTSTART;TZID=Europe/London:20230203T190000
DTEND;TZID=Europe/London:20230203T210000
DTSTAMP:20260422T081340
CREATED:20230116T223452Z
LAST-MODIFIED:20230116T223453Z
UID:13562-1675450800-1675458000@www.theblackmorevale.co.uk
SUMMARY:Marnhull Players Panto - The Magical Tale of Snow White
DESCRIPTION:Marnhull Players Pantomime group Performing The Magical Tale of Snow White. Tickets on sale now from Robin Hill Store and Marnhull Spar. Just £6 adults and £4 Children under 16.\nThe Performance dates are:\nFriday 3rd February 2023 at 7pm\nSaturday 4th February at 2pm and 7pm\nSunday 5th February at 2pm.
URL:https://www.theblackmorevale.co.uk/whats-on/marnhull-players-panto-the-magical-tale-of-snow-white/
LOCATION:Marnhull Village Hall\, Burton St\, Marnhull\, DT10 1PP
CATEGORIES:Family,Theatre
ATTACH;FMTTYPE=image/jpeg:https://www.theblackmorevale.co.uk/wp-content/uploads/2023/01/Snow-White-Panto-Poster-1-scaled.jpg
ORGANIZER;CN="Marnhull Players":MAILTO:wifeyryu@googlemail.com
END:VEVENT
END:VCALENDAR