BEGIN:VCALENDAR
VERSION:2.0
PRODID:-//The BV - ECPv6.15.20//NONSGML v1.0//EN
CALSCALE:GREGORIAN
METHOD:PUBLISH
X-WR-CALNAME:The BV
X-ORIGINAL-URL:https://www.theblackmorevale.co.uk
X-WR-CALDESC:Events for The BV
REFRESH-INTERVAL;VALUE=DURATION:PT1H
X-Robots-Tag:noindex
X-PUBLISHED-TTL:PT1H
BEGIN:VTIMEZONE
TZID:Europe/London
BEGIN:DAYLIGHT
TZOFFSETFROM:+0000
TZOFFSETTO:+0100
TZNAME:BST
DTSTART:20210328T010000
END:DAYLIGHT
BEGIN:STANDARD
TZOFFSETFROM:+0100
TZOFFSETTO:+0000
TZNAME:GMT
DTSTART:20211031T010000
END:STANDARD
BEGIN:DAYLIGHT
TZOFFSETFROM:+0000
TZOFFSETTO:+0100
TZNAME:BST
DTSTART:20220327T010000
END:DAYLIGHT
BEGIN:STANDARD
TZOFFSETFROM:+0100
TZOFFSETTO:+0000
TZNAME:GMT
DTSTART:20221030T010000
END:STANDARD
BEGIN:DAYLIGHT
TZOFFSETFROM:+0000
TZOFFSETTO:+0100
TZNAME:BST
DTSTART:20230326T010000
END:DAYLIGHT
BEGIN:STANDARD
TZOFFSETFROM:+0100
TZOFFSETTO:+0000
TZNAME:GMT
DTSTART:20231029T010000
END:STANDARD
END:VTIMEZONE
BEGIN:VEVENT
DTSTART;TZID=Europe/London:20220807T180000
DTEND;TZID=Europe/London:20220807T190000
DTSTAMP:20260422T181741
CREATED:20220520T124746Z
LAST-MODIFIED:20220520T124746Z
UID:8482-1659895200-1659898800@www.theblackmorevale.co.uk
SUMMARY:A Supermarket Love Story by John Osborne
DESCRIPTION:A story about supermarkets and the people who use them… \nLove will bloom\, lives will continue as they always have\, and you’ll meet two paramedics by the crisps. As staff untuck their shirts and sit on kick stools stacking shelves\, we join them all for a storytelling feast and find that every aisle really does tell a different story. \nJohn Osborne is a Radio 4 regular and creator of the cult show\, ‘John Peel’s Shed’. Weaving words to create wonderful worlds out of the most ordinary of situations\, join John in Dorset pubs this summer for a night of poignant\, enchanting and heart-warming poetic tales. Recommended 14+ \nThis show is part of the national INN Crowd project\, and tours Dorset with Artsreach.
URL:https://www.theblackmorevale.co.uk/whats-on/a-supermarket-love-story-by-john-osborne-2/
LOCATION:The Royal Oak\, Bridport Road\, Drimpton\, DT8 3RD
CATEGORIES:Theatre
ATTACH;FMTTYPE=image/jpeg:https://www.theblackmorevale.co.uk/wp-content/uploads/2022/05/John-Osborne_press-1.jpg
ORGANIZER;CN="Artsreach":MAILTO:info@artsreach.co.uk
END:VEVENT
BEGIN:VEVENT
DTSTART;TZID=Europe/London:20220813T180000
DTEND;TZID=Europe/London:20220813T190000
DTSTAMP:20260422T181741
CREATED:20220520T124503Z
LAST-MODIFIED:20220520T124503Z
UID:8461-1660413600-1660417200@www.theblackmorevale.co.uk
SUMMARY:Lucky Pigeons by Brainfools
DESCRIPTION:Open Air Circus for all the Family to enjoy this summer with Artsreach! \nA young businessman struggles with the demands of city life and\, after losing his job\, takes his frustrations out on a group of pigeons. Karma soon returns however\, and the man finds himself turned into a pigeon\, where he quickly learns about the playful world of this misunderstood animal. \nWith a mix of absurd and extravagant theatre\, impressive acrobatics\, empathetic and funny stories and a pinch of satirical spice and puppetry\, a cast of seven Lucky Pigeons will perform daring aerials and acrobatic feats in this soulful story. \nBrain Fools is led by two graduates of National Centre for Circus Arts. \nSuitable for ages 6+\nRunning Time: 60mins no interval \n* Please note that this is an outdoor performance – dress for all weather and bring your own chair/blanket to sit on. Assistance dogs only.
URL:https://www.theblackmorevale.co.uk/whats-on/lucky-pigeons-by-brainfools/
LOCATION:Litton Cheney Village Hall\, Litton Cheney\, DT2 9AU
CATEGORIES:Family,Family event,Theatre
ATTACH;FMTTYPE=image/jpeg:https://www.theblackmorevale.co.uk/wp-content/uploads/2022/05/Brainfools_LuckyPigeon_web.jpg
ORGANIZER;CN="Artsreach":MAILTO:info@artsreach.co.uk
END:VEVENT
BEGIN:VEVENT
DTSTART;TZID=Europe/London:20220814T140000
DTEND;TZID=Europe/London:20220814T150000
DTSTAMP:20260422T181741
CREATED:20220520T124707Z
LAST-MODIFIED:20220520T124707Z
UID:8464-1660485600-1660489200@www.theblackmorevale.co.uk
SUMMARY:Lucky Pigeons by Brainfools
DESCRIPTION:Open Air Circus for all the Family to enjoy this summer with Artsreach! \nA young businessman struggles with the demands of city life and\, after losing his job\, takes his frustrations out on a group of pigeons. Karma soon returns however\, and the man finds himself turned into a pigeon\, where he quickly learns about the playful world of this misunderstood animal. \nWith a mix of absurd and extravagant theatre\, impressive acrobatics\, empathetic and funny stories and a pinch of satirical spice and puppetry\, a cast of seven Lucky Pigeons will perform daring aerials and acrobatic feats in this soulful story. \nBrain Fools is led by two graduates of National Centre for Circus Arts. \nSuitable for ages 6+\nRunning Time: 60mins no interval \n* Please note that this is an outdoor performance – dress for all weather and bring your own chair/blanket to sit on. Assistance dogs only.
URL:https://www.theblackmorevale.co.uk/whats-on/lucky-pigeons-by-brainfools-2/
LOCATION:Stalbridge Village Hall\, Lower Road\, Stalbridge\, DT10 2NF
CATEGORIES:Family,Family event,Theatre
ATTACH;FMTTYPE=image/jpeg:https://www.theblackmorevale.co.uk/wp-content/uploads/2022/05/Brainfools_LuckyPigeon_web-1.jpg
ORGANIZER;CN="Artsreach":MAILTO:info@artsreach.co.uk
END:VEVENT
BEGIN:VEVENT
DTSTART;TZID=Europe/London:20220821T190000
DTEND;TZID=Europe/London:20220821T210000
DTSTAMP:20260422T181741
CREATED:20220520T124720Z
LAST-MODIFIED:20250829T160908Z
UID:8467-1661108400-1661115600@www.theblackmorevale.co.uk
SUMMARY:Twelfth Night by Three Inch Fools
DESCRIPTION:Mischief and hilarity in this rip-roaring Shakespearean comedy\, fit for all the family!\n\nThe Three Inch Fools are dusting down their instruments and hitting the road this summer with Shakespeare’s riotous comedy\, ‘Twelfth Night’. Prepare for an open-air evening of mischief and hilarity as five actors present an inventive take on this rip-roaring comedy\, fit for all the family. Touring across the UK\, this Shakespearean classic will be getting the full Three Inch Fools treatment: expect fast-paced drama\, endless costume changes\, and much music-making along the way as the company perform just once in Dorset this summer with Artsreach!\n\nSuitable for all ages\nRunning Time: 120mins plus interval\nPicnics welcomed from 6pm\, licensed bar available.\n\n* Please note that this is an outdoor performance – dress for all weather and bring your own seating and a torch. Assistance dogs only.
URL:https://www.theblackmorevale.co.uk/whats-on/twelfth-night-by-three-inch-fools/
LOCATION:Higher Orchard\, Sandford Orcas\, DT9 4RP
CATEGORIES:Family,Family event,Theatre
ATTACH;FMTTYPE=image/jpeg:https://www.theblackmorevale.co.uk/wp-content/uploads/2022/05/The-Fools-music-making-Credit-Wilson-Smith.jpg
ORGANIZER;CN="Artsreach":MAILTO:info@artsreach.co.uk
END:VEVENT
END:VCALENDAR