BEGIN:VCALENDAR
VERSION:2.0
PRODID:-//The BV - ECPv6.15.20//NONSGML v1.0//EN
CALSCALE:GREGORIAN
METHOD:PUBLISH
X-ORIGINAL-URL:https://www.theblackmorevale.co.uk
X-WR-CALDESC:Events for The BV
REFRESH-INTERVAL;VALUE=DURATION:PT1H
X-Robots-Tag:noindex
X-PUBLISHED-TTL:PT1H
BEGIN:VTIMEZONE
TZID:Europe/London
BEGIN:DAYLIGHT
TZOFFSETFROM:+0000
TZOFFSETTO:+0100
TZNAME:BST
DTSTART:20210328T010000
END:DAYLIGHT
BEGIN:STANDARD
TZOFFSETFROM:+0100
TZOFFSETTO:+0000
TZNAME:GMT
DTSTART:20211031T010000
END:STANDARD
BEGIN:DAYLIGHT
TZOFFSETFROM:+0000
TZOFFSETTO:+0100
TZNAME:BST
DTSTART:20220327T010000
END:DAYLIGHT
BEGIN:STANDARD
TZOFFSETFROM:+0100
TZOFFSETTO:+0000
TZNAME:GMT
DTSTART:20221030T010000
END:STANDARD
BEGIN:DAYLIGHT
TZOFFSETFROM:+0000
TZOFFSETTO:+0100
TZNAME:BST
DTSTART:20230326T010000
END:DAYLIGHT
BEGIN:STANDARD
TZOFFSETFROM:+0100
TZOFFSETTO:+0000
TZNAME:GMT
DTSTART:20231029T010000
END:STANDARD
END:VTIMEZONE
BEGIN:VEVENT
DTSTART;TZID=Europe/London:20220606T140000
DTEND;TZID=Europe/London:20220606T160000
DTSTAMP:20260422T213254
CREATED:20220524T131451Z
LAST-MODIFIED:20220524T131451Z
UID:8539-1654524000-1654531200@www.theblackmorevale.co.uk
SUMMARY:Cloudscape Workshop
DESCRIPTION:Do you help to look after someone? Join Carer Support Dorset this Carers Week for free events to celebrate Dorset’s unpaid carers. \nCome and lie on a large cushion and listen to a story by the amazing Gobbligook Theatre. Take a bit of time out and enjoy being taken on an adventure.
URL:https://www.theblackmorevale.co.uk/whats-on/cloudscape-workshop/
LOCATION:Winterborne Whitechurch Village Hall\, Dolway Lane\, Winterborne Whitechurch\, Blandford Forum\, DT11 0AW
CATEGORIES:charity event,Theatre,Workshop
ATTACH;FMTTYPE=image/png:https://www.theblackmorevale.co.uk/wp-content/uploads/2022/05/5.png
END:VEVENT
BEGIN:VEVENT
DTSTART;TZID=Europe/London:20220610T190000
DTEND;TZID=Europe/London:20220610T210000
DTSTAMP:20260422T213254
CREATED:20220520T120020Z
LAST-MODIFIED:20220520T120020Z
UID:8425-1654887600-1654894800@www.theblackmorevale.co.uk
SUMMARY:A Midsummer Night's Dream
DESCRIPTION:As in the Bard’s day\, Festival Players tour as an all-male troupe of skilled professional actors. Supported by their patron\, Dame Judi Dench\, the company has a growing international reputation for presenting the very best in open-air Shakespeare and are committed to providing accessible and enjoyable performances for all. \nThis summer\, Festival Players invites you to share in the colour\, poetry\, and magical mayhem of Shakespeare’s popular fantasy comedy\, ‘A Midsummer Night’s Dream’ as they return to Dorset to perform with Artsreach\, the counties touring arts charity. Expect an exhilarating evening of open-air entertainment! \n* Please note that this is an outdoor performance – dress for all weather and bring your own chairs\, rugs and cushions. Assistance dogs only. A hog roast and bar is available from 6pm
URL:https://www.theblackmorevale.co.uk/whats-on/a-midsummer-nights-dream/
LOCATION:Halstock Village Hall\, Halstock\, BA22 9SG
CATEGORIES:Family event,Theatre
ATTACH;FMTTYPE=image/jpeg:https://www.theblackmorevale.co.uk/wp-content/uploads/2022/05/A4-Poster-Midsummer-Nights-Dream.jpeg
ORGANIZER;CN="Artsreach":MAILTO:info@artsreach.co.uk
END:VEVENT
BEGIN:VEVENT
DTSTART;TZID=Europe/London:20220611T113000
DTEND;TZID=Europe/London:20220611T123000
DTSTAMP:20260422T213254
CREATED:20220520T121839Z
LAST-MODIFIED:20220520T121839Z
UID:8432-1654947000-1654950600@www.theblackmorevale.co.uk
SUMMARY:Whispering Willows by Wassail Theatre
DESCRIPTION:It’s 1929. Morris has been planting\, harvesting\, basket making and drinking tea on his Somerset willow farm since before he can remember. Every year the same pattern repeats itself. Plant\, harvest\, weave. Plant\, harvest\, weave… \nOne day he pulls up a particularly large piece of willow with a girl clinging to the end of it! She eats too much\, breaks everything in his workshop and is a complete nuisance. But as time moves on\, they teach each other the ways of the willow. Planting\, harvesting\, weaving… the cycle continues\, and all is well in their world until the chaos of WW2 and the invention of plastic threaten to destroy the farm and their livelihoods. Can they find a new use for Willow before it’s too late? \nFounded in 2015\, Wassail is a Somerset based theatre company. Pack a picnic and join them in Springhead Gardens for a beautiful\, non-verbal story that’s suitable for all the family featuring puppets crafted from Somerset willow and an evocative original soundtrack. The performance takes place through Artsreach\, the counties touring arts charity. \nSuitable for ages 6+\nRunning Time: 40mins \n* Please note that this is an outdoor performance – dress for all weather and bring your own seating. Assistance dogs only. Picnics welcomed
URL:https://www.theblackmorevale.co.uk/whats-on/whispering-willows-by-wassail-theatre/
LOCATION:Springhead Gardens\, Mill Street\, Fontmell Magna\, SP7 0NU
CATEGORIES:Theatre
ATTACH;FMTTYPE=image/jpeg:https://www.theblackmorevale.co.uk/wp-content/uploads/2022/05/Whispering-Willows-1-credit-Paul-Blakemore_press.jpg
ORGANIZER;CN="Artsreach":MAILTO:info@artsreach.co.uk
END:VEVENT
BEGIN:VEVENT
DTSTART;TZID=Europe/London:20220611T113000
DTEND;TZID=Europe/London:20220611T123000
DTSTAMP:20260422T213254
CREATED:20220520T121839Z
LAST-MODIFIED:20220520T121839Z
UID:8432-1654947000-1654950600@www.theblackmorevale.co.uk
SUMMARY:Whispering Willows by Wassail Theatre
DESCRIPTION:It’s 1929. Morris has been planting\, harvesting\, basket making and drinking tea on his Somerset willow farm since before he can remember. Every year the same pattern repeats itself. Plant\, harvest\, weave. Plant\, harvest\, weave… \nOne day he pulls up a particularly large piece of willow with a girl clinging to the end of it! She eats too much\, breaks everything in his workshop and is a complete nuisance. But as time moves on\, they teach each other the ways of the willow. Planting\, harvesting\, weaving… the cycle continues\, and all is well in their world until the chaos of WW2 and the invention of plastic threaten to destroy the farm and their livelihoods. Can they find a new use for Willow before it’s too late? \nFounded in 2015\, Wassail is a Somerset based theatre company. Pack a picnic and join them in Springhead Gardens for a beautiful\, non-verbal story that’s suitable for all the family featuring puppets crafted from Somerset willow and an evocative original soundtrack. The performance takes place through Artsreach\, the counties touring arts charity. \nSuitable for ages 6+\nRunning Time: 40mins \n* Please note that this is an outdoor performance – dress for all weather and bring your own seating. Assistance dogs only. Picnics welcomed
URL:https://www.theblackmorevale.co.uk/whats-on/whispering-willows-by-wassail-theatre/
LOCATION:Springhead Gardens\, Mill Street\, Fontmell Magna\, SP7 0NU
CATEGORIES:Theatre
ATTACH;FMTTYPE=image/jpeg:https://www.theblackmorevale.co.uk/wp-content/uploads/2022/05/Whispering-Willows-1-credit-Paul-Blakemore_press.jpg
ORGANIZER;CN="Artsreach":MAILTO:info@artsreach.co.uk
END:VEVENT
BEGIN:VEVENT
DTSTART;TZID=Europe/London:20220612T180000
DTEND;TZID=Europe/London:20220612T193000
DTSTAMP:20260422T213254
CREATED:20220520T124734Z
LAST-MODIFIED:20220520T124734Z
UID:8470-1655056800-1655062200@www.theblackmorevale.co.uk
SUMMARY:A Supermarket Love Story by John Osborne
DESCRIPTION:A story about supermarkets and the people who use them… \nLove will bloom\, lives will continue as they always have\, and you’ll meet two paramedics by the crisps. As staff untuck their shirts and sit on kick stools stacking shelves\, we join them all for a storytelling feast and find that every aisle really does tell a different story. \nJohn Osborne is a Radio 4 regular and creator of the cult show\, ‘John Peel’s Shed’. Weaving words to create wonderful worlds out of the most ordinary of situations\, join John in Dorset pubs this summer for a night of poignant\, enchanting and heart-warming poetic tales. Recommended 14+ \nThis show is part of the national INN Crowd project\, and tours Dorset with Artsreach.
URL:https://www.theblackmorevale.co.uk/whats-on/a-supermarket-love-story-by-john-osborne/
LOCATION:The Gaggle of Geese\, Buckland Newton\, DT2 7BS
CATEGORIES:Theatre
ATTACH;FMTTYPE=image/jpeg:https://www.theblackmorevale.co.uk/wp-content/uploads/2022/05/John-Osborne_press.jpg
ORGANIZER;CN="Artsreach":MAILTO:info@artsreach.co.uk
END:VEVENT
BEGIN:VEVENT
DTSTART;TZID=Europe/London:20220617T193000
DTEND;TZID=Europe/London:20220617T210000
DTSTAMP:20260422T213254
CREATED:20220520T121856Z
LAST-MODIFIED:20220520T121856Z
UID:8436-1655494200-1655499600@www.theblackmorevale.co.uk
SUMMARY:Great Expectations by Bristol Old Vic Theatre School
DESCRIPTION:From humble beginnings in the marshlands of Kent\, young Pip is determined to make strides in the big city and get a leg-up in society. Pip is quickly caught up in a world of compelling characters – the elderly jilted bride Miss Haversham\, the criminal Magwitch and alluring Estella. Can our ambitious protagonist realise his dreams or will life inevitably present itself with obstacles and trickery? \nAbounding in trademark Dickensian humour\, this wry coming-of-age story has been a landmark of English Literature since its publication in 1861 and continues to charm readers to this day. \nTeeming with eccentricity\, fearsome convicts\, stopped clocks\, decay and decadence\, Jo Clifford’s adaptation breathes new life into this beloved tale\, and vividly is brought to the stage by director Jenny Stephens and students from Bristol Old Vic Theatre School. \nOpened in 1946 by Laurence Olivier\, the Bristol Old Vic Theatre School has grown a reputation for attracting the very best in young acting talent and\, as such\, has some notable alumni to its name including Daniel Day Lewis\, Greta Scacchi\, Peter O’Toole\, Olivia Colman and many more. The School’s annual visit to Dorset has always been a firm favourite on the Artsreach programme and we are delighted to welcome them back this summer for the first time since 2019!
URL:https://www.theblackmorevale.co.uk/whats-on/great-expectations-by-bristol-old-vic-theatre-school/
LOCATION:Village Hall\, Lytchett Matravers\, High Street\, Lytchett Matravers\, BH16 6DF
CATEGORIES:Theatre
ATTACH;FMTTYPE=image/jpeg:https://www.theblackmorevale.co.uk/wp-content/uploads/2022/05/BOVTS_GreatExpectations_press.jpg
ORGANIZER;CN="Artsreach":MAILTO:info@artsreach.co.uk
END:VEVENT
BEGIN:VEVENT
DTSTART;TZID=Europe/London:20220626T193000
DTEND;TZID=Europe/London:20220626T213000
DTSTAMP:20260422T213254
CREATED:20220520T121924Z
LAST-MODIFIED:20220520T121924Z
UID:8438-1656271800-1656279000@www.theblackmorevale.co.uk
SUMMARY:Carmen by Regents Opera
DESCRIPTION:Regents Opera is a leading fringe Opera Company specialising in the larger works of the 19th & 20th centuries. The now touring company offers emerging and established singers a platform to perform major repertoire not often staged outside the major houses. \nDirected by Paul Higgins of Glyndebourne Festival Opera and the Royal Opera House\, this outstanding production features four cast members and stars renowned Greek mezzo soprano Kassandra Dimopoulou as Carmen and Howard Hutt as her Don Jose\, accompanied by talented pianist and Musical Director Ben Woodward. \nTouring to Dorset with Artsreach\, the counties touring arts charity. \nRecommended 11+ \n“You have to be cheered by [Regent Opera’s] gusto” The Times
URL:https://www.theblackmorevale.co.uk/whats-on/carmen-by-regents-opera/
LOCATION:The Mowlem\, Shore Road\, Swanage\, BH19 1DD
CATEGORIES:Classical Music,music,opera,Theatre
ATTACH;FMTTYPE=image/jpeg:https://www.theblackmorevale.co.uk/wp-content/uploads/2022/05/Carmen-FulhamRegents_press.jpg
ORGANIZER;CN="Artsreach":MAILTO:info@artsreach.co.uk
END:VEVENT
BEGIN:VEVENT
DTSTART;TZID=Europe/London:20220630T193000
DTEND;TZID=Europe/London:20220630T213000
DTSTAMP:20260422T213254
CREATED:20220520T122157Z
LAST-MODIFIED:20220520T122157Z
UID:8447-1656617400-1656624600@www.theblackmorevale.co.uk
SUMMARY:Vanity Fair by Bristol Old Vic Theatre School
DESCRIPTION:Bristol Old Vic Theatre School’s acting and technical cohort present a thrilling and nostalgic production Thackeray’s hilarious satire\, ‘Vanity Fair’. \nSet in the early 1980s New Romantics scene of London\, follow wannabe ‘It Girl’ Becky Sharp and her sweet-natured friend\, Amelia Sedley\, as they scale the heady heights of society and hustle through the hazardous playground for the rich and beautiful. \nOpened in 1946 by Laurence Olivier\, the Bristol Old Vic Theatre School has grown a reputation for attracting the very best in young acting talent and\, as such\, has some notable alumni to its name including Daniel Day Lewis\, Greta Scacchi\, Peter O’Toole\, Olivia Colman and many more. The School’s annual visit to Dorset has always been a firm favourite on the Artsreach programme and we are delighted to welcome them back this summer for the first time since 2019!
URL:https://www.theblackmorevale.co.uk/whats-on/vanity-fair-by-bristol-old-vic-theatre-school/
LOCATION:The Exchange\, Sturminster Newton\, Sturminster Newton\, DT10 1FH
CATEGORIES:Theatre
ATTACH;FMTTYPE=image/jpeg:https://www.theblackmorevale.co.uk/wp-content/uploads/2022/05/Vanity-Fair-show-image_press.jpg
ORGANIZER;CN="Artsreach":MAILTO:info@artsreach.co.uk
END:VEVENT
END:VCALENDAR