BEGIN:VCALENDAR
VERSION:2.0
PRODID:-//The BV - ECPv6.15.20//NONSGML v1.0//EN
CALSCALE:GREGORIAN
METHOD:PUBLISH
X-ORIGINAL-URL:https://www.theblackmorevale.co.uk
X-WR-CALDESC:Events for The BV
REFRESH-INTERVAL;VALUE=DURATION:PT1H
X-Robots-Tag:noindex
X-PUBLISHED-TTL:PT1H
BEGIN:VTIMEZONE
TZID:Europe/London
BEGIN:DAYLIGHT
TZOFFSETFROM:+0000
TZOFFSETTO:+0100
TZNAME:BST
DTSTART:20240331T010000
END:DAYLIGHT
BEGIN:STANDARD
TZOFFSETFROM:+0100
TZOFFSETTO:+0000
TZNAME:GMT
DTSTART:20241027T010000
END:STANDARD
BEGIN:DAYLIGHT
TZOFFSETFROM:+0000
TZOFFSETTO:+0100
TZNAME:BST
DTSTART:20250330T010000
END:DAYLIGHT
BEGIN:STANDARD
TZOFFSETFROM:+0100
TZOFFSETTO:+0000
TZNAME:GMT
DTSTART:20251026T010000
END:STANDARD
BEGIN:DAYLIGHT
TZOFFSETFROM:+0000
TZOFFSETTO:+0100
TZNAME:BST
DTSTART:20260329T010000
END:DAYLIGHT
BEGIN:STANDARD
TZOFFSETFROM:+0100
TZOFFSETTO:+0000
TZNAME:GMT
DTSTART:20261025T010000
END:STANDARD
END:VTIMEZONE
BEGIN:VEVENT
DTSTART;TZID=Europe/London:20250215T100000
DTEND;TZID=Europe/London:20250223T170000
DTSTAMP:20260420T051633
CREATED:20250214T143930Z
LAST-MODIFIED:20250214T143936Z
UID:37718-1739613600-1740330000@www.theblackmorevale.co.uk
SUMMARY:Love is in the water. Visit the Oceanarium this February half term!
DESCRIPTION:This February Half Term\, bring your loved ones for a day full of discovery\, fun\, and unforgettable moments! Whether you’re planning a family adventure\, a day out with friends\, or a unique Valentine’s date\, dive in with a splash! \nExciting news! We have teamed up with RockReef this Half Term! Purchase a full price Oceanarium ticket on arrival and get 20% off Clip ‘n Climb at RockReef! It’s the perfect way to continue your adventure with double the fun! T&C’s apply.  \nImmerse in an engaging underwater adventure this half term and discover over 200 different enchanting creatures. From stunning sharks\, a loggerhead turtle\, jellyfish\, clownfish\, piranha\, mischievous otters\, and a playful colony of Humboldt penguins! Don’t forget to stop at our colouring corner for some additional activities!  \nPre-book online 24 hours in advance and SAVE! Ticket’s allow unlimited same day entry!  \nTo complement your marine adventure\, grab a bite to eat in the Offshore Café and visit The Cove Shop\, which is home to a huge variety of plush toys and a good range of eco-friendly products!  \nDive in\, what are you waiting for?
URL:https://www.theblackmorevale.co.uk/whats-on/love-is-in-the-water-visit-the-oceanarium-this-february-half-term/
LOCATION:Oceanarium Bournemouth\, Oceanarium\, Bournemouth\, BH2 5AA
CATEGORIES:Children's,Family,Family event,SALE
ATTACH;FMTTYPE=image/jpeg:https://www.theblackmorevale.co.uk/wp-content/uploads/2025/02/February-half-term-raring2go-01.jpg
ORGANIZER;CN="Oceanarium Bournemouth":MAILTO:info@oceanarium.co.uk
END:VEVENT
END:VCALENDAR