BEGIN:VCALENDAR
VERSION:2.0
PRODID:-//The BV - ECPv6.15.20//NONSGML v1.0//EN
CALSCALE:GREGORIAN
METHOD:PUBLISH
X-WR-CALNAME:The BV
X-ORIGINAL-URL:https://www.theblackmorevale.co.uk
X-WR-CALDESC:Events for The BV
REFRESH-INTERVAL;VALUE=DURATION:PT1H
X-Robots-Tag:noindex
X-PUBLISHED-TTL:PT1H
BEGIN:VTIMEZONE
TZID:Europe/London
BEGIN:DAYLIGHT
TZOFFSETFROM:+0000
TZOFFSETTO:+0100
TZNAME:BST
DTSTART:20220327T010000
END:DAYLIGHT
BEGIN:STANDARD
TZOFFSETFROM:+0100
TZOFFSETTO:+0000
TZNAME:GMT
DTSTART:20221030T010000
END:STANDARD
BEGIN:DAYLIGHT
TZOFFSETFROM:+0000
TZOFFSETTO:+0100
TZNAME:BST
DTSTART:20230326T010000
END:DAYLIGHT
BEGIN:STANDARD
TZOFFSETFROM:+0100
TZOFFSETTO:+0000
TZNAME:GMT
DTSTART:20231029T010000
END:STANDARD
BEGIN:DAYLIGHT
TZOFFSETFROM:+0000
TZOFFSETTO:+0100
TZNAME:BST
DTSTART:20240331T010000
END:DAYLIGHT
BEGIN:STANDARD
TZOFFSETFROM:+0100
TZOFFSETTO:+0000
TZNAME:GMT
DTSTART:20241027T010000
END:STANDARD
END:VTIMEZONE
BEGIN:VEVENT
DTSTART;TZID=Europe/London:20230902T140000
DTEND;TZID=Europe/London:20230902T160000
DTSTAMP:20260421T070957
CREATED:20230724T091212Z
LAST-MODIFIED:20230724T091212Z
UID:19311-1693663200-1693670400@www.theblackmorevale.co.uk
SUMMARY:OUTGROWN CHILDREN'S CLOTHES ABDCTOYS SALE
DESCRIPTION:Hire a table for £5 to sell your preloaded children’s clothes and toys\, or donate to us. All proceeds in aid of the Okeford Fitzpaine Children’s Play Area Project. Okeford Fitzpaine Village Hall. Email sfinklaire@gmail.com or phone 01258 861357 to reserve your place.
URL:https://www.theblackmorevale.co.uk/whats-on/outgrown-childrens-clothes-abdctoys-sale/
LOCATION:Okeford Fitzpaine Village Hall\, Greenhayes\, Blandford forum\, DT11 0RE
CATEGORIES:SALE
ATTACH;FMTTYPE=image/jpeg:https://www.theblackmorevale.co.uk/wp-content/uploads/2023/07/GridArt_20230723_214026244.jpg
ORGANIZER;CN="Okeford Fitzpaine Village Community Group":MAILTO:Sfinklaire@gmail.com
END:VEVENT
END:VCALENDAR