BEGIN:VCALENDAR
VERSION:2.0
PRODID:-//The BV - ECPv6.15.20//NONSGML v1.0//EN
CALSCALE:GREGORIAN
METHOD:PUBLISH
X-WR-CALNAME:The BV
X-ORIGINAL-URL:https://www.theblackmorevale.co.uk
X-WR-CALDESC:Events for The BV
REFRESH-INTERVAL;VALUE=DURATION:PT1H
X-Robots-Tag:noindex
X-PUBLISHED-TTL:PT1H
BEGIN:VTIMEZONE
TZID:Europe/London
BEGIN:DAYLIGHT
TZOFFSETFROM:+0000
TZOFFSETTO:+0100
TZNAME:BST
DTSTART:20210328T010000
END:DAYLIGHT
BEGIN:STANDARD
TZOFFSETFROM:+0100
TZOFFSETTO:+0000
TZNAME:GMT
DTSTART:20211031T010000
END:STANDARD
BEGIN:DAYLIGHT
TZOFFSETFROM:+0000
TZOFFSETTO:+0100
TZNAME:BST
DTSTART:20220327T010000
END:DAYLIGHT
BEGIN:STANDARD
TZOFFSETFROM:+0100
TZOFFSETTO:+0000
TZNAME:GMT
DTSTART:20221030T010000
END:STANDARD
BEGIN:DAYLIGHT
TZOFFSETFROM:+0000
TZOFFSETTO:+0100
TZNAME:BST
DTSTART:20230326T010000
END:DAYLIGHT
BEGIN:STANDARD
TZOFFSETFROM:+0100
TZOFFSETTO:+0000
TZNAME:GMT
DTSTART:20231029T010000
END:STANDARD
END:VTIMEZONE
BEGIN:VEVENT
DTSTART;TZID=Europe/London:20220611T100000
DTEND;TZID=Europe/London:20220611T120000
DTSTAMP:20260422T142244
CREATED:20220517T181413Z
LAST-MODIFIED:20220517T181413Z
UID:8359-1654941600-1654948800@www.theblackmorevale.co.uk
SUMMARY:Cake Sale
DESCRIPTION:Sale of delicious cakes\, biscuits and delicacies along with teas\, coffee and soft drinks. All money raised is going towards the upkeep of Oborne Playing Field.
URL:https://www.theblackmorevale.co.uk/whats-on/cake-sale/
LOCATION:Oborne Playing Field\, Oborne\, Nr Sherborne DT9 4LA\, Oborne Playing Field\, Nr Sherborne\, DT9 4LA\, United Kingdom
CATEGORIES:charity event,Coffee Morning,Family,Fundraiser,SALE
ATTACH;FMTTYPE=image/png:https://www.theblackmorevale.co.uk/wp-content/uploads/2022/05/Cake-Sale.png
ORGANIZER;CN="Karen Perryman":MAILTO:oborneevents@gmail.com
END:VEVENT
END:VCALENDAR