BEGIN:VCALENDAR
VERSION:2.0
PRODID:-//The BV - ECPv6.15.20//NONSGML v1.0//EN
CALSCALE:GREGORIAN
METHOD:PUBLISH
X-ORIGINAL-URL:https://www.theblackmorevale.co.uk
X-WR-CALDESC:Events for The BV
REFRESH-INTERVAL;VALUE=DURATION:PT1H
X-Robots-Tag:noindex
X-PUBLISHED-TTL:PT1H
BEGIN:VTIMEZONE
TZID:Europe/London
BEGIN:DAYLIGHT
TZOFFSETFROM:+0000
TZOFFSETTO:+0100
TZNAME:BST
DTSTART:20210328T010000
END:DAYLIGHT
BEGIN:STANDARD
TZOFFSETFROM:+0100
TZOFFSETTO:+0000
TZNAME:GMT
DTSTART:20211031T010000
END:STANDARD
BEGIN:DAYLIGHT
TZOFFSETFROM:+0000
TZOFFSETTO:+0100
TZNAME:BST
DTSTART:20220327T010000
END:DAYLIGHT
BEGIN:STANDARD
TZOFFSETFROM:+0100
TZOFFSETTO:+0000
TZNAME:GMT
DTSTART:20221030T010000
END:STANDARD
BEGIN:DAYLIGHT
TZOFFSETFROM:+0000
TZOFFSETTO:+0100
TZNAME:BST
DTSTART:20230326T010000
END:DAYLIGHT
BEGIN:STANDARD
TZOFFSETFROM:+0100
TZOFFSETTO:+0000
TZNAME:GMT
DTSTART:20231029T010000
END:STANDARD
END:VTIMEZONE
BEGIN:VEVENT
DTSTART;TZID=Europe/London:20220505T150000
DTEND;TZID=Europe/London:20220505T190000
DTSTAMP:20260422T061700
CREATED:20220405T144911Z
LAST-MODIFIED:20220405T145810Z
UID:6885-1651762800-1651777200@www.theblackmorevale.co.uk
SUMMARY:Fabric Sale
DESCRIPTION:Returning to Sherborne for one of their famous travelling fabric sales\, Stitch Fabrics by M Rosenberg & son are back with a bang! \nVisit their website http://www.stitchfabrics.co.uk for more details and to subscribe to their newsletter to be kept up to date on all future events. \nFREE ENTRY AND GOOD PARKING \nSee you there!
URL:https://www.theblackmorevale.co.uk/whats-on/fabric-sale/
LOCATION:Digby Hall\, Hound Street\, Sherborne\, DT9 3AA
CATEGORIES:Crafts,SALE
ATTACH;FMTTYPE=image/png:https://www.theblackmorevale.co.uk/wp-content/uploads/2022/04/Stitch-Fabrics-V3.png
END:VEVENT
BEGIN:VEVENT
DTSTART;TZID=Europe/London:20220506T100000
DTEND;TZID=Europe/London:20220506T150000
DTSTAMP:20260422T061700
CREATED:20220405T145318Z
LAST-MODIFIED:20220405T171908Z
UID:6893-1651831200-1651849200@www.theblackmorevale.co.uk
SUMMARY:Fabric Sale
DESCRIPTION:Returning to Sherborne for one of their famous travelling fabric sales\, Stitch Fabrics by M Rosenberg & son are back with a bang! \nVisit their website http://www.stitchfabrics.co.uk for more details and to subscribe to their newsletter to be kept up to date on all future events. \nFREE ENTRY AND GOOD PARKING \nSee you there!
URL:https://www.theblackmorevale.co.uk/whats-on/fabric-sale-2/
LOCATION:Digby Hall\, Hound Street\, Sherborne\, DT9 3AA
CATEGORIES:Crafts,SALE
ATTACH;FMTTYPE=image/png:https://www.theblackmorevale.co.uk/wp-content/uploads/2022/04/Stitch-Fabrics-V3-1.png
END:VEVENT
BEGIN:VEVENT
DTSTART;TZID=Europe/London:20220507T100000
DTEND;TZID=Europe/London:20220507T140000
DTSTAMP:20260422T061700
CREATED:20220422T135725Z
LAST-MODIFIED:20220422T135725Z
UID:7697-1651917600-1651932000@www.theblackmorevale.co.uk
SUMMARY:Sturminster Newton Wedding Festival
DESCRIPTION:Sturminster Newton is holding a unique\, town-based Wedding Festival and everyone is invited.\nAs well as a Wedding Fair featuring wedding specialists in the Stour Hall at The Exchange (10.a.m. To 2.00 p.m.) a stroll around town will reveal that our shops and businesses are providing wedding themed offers too.\nAn exhibition entitled “Wedding Attire Through The Ages” at The Exchange is a display of wedding dresses\, photos and stories shared by local families.\nArrive early\, and you will see a wide range of motor vehicles from the past at the monthly meeting of Car Enthusiasts in Station Road Car Park\, and hopefully\, dressed for this special day.\nAs a result of this exciting event a new Sturminster Newton Wedding Directory will be launched on the day. Make sure you pick up your copy!\nFor further information see sturminster-newton.org.uk
URL:https://www.theblackmorevale.co.uk/whats-on/sturminster-newton-wedding-festival/
LOCATION:Dorset
CATEGORIES:Exhibition,Festival,SALE,Wedding
ATTACH;FMTTYPE=image/png:https://www.theblackmorevale.co.uk/wp-content/uploads/2022/04/278404443_114397717896107_6265787259272598558_n.png
END:VEVENT
BEGIN:VEVENT
DTSTART;TZID=Europe/London:20220521T100000
DTEND;TZID=Europe/London:20220521T160000
DTSTAMP:20260422T061700
CREATED:20220426T131650Z
LAST-MODIFIED:20220426T131650Z
UID:7741-1653127200-1653148800@www.theblackmorevale.co.uk
SUMMARY:Sherborne Second Hand Book\, Map & Ephemera Fair
DESCRIPTION:Sherborne Second Hand Book\, Map & Ephemera Fair \nSaturday\, 21st May 2022 – 10am – 4pm with free entry \nDigby Memorial Church Hall\, Digby Road\, Sherborne\, Dorset\, DT9 3NL \nOur fair attracts sellers from the West Country\, selling second hand to antiquarian books on many subjects\, together with local maps and ephemera. \nA warm welcome awaits and entry is free! \nFor more information email Lsbookfairs@gmail.com or call Ed Bailey on 07967643579
URL:https://www.theblackmorevale.co.uk/whats-on/sherborne-second-hand-book-map-ephemera-fair/
LOCATION:Digby Hall\, Hound Street\, Sherborne\, DT9 3AA
CATEGORIES:Book Fair,SALE
ATTACH;FMTTYPE=image/png:https://www.theblackmorevale.co.uk/wp-content/uploads/2022/04/Sherborne-book-Fair-May-22.png
ORGANIZER;CN="LS BookFairs":MAILTO:Lsbookfairs@gmail.com
END:VEVENT
END:VCALENDAR