BEGIN:VCALENDAR
VERSION:2.0
PRODID:-//The BV - ECPv6.15.20//NONSGML v1.0//EN
CALSCALE:GREGORIAN
METHOD:PUBLISH
X-WR-CALNAME:The BV
X-ORIGINAL-URL:https://www.theblackmorevale.co.uk
X-WR-CALDESC:Events for The BV
REFRESH-INTERVAL;VALUE=DURATION:PT1H
X-Robots-Tag:noindex
X-PUBLISHED-TTL:PT1H
BEGIN:VTIMEZONE
TZID:Europe/London
BEGIN:DAYLIGHT
TZOFFSETFROM:+0000
TZOFFSETTO:+0100
TZNAME:BST
DTSTART:20250330T010000
END:DAYLIGHT
BEGIN:STANDARD
TZOFFSETFROM:+0100
TZOFFSETTO:+0000
TZNAME:GMT
DTSTART:20251026T010000
END:STANDARD
BEGIN:DAYLIGHT
TZOFFSETFROM:+0000
TZOFFSETTO:+0100
TZNAME:BST
DTSTART:20260329T010000
END:DAYLIGHT
BEGIN:STANDARD
TZOFFSETFROM:+0100
TZOFFSETTO:+0000
TZNAME:GMT
DTSTART:20261025T010000
END:STANDARD
BEGIN:DAYLIGHT
TZOFFSETFROM:+0000
TZOFFSETTO:+0100
TZNAME:BST
DTSTART:20270328T010000
END:DAYLIGHT
BEGIN:STANDARD
TZOFFSETFROM:+0100
TZOFFSETTO:+0000
TZNAME:GMT
DTSTART:20271031T010000
END:STANDARD
END:VTIMEZONE
BEGIN:VEVENT
DTSTART;TZID=Europe/London:20260415T193000
DTEND;TZID=Europe/London:20260415T210000
DTSTAMP:20260421T094500
CREATED:20260409T124443Z
LAST-MODIFIED:20260409T124445Z
UID:80908-1776281400-1776286800@www.theblackmorevale.co.uk
SUMMARY:Talk: "Finding the Secret Garden"
DESCRIPTION:A talk by and about Carey’s Secret Garden\, near Wareham. \n 
URL:https://www.theblackmorevale.co.uk/whats-on/talk-finding-the-secret-garden/
LOCATION:The Pamela Hambro Memorial Hall\, West Street\, Winterborne Stickland\, DT11 0NT
CATEGORIES:Gardens,lectures & Talks
ATTACH;FMTTYPE=image/jpeg:https://www.theblackmorevale.co.uk/wp-content/uploads/2026/04/Talk-ad-Social-Media-Apr-26.webp
ORGANIZER;CN="The Valley Gardening Club":MAILTO:valleygardening@gmail.com
END:VEVENT
BEGIN:VEVENT
DTSTART;TZID=Europe/London:20260419T140000
DTEND;TZID=Europe/London:20260419T163000
DTSTAMP:20260421T094500
CREATED:20260212T134136Z
LAST-MODIFIED:20260212T134139Z
UID:74169-1776607200-1776616200@www.theblackmorevale.co.uk
SUMMARY:Quiet Afternoon at the Fleet Air Arm Museum
DESCRIPTION:The perfect low-sensory environment for a calmer\, quieter museum experience. \nDuring our quiet afternoon sessions\, sounds\, lights and interactive elements will be lowered or turned-off to create a low-sensory environment. \nThese sessions are intended to support a range of visitors of all ages\, including neurodiverse individuals\, people with social\, emotional\, or mental health needs\, those living with dementia\, and anyone who may benefit from or simply enjoy a quieter\, more relaxed environment. \nAccess during this event will require a valid museum ticket. \nSunday 19 April 2026\, 2pm to 4.30pm
URL:https://www.theblackmorevale.co.uk/whats-on/quiet-afternoon-at-the-fleet-air-arm-museum-2/
LOCATION:The Fleet Air Arm Museum\, RNAS Yeovilton\, Ilchester\, BA22 8HT
CATEGORIES:Family,History,lectures & Talks
ORGANIZER;CN="The Fleet Air Arm Museum":MAILTO:fleetairarm.enquiries@nmrn.org.uk
END:VEVENT
BEGIN:VEVENT
DTSTART;TZID=Europe/London:20260506T140000
DTEND;TZID=Europe/London:20260506T150000
DTSTAMP:20260421T094500
CREATED:20260320T130232Z
LAST-MODIFIED:20260320T130234Z
UID:75563-1778076000-1778079600@www.theblackmorevale.co.uk
SUMMARY:Murder at Villa Madeira: The Story of the Rattenburys Talk by Hattie Miles
DESCRIPTION:In March 1935 Bournemouth was shaken by a sensational murder. Retired architect\nFrancis Mawson Rattenbury\, aged 67\, was found dead at his home\, Villa Madeira\, on\nManor Road. This fascinating true story begins in 1867 and takes us right up to 2021\nand involves two architects\, a concert pianist and a chauffeur.\nTea and Coffee offered after event included in the ticket price. \n 
URL:https://www.theblackmorevale.co.uk/whats-on/murder-at-villa-madeira-the-story-of-the-rattenburys-talk-by-hattie-miles/
LOCATION:East Dorset Heritgae Trust\, Hanham Rd\,\, Wimborne Minster\, dorset\, BH21 1AS\, United Kingdom
CATEGORIES:lectures & Talks
END:VEVENT
END:VCALENDAR