BEGIN:VCALENDAR
VERSION:2.0
PRODID:-//The BV - ECPv6.15.20//NONSGML v1.0//EN
CALSCALE:GREGORIAN
METHOD:PUBLISH
X-ORIGINAL-URL:https://www.theblackmorevale.co.uk
X-WR-CALDESC:Events for The BV
REFRESH-INTERVAL;VALUE=DURATION:PT1H
X-Robots-Tag:noindex
X-PUBLISHED-TTL:PT1H
BEGIN:VTIMEZONE
TZID:Europe/London
BEGIN:DAYLIGHT
TZOFFSETFROM:+0000
TZOFFSETTO:+0100
TZNAME:BST
DTSTART:20240331T010000
END:DAYLIGHT
BEGIN:STANDARD
TZOFFSETFROM:+0100
TZOFFSETTO:+0000
TZNAME:GMT
DTSTART:20241027T010000
END:STANDARD
BEGIN:DAYLIGHT
TZOFFSETFROM:+0000
TZOFFSETTO:+0100
TZNAME:BST
DTSTART:20250330T010000
END:DAYLIGHT
BEGIN:STANDARD
TZOFFSETFROM:+0100
TZOFFSETTO:+0000
TZNAME:GMT
DTSTART:20251026T010000
END:STANDARD
BEGIN:DAYLIGHT
TZOFFSETFROM:+0000
TZOFFSETTO:+0100
TZNAME:BST
DTSTART:20260329T010000
END:DAYLIGHT
BEGIN:STANDARD
TZOFFSETFROM:+0100
TZOFFSETTO:+0000
TZNAME:GMT
DTSTART:20261025T010000
END:STANDARD
BEGIN:DAYLIGHT
TZOFFSETFROM:+0000
TZOFFSETTO:+0100
TZNAME:BST
DTSTART:20270328T010000
END:DAYLIGHT
BEGIN:STANDARD
TZOFFSETFROM:+0100
TZOFFSETTO:+0000
TZNAME:GMT
DTSTART:20271031T010000
END:STANDARD
END:VTIMEZONE
BEGIN:VEVENT
DTSTART;TZID=Europe/London:20251112T190000
DTEND;TZID=Europe/London:20251112T210000
DTSTAMP:20260421T071255
CREATED:20250930T073006Z
LAST-MODIFIED:20250930T073012Z
UID:50086-1762974000-1762981200@www.theblackmorevale.co.uk
SUMMARY:Live Laugh Love Ladies Club - Poundbury\, Dorchester - Guest Speaker: Portia Mcmenemy - Breathwork Facilitator
DESCRIPTION:12 NOVEMBER 2025 – Portia Mcmenemy – Breathwork Facilitator from The Rooms\, Poundbury  \nWe welcome to our November event Portia Mcmenemy\, a Breathwork Facilitator who will bring to us everyday breathwork for relaxation that will have simple practices to our routine bringing calm\, energy\, and balance. Portia will demonstrate to us how effective calming breathing patterns can soothe your mind and body especially as we will soon be moving into the hectic time of Christmas!  Ever find yourself holding your breath without realizing it? You are not alone! And this session might be exactly what you need.  \nBooking is appreciated to reserve your place\, please do so by 6 November 2025  (the Thursday before the event) as numbers are required to be advised to the venue. Please advise of any dietary requirements when you book.  \nTicket Price includes a Guest Speaker\, a light Supper\, and a Free Raffle.  \nPremium Membership Ticket Price – £18.00  \nFree Member/Guest Ticket Price – £24.00   \nPayment can be made either by Bank Transfer (details below) or by PayPal when booking online (www.livelaughloveladies.club/sallycs).  \nSally Childs-Slade trading as  \nLive Laugh Love Ladies Club (Poundbury\, Dorchester)  \nAccount Number: 71993727       Sort Code: 04-00-03  \nOptional Premium Membership is available for £35.00 per year. This includes reduced entry price to Club Events\, Loyalty Scheme\, Pen\, Affiliate Offers\, Priority for Special Events. This can be purchased online or at an Event.  \nFor further information on all the above please email sallyannchildsslade@gmail.com\, call/text 07703 171545 or www.livelaughloveladies.club/sallycs.  \nSally looks forward to welcoming you to an event of the Poundbury\, Dorchester Live Laugh Love Ladies Club soon!  \n 
URL:https://www.theblackmorevale.co.uk/whats-on/live-laugh-love-ladies-club-poundbury-dorchester-guest-speaker-portia-mcmenemy-breathwork-facilitator/
LOCATION:Crossroads\, 1 Crown Square\, Poundbury\, Dorchester DT1 3JH\, 1 Crown Square\, Poundbury\, Dorchester\, DT1 3JH\, United Kingdom
CATEGORIES:lectures & Talks
ORGANIZER;CN="Sally Childs-Slade - Host%2C Live Laugh Love Ladies Club - Poundbury%2C Dorchester":MAILTO:sallyannchildsslade@gmail.com
END:VEVENT
BEGIN:VEVENT
DTSTART;TZID=Europe/London:20251127T190000
DTEND;TZID=Europe/London:20251127T223000
DTSTAMP:20260421T071255
CREATED:20251028T094422Z
LAST-MODIFIED:20251028T094425Z
UID:52223-1764270000-1764282600@www.theblackmorevale.co.uk
SUMMARY:AERIAL ATLAS OF ANCIENT BRITAIN\, David R Abram
DESCRIPTION:Join author and photographer David R Abram for a stunning visual journey through Britain’s prehistoric landscapes.\nUsing drones and telescopic poles\, David reveals ancient sites as they’ve never been seen before – from neolithic tombs and bronze age barrows to the great megaliths of Wessex.\nFeaturing highlights from his acclaimed book Aerial Atlas of Ancient Britain and sneak previews from his new Barrowlands projects\, including landscapes around Hambledon Hill.
URL:https://www.theblackmorevale.co.uk/whats-on/aerial-atlas-of-ancient-britain-david-r-abram/
LOCATION:Child Okeford Village Hall\, Child Okeford
CATEGORIES:History,lectures & Talks
ATTACH;FMTTYPE=image/jpeg:https://www.theblackmorevale.co.uk/wp-content/uploads/2025/10/Artlas-1.webp
END:VEVENT
BEGIN:VEVENT
DTSTART;TZID=Europe/London:20251203T190000
DTEND;TZID=Europe/London:20251203T210000
DTSTAMP:20260421T071255
CREATED:20250930T073101Z
LAST-MODIFIED:20250930T073106Z
UID:50101-1764788400-1764795600@www.theblackmorevale.co.uk
SUMMARY:Live Laugh Love Ladies Club - Poundbury\, Dorchester - Guest Speaker: Grace Lovelass - Opera Singer & Triathlete
DESCRIPTION:3 DECEMBER 2025 – GRACE LOVELASS\, GLITZ\, GLAMOUR & BLOWING RASPBERRIES – FESTIVE EDITION!  \nWe welcome to our December and Christmas event Grace Lovelass\, an operatic mezzo-soprano\, and a long-distance triathlete.    \nGrace is an energetic and a versatile entertainer and she has written and produced three comedy music shows\, the most recent “Ballgowns & Bib Shorts – the musical memoir of an opera-singing triathlete” which was developed with the support of the Lighthouse – Poole and Mayflower Studios and premiered at Dorchester Arts in February  and at Shaftesbury Arts Centre in September.  \nGrace was formerly a public relations manager. She embarked on a second career in music after joining a group of amateur players who performed variety shows in a gaslit cinema. Rediscovering a childhood love for the stage\, she took private lessons and made her classical/operatic debut at the Bournemouth Music Competitions Festival in 2015. Grace is also a trained dancer who has competed in Ballroom and Latin at the Blackpool Tower Ballroom\, as well as being an artist\, drawing and painting in graphite and watercolours.  \nBooking is appreciated to reserve your place\, please do so by 27 November 2025 (the Thursday before the event date) as numbers are required to be advised to the venue. Please advise of any dietary requirements when you book.  \nTicket Price includes a Guest Speaker\, a light Supper\, and a Free Raffle.  \nPremium Membership Ticket Price – £18.00  \nFree Member/Guest Ticket Price – £24.00   \nPayment can be made either by Bank Transfer (details below) or by PayPal when booking online (www.livelaughloveladies.club/sallycs).  \nSally Childs-Slade trading as  \nLive Laugh Love Ladies Club (Poundbury\, Dorchester)  \n  \nAccount Number: 71993727             Sort Code: 04-00-03  \nOptional Premium Membership is available for £35.00 per year. This includes reduced entry price to Club Events\, Loyalty Scheme\, Pen\, Affiliate Offers\, Priority for Special Events. This can be purchased online or at an Event.  \nFor further information on all the above please email sallyannchildsslade@gmail.com\, call/text 07703 171545 or www.livelaughloveladies.club/sallycs.  \nSally looks forward to welcoming you to an event of the Poundbury\, Dorchester Live Laugh Love Ladies Club soon!
URL:https://www.theblackmorevale.co.uk/whats-on/live-laugh-love-ladies-club-poundbury-dorchester-guest-speaker-grace-lovelass-opera-singer-triathlete/
LOCATION:Crossroads\, 1 Crown Square\, Poundbury\, Dorchester DT1 3JH\, 1 Crown Square\, Poundbury\, Dorchester\, DT1 3JH\, United Kingdom
CATEGORIES:lectures & Talks
ORGANIZER;CN="Sally Childs-Slade - Host%2C Live Laugh Love Ladies Club - Poundbury%2C Dorchester":MAILTO:sallyannchildsslade@gmail.com
END:VEVENT
BEGIN:VEVENT
DTSTART;TZID=Europe/London:20251204T103000
DTEND;TZID=Europe/London:20251204T123000
DTSTAMP:20260421T071255
CREATED:20251113T165812Z
LAST-MODIFIED:20251113T165814Z
UID:53301-1764844200-1764851400@www.theblackmorevale.co.uk
SUMMARY:Conservation In Action - Behind the Scenes Tour
DESCRIPTION:Are you passionate about aviation and the stories behind historic aircraft? \nStep behind the scenes at the Fleet Air Arm Museum and discover how conservation specialists preserve the legacy of naval aviation for future generations. \nJoin the Museum’s Principal Conservator of Naval Aircraft\, David Morris\, on an exclusive ‘Conservation in Action’ tour — a unique opportunity to see firsthand the intricate work involved in restoring and preserving iconic Fleet Air Arm aircraft. \nThis two-hour experience begins with an in-depth presentation\, offering insight into the philosophy\, methods\, and decision-making processes behind major conservation projects. You’ll then be guided through the museum’s exhibition halls for a closer look at aircraft such as the WWII Corsair KD431\, where meticulous paint archaeology has revealed original wartime camouflage beneath layers applied in the 1960s. \nThe tour finishes with a tour of the exciting rebuild of the only surviving Fairey Barracuda\, DP872\, in the Arthur Kimberley Viewing Gallery. \nThursday 4 December at 10.30am \nTickets are £30 per person. \nTours strictly pre booked only and limited to 10 people maximum per tour. Museum Access is included on the day of your visit.
URL:https://www.theblackmorevale.co.uk/whats-on/conservation-in-action-behind-the-scenes-tour/
LOCATION:The Fleet Air Arm Museum\, RNAS Yeovilton\, Ilchester\, BA22 8HT
CATEGORIES:History,lectures & Talks
ORGANIZER;CN="Fleet Air Arm Museum":MAILTO:fleetairarm.enquiries@nmrn.org.uk
END:VEVENT
BEGIN:VEVENT
DTSTART;TZID=Europe/London:20251212T100000
DTEND;TZID=Europe/London:20251212T120000
DTSTAMP:20260421T071255
CREATED:20251124T134407Z
LAST-MODIFIED:20251124T135810Z
UID:53706-1765533600-1765540800@www.theblackmorevale.co.uk
SUMMARY:GOOD VIBRATIONS - A TUNEFUL TALK FOR EVERYONE
DESCRIPTION:Soundwaves and stories come together as Wimborne u3a’s final talk of the season looks set to hit all the right notes. \nOn Friday December 12th\, presenters Jacqueline and Brian Sutton invite you on a nostalgic journey through the birth of British pop music\, celebrating the genius of pioneering sound engineer and record producer Joe Meek. From the chart-topping “Telstar” to the legendary Tea Chest Tapes\, this feel-good presentation is packed with toe-tapping tunes and heartwarming memories. It’s a musical time machine you won’t want to miss. \nAll talks take place at Wesley Hall\, Methodist Church\, King Street in Wimborne at 10am for a 10.30am start. No booking required. £2 for u3a members; £4 for non-members.
URL:https://www.theblackmorevale.co.uk/whats-on/good-vibrations-a-tuneful-talk-for-everyone/
LOCATION:Wesley Hall\, Methodist Church Wimborne\, 4A King Street\, Wimborne\, Dorset\, BH21 1DY\, United Kingdom
CATEGORIES:lectures & Talks
ATTACH;FMTTYPE=image/jpeg:https://www.theblackmorevale.co.uk/wp-content/uploads/2025/11/Jacqueline-and-Brian-Sutton.webp
ORGANIZER;CN="Wimborne u3a":MAILTO:membership@wimborneu3a.org.uk
END:VEVENT
BEGIN:VEVENT
DTSTART;TZID=Europe/London:20260318T193000
DTEND;TZID=Europe/London:20260318T210000
DTSTAMP:20260421T071255
CREATED:20260111T114924Z
LAST-MODIFIED:20260111T114926Z
UID:72601-1773862200-1773867600@www.theblackmorevale.co.uk
SUMMARY:FREE TALK - Gardening in a time of Climate Change
DESCRIPTION:ENTRANCE FREE – EVERYBODY WELCOME\nGardening in a time of Climate Change\nA Talk by Ian Tribe \nWednesday 18th March\, 7.30pm \nat The Pamela Hambro Hall\,\nWinterborne Stickland\, DT11 0NT\nRaffle • Refreshments
URL:https://www.theblackmorevale.co.uk/whats-on/free-talk-gardening-in-a-time-of-climate-change/
LOCATION:The Pamela Hambro Memorial Hall\, West Street\, Winterborne Stickland\, DT11 0NT
CATEGORIES:Gardens,lectures & Talks
ORGANIZER;CN="The Valley Gardening Club":MAILTO:valleygardening@gmail.com
END:VEVENT
BEGIN:VEVENT
DTSTART;TZID=Europe/London:20260320T103000
DTEND;TZID=Europe/London:20260320T123000
DTSTAMP:20260421T071255
CREATED:20260121T092535Z
LAST-MODIFIED:20260121T092538Z
UID:73072-1774002600-1774009800@www.theblackmorevale.co.uk
SUMMARY:u3a Wimborne Talk - Conserving the Seas
DESCRIPTION:On Friday 20th March\, u3a Wimborne takes to the water with a talk entitled Conserving the Seas – Studland Bay Marine Conservation Zone. Environmental manager and keen sailor Howard Davidson explores the introduction of the Marine Conservation Zone at Studland Bay – a move designed to protect precious habitats but not without controversy. As one of the boating representatives on the Studland Bay Marine Partnership\, Howard will share the story of balancing conservation with leisure interests in one of Dorset’s most popular coastal spots.
URL:https://www.theblackmorevale.co.uk/whats-on/u3a-wimborne-talk-conserving-the-seas/
LOCATION:Wesley Hall\, Methodist Church Wimborne\, 4a King Street\, Wimborne\, BH21 1DY
CATEGORIES:History,lectures & Talks
ORGANIZER;CN="Wimborne u3a":MAILTO:membership@wimborneu3a.org.uk
END:VEVENT
BEGIN:VEVENT
DTSTART;TZID=Europe/London:20260321T143000
DTEND;TZID=Europe/London:20260321T163000
DTSTAMP:20260421T071255
CREATED:20260111T114245Z
LAST-MODIFIED:20260111T114441Z
UID:72597-1774103400-1774110600@www.theblackmorevale.co.uk
SUMMARY:Spring Show
DESCRIPTION:Entrance 50p\, Children Free \nRaffle • Refreshments \n 
URL:https://www.theblackmorevale.co.uk/whats-on/spring-show/
LOCATION:Turnpike Showground\, Shaftesbury\, Motcombe\, Shaftesbury\, Dorset\, sp7 9pn\, United Kingdom
CATEGORIES:Gardens,lectures & Talks
ORGANIZER;CN="The Valley Gardening Club":MAILTO:valleygardening@gmail.com
END:VEVENT
BEGIN:VEVENT
DTSTART;TZID=Europe/London:20260327T180000
DTEND;TZID=Europe/London:20260327T193000
DTSTAMP:20260421T071255
CREATED:20260228T113847Z
LAST-MODIFIED:20260228T113849Z
UID:74593-1774634400-1774639800@www.theblackmorevale.co.uk
SUMMARY:Ela Fitzpayne and John Forde- A Medieval Scandal from Okeford to London
DESCRIPTION:In the spring of 1325\, John Forde became rector of this parish and a trusted administrator on the Fitzpaine estate. Seven years later\, the Archbishop of Canterbury publicly accused Lady Ela Fitzpaine of adultery with John Forde. When she refused to perform the public penance imposed on her — including a barefoot walk through Salisbury Cathedral — he declared her excommunicated. Five years after that\, John Forde was ambushed and killed in the streets of London. A coroner’s jury recorded that Ela Fitzpaine had persuaded five men — including her brother Hugh Lovel — to carry out the attack.\nHow did events in this quiet Dorset village lead to a violent death in the heart of medieval England? Come and hear the remarkable true story that began at St Andrew’s.\n\n\nProfessor Manuel Eisner is a criminologist from the University of Cambridge. His research into Ela Fitzpayne was one of several medieval murder mysteries published in 2025 on an interactive map.\n\n\n\nTickets are now on sale for the forthcoming talk: ELA FITZPAYNE AND JOHN FORDE- A MEDIEVAL SCANDAL FROM OKEFORD TO LONDON by Professor Manuel Eisner on Friday 27 March.\n\n\nTickets include a drink on arrival and are on sale in Okeford Fitzpaine village shop or on Ticketsource . All proceeds are for the restoration of St Andrew’s Church.
URL:https://www.theblackmorevale.co.uk/whats-on/ela-fitzpayne-and-john-forde-a-medieval-scandal-from-okeford-to-london/
LOCATION:St andrews Church Okeford Fitzpaine\, Okeford Fitzpaine\, dorset\, DT11 0RD\, United Kingdom
CATEGORIES:History,lectures & Talks
ORGANIZER;CN="St Andrews Church":MAILTO:rrowe@okefordfitzpaine-pc.gov.uk
END:VEVENT
BEGIN:VEVENT
DTSTART;TZID=Europe/London:20260415T193000
DTEND;TZID=Europe/London:20260415T210000
DTSTAMP:20260421T071255
CREATED:20260409T124443Z
LAST-MODIFIED:20260409T124445Z
UID:80908-1776281400-1776286800@www.theblackmorevale.co.uk
SUMMARY:Talk: "Finding the Secret Garden"
DESCRIPTION:A talk by and about Carey’s Secret Garden\, near Wareham. \n 
URL:https://www.theblackmorevale.co.uk/whats-on/talk-finding-the-secret-garden/
LOCATION:The Pamela Hambro Memorial Hall\, West Street\, Winterborne Stickland\, DT11 0NT
CATEGORIES:Gardens,lectures & Talks
ATTACH;FMTTYPE=image/jpeg:https://www.theblackmorevale.co.uk/wp-content/uploads/2026/04/Talk-ad-Social-Media-Apr-26.webp
ORGANIZER;CN="The Valley Gardening Club":MAILTO:valleygardening@gmail.com
END:VEVENT
BEGIN:VEVENT
DTSTART;TZID=Europe/London:20260419T140000
DTEND;TZID=Europe/London:20260419T163000
DTSTAMP:20260421T071255
CREATED:20260212T134136Z
LAST-MODIFIED:20260212T134139Z
UID:74169-1776607200-1776616200@www.theblackmorevale.co.uk
SUMMARY:Quiet Afternoon at the Fleet Air Arm Museum
DESCRIPTION:The perfect low-sensory environment for a calmer\, quieter museum experience. \nDuring our quiet afternoon sessions\, sounds\, lights and interactive elements will be lowered or turned-off to create a low-sensory environment. \nThese sessions are intended to support a range of visitors of all ages\, including neurodiverse individuals\, people with social\, emotional\, or mental health needs\, those living with dementia\, and anyone who may benefit from or simply enjoy a quieter\, more relaxed environment. \nAccess during this event will require a valid museum ticket. \nSunday 19 April 2026\, 2pm to 4.30pm
URL:https://www.theblackmorevale.co.uk/whats-on/quiet-afternoon-at-the-fleet-air-arm-museum-2/
LOCATION:The Fleet Air Arm Museum\, RNAS Yeovilton\, Ilchester\, BA22 8HT
CATEGORIES:Family,History,lectures & Talks
ORGANIZER;CN="The Fleet Air Arm Museum":MAILTO:fleetairarm.enquiries@nmrn.org.uk
END:VEVENT
BEGIN:VEVENT
DTSTART;TZID=Europe/London:20260506T140000
DTEND;TZID=Europe/London:20260506T150000
DTSTAMP:20260421T071255
CREATED:20260320T130232Z
LAST-MODIFIED:20260320T130234Z
UID:75563-1778076000-1778079600@www.theblackmorevale.co.uk
SUMMARY:Murder at Villa Madeira: The Story of the Rattenburys Talk by Hattie Miles
DESCRIPTION:In March 1935 Bournemouth was shaken by a sensational murder. Retired architect\nFrancis Mawson Rattenbury\, aged 67\, was found dead at his home\, Villa Madeira\, on\nManor Road. This fascinating true story begins in 1867 and takes us right up to 2021\nand involves two architects\, a concert pianist and a chauffeur.\nTea and Coffee offered after event included in the ticket price. \n 
URL:https://www.theblackmorevale.co.uk/whats-on/murder-at-villa-madeira-the-story-of-the-rattenburys-talk-by-hattie-miles/
LOCATION:East Dorset Heritgae Trust\, Hanham Rd\,\, Wimborne Minster\, dorset\, BH21 1AS\, United Kingdom
CATEGORIES:lectures & Talks
END:VEVENT
END:VCALENDAR