BEGIN:VCALENDAR
VERSION:2.0
PRODID:-//The BV - ECPv6.15.20//NONSGML v1.0//EN
CALSCALE:GREGORIAN
METHOD:PUBLISH
X-ORIGINAL-URL:https://www.theblackmorevale.co.uk
X-WR-CALDESC:Events for The BV
REFRESH-INTERVAL;VALUE=DURATION:PT1H
X-Robots-Tag:noindex
X-PUBLISHED-TTL:PT1H
BEGIN:VTIMEZONE
TZID:Europe/London
BEGIN:DAYLIGHT
TZOFFSETFROM:+0000
TZOFFSETTO:+0100
TZNAME:BST
DTSTART:20240331T010000
END:DAYLIGHT
BEGIN:STANDARD
TZOFFSETFROM:+0100
TZOFFSETTO:+0000
TZNAME:GMT
DTSTART:20241027T010000
END:STANDARD
BEGIN:DAYLIGHT
TZOFFSETFROM:+0000
TZOFFSETTO:+0100
TZNAME:BST
DTSTART:20250330T010000
END:DAYLIGHT
BEGIN:STANDARD
TZOFFSETFROM:+0100
TZOFFSETTO:+0000
TZNAME:GMT
DTSTART:20251026T010000
END:STANDARD
BEGIN:DAYLIGHT
TZOFFSETFROM:+0000
TZOFFSETTO:+0100
TZNAME:BST
DTSTART:20260329T010000
END:DAYLIGHT
BEGIN:STANDARD
TZOFFSETFROM:+0100
TZOFFSETTO:+0000
TZNAME:GMT
DTSTART:20261025T010000
END:STANDARD
END:VTIMEZONE
BEGIN:VEVENT
DTSTART;TZID=Europe/London:20250629T150000
DTEND;TZID=Europe/London:20250629T170000
DTSTAMP:20260420T172320
CREATED:20250612T101450Z
LAST-MODIFIED:20250613T092021Z
UID:42769-1751209200-1751216400@www.theblackmorevale.co.uk
SUMMARY:BEE TALK and TEA
DESCRIPTION:A talk by North Dorset Beekeepers Association followed by Tea and Cake\n 
URL:https://www.theblackmorevale.co.uk/whats-on/bee-talk-and-tea/
LOCATION:Fifehead Magdalen Village Hall\, Fifehead Magdalen\, Gillingham\, SP8 5RR
CATEGORIES:lectures & Talks,tea
ATTACH;FMTTYPE=image/jpeg:https://www.theblackmorevale.co.uk/wp-content/uploads/2025/06/Beekeepers-poster-JPG.jpg
ORGANIZER;CN="Friends of FMVH":MAILTO:alison.shirley.uk@gmail.com
END:VEVENT
END:VCALENDAR