BEGIN:VCALENDAR
VERSION:2.0
PRODID:-//The BV - ECPv6.15.20//NONSGML v1.0//EN
CALSCALE:GREGORIAN
METHOD:PUBLISH
X-ORIGINAL-URL:https://www.theblackmorevale.co.uk
X-WR-CALDESC:Events for The BV
REFRESH-INTERVAL;VALUE=DURATION:PT1H
X-Robots-Tag:noindex
X-PUBLISHED-TTL:PT1H
BEGIN:VTIMEZONE
TZID:Europe/London
BEGIN:DAYLIGHT
TZOFFSETFROM:+0000
TZOFFSETTO:+0100
TZNAME:BST
DTSTART:20240331T010000
END:DAYLIGHT
BEGIN:STANDARD
TZOFFSETFROM:+0100
TZOFFSETTO:+0000
TZNAME:GMT
DTSTART:20241027T010000
END:STANDARD
BEGIN:DAYLIGHT
TZOFFSETFROM:+0000
TZOFFSETTO:+0100
TZNAME:BST
DTSTART:20250330T010000
END:DAYLIGHT
BEGIN:STANDARD
TZOFFSETFROM:+0100
TZOFFSETTO:+0000
TZNAME:GMT
DTSTART:20251026T010000
END:STANDARD
BEGIN:DAYLIGHT
TZOFFSETFROM:+0000
TZOFFSETTO:+0100
TZNAME:BST
DTSTART:20260329T010000
END:DAYLIGHT
BEGIN:STANDARD
TZOFFSETFROM:+0100
TZOFFSETTO:+0000
TZNAME:GMT
DTSTART:20261025T010000
END:STANDARD
END:VTIMEZONE
BEGIN:VEVENT
DTSTART;TZID=Europe/London:20250526T140000
DTEND;TZID=Europe/London:20250526T170000
DTSTAMP:20260420T191042
CREATED:20250512T121551Z
LAST-MODIFIED:20250512T121554Z
UID:41405-1748268000-1748278800@www.theblackmorevale.co.uk
SUMMARY:A Folk Song Walk
DESCRIPTION:Join Dorset folk singer Alastair Braidwood for a walk around fields and woods of the Blackmore Vale\, accompanied by traditional folk songs from Dorset and further afield. Explore beautiful countryside\, and hear songs relating to nature and rural ways from years before.\n\nMeet at Watercombe Dogs\, Farthing Gate Farm\, Holnest\, DT9 5PX for 2pm. Refreshments\, not included\, are provided upon our return.\n\nBring your own water bottle\, stout walking boots\, and headgear if hot. Walkers are responsible for their own surefootedness.\nThe walk will be about 4 miles and take about 3 hours\, with frequent stops for songs. Well-behaved dogs on leads are welcome\, so long as they don’t ‘sing-along’!\n\n£10 per adult in cash on arrival\, u-18s free.\n\nIn association with Dorset Rural Music School.
URL:https://www.theblackmorevale.co.uk/whats-on/a-folk-song-walk/
LOCATION:Watercombe Dogs\, Farthing Gate Farm\, Holnest\, DT9 5PX\, United Kingdom
CATEGORIES:History,lectures & Talks,live music,music
ATTACH;FMTTYPE=image/jpeg:https://www.theblackmorevale.co.uk/wp-content/uploads/2025/05/20230528_1654371.jpg
ORGANIZER;CN="Alastair Braidwood":MAILTO:Alastair.j.braidwood@outlook.com
END:VEVENT
END:VCALENDAR