BEGIN:VCALENDAR
VERSION:2.0
PRODID:-//The BV - ECPv6.15.20//NONSGML v1.0//EN
CALSCALE:GREGORIAN
METHOD:PUBLISH
X-WR-CALNAME:The BV
X-ORIGINAL-URL:https://www.theblackmorevale.co.uk
X-WR-CALDESC:Events for The BV
REFRESH-INTERVAL;VALUE=DURATION:PT1H
X-Robots-Tag:noindex
X-PUBLISHED-TTL:PT1H
BEGIN:VTIMEZONE
TZID:Europe/London
BEGIN:DAYLIGHT
TZOFFSETFROM:+0000
TZOFFSETTO:+0100
TZNAME:BST
DTSTART:20230326T010000
END:DAYLIGHT
BEGIN:STANDARD
TZOFFSETFROM:+0100
TZOFFSETTO:+0000
TZNAME:GMT
DTSTART:20231029T010000
END:STANDARD
BEGIN:DAYLIGHT
TZOFFSETFROM:+0000
TZOFFSETTO:+0100
TZNAME:BST
DTSTART:20240331T010000
END:DAYLIGHT
BEGIN:STANDARD
TZOFFSETFROM:+0100
TZOFFSETTO:+0000
TZNAME:GMT
DTSTART:20241027T010000
END:STANDARD
BEGIN:DAYLIGHT
TZOFFSETFROM:+0000
TZOFFSETTO:+0100
TZNAME:BST
DTSTART:20250330T010000
END:DAYLIGHT
BEGIN:STANDARD
TZOFFSETFROM:+0100
TZOFFSETTO:+0000
TZNAME:GMT
DTSTART:20251026T010000
END:STANDARD
END:VTIMEZONE
BEGIN:VEVENT
DTSTART;TZID=Europe/London:20240202T193000
DTEND;TZID=Europe/London:20240202T213000
DTSTAMP:20260421T164842
CREATED:20240102T110239Z
LAST-MODIFIED:20240102T110239Z
UID:23981-1706902200-1706909400@www.theblackmorevale.co.uk
SUMMARY:PETER OBORNE - TALK
DESCRIPTION:“The Assault on Truth\, Threat to Parliamentary Democracy” at Digby Memorial Hall\, Digby Road\, Sherborne. 7.00 for 7.30 – Tickets: £15.00 from Winstones Bookshop or Mary marydmc38@gmail.com 01963 251255 or on door.\nIn aid of Douzelage Conference April 2024″…….
URL:https://www.theblackmorevale.co.uk/whats-on/peter-oborne-talk/
CATEGORIES:lectures & Talks
ORGANIZER;CN="Mary Clothier":MAILTO:marydmc38@gmail.com
END:VEVENT
END:VCALENDAR