BEGIN:VCALENDAR
VERSION:2.0
PRODID:-//The BV - ECPv6.15.20//NONSGML v1.0//EN
CALSCALE:GREGORIAN
METHOD:PUBLISH
X-WR-CALNAME:The BV
X-ORIGINAL-URL:https://www.theblackmorevale.co.uk
X-WR-CALDESC:Events for The BV
REFRESH-INTERVAL;VALUE=DURATION:PT1H
X-Robots-Tag:noindex
X-PUBLISHED-TTL:PT1H
BEGIN:VTIMEZONE
TZID:Europe/London
BEGIN:DAYLIGHT
TZOFFSETFROM:+0000
TZOFFSETTO:+0100
TZNAME:BST
DTSTART:20220327T010000
END:DAYLIGHT
BEGIN:STANDARD
TZOFFSETFROM:+0100
TZOFFSETTO:+0000
TZNAME:GMT
DTSTART:20221030T010000
END:STANDARD
BEGIN:DAYLIGHT
TZOFFSETFROM:+0000
TZOFFSETTO:+0100
TZNAME:BST
DTSTART:20230326T010000
END:DAYLIGHT
BEGIN:STANDARD
TZOFFSETFROM:+0100
TZOFFSETTO:+0000
TZNAME:GMT
DTSTART:20231029T010000
END:STANDARD
BEGIN:DAYLIGHT
TZOFFSETFROM:+0000
TZOFFSETTO:+0100
TZNAME:BST
DTSTART:20240331T010000
END:DAYLIGHT
BEGIN:STANDARD
TZOFFSETFROM:+0100
TZOFFSETTO:+0000
TZNAME:GMT
DTSTART:20241027T010000
END:STANDARD
END:VTIMEZONE
BEGIN:VEVENT
DTSTART;TZID=Europe/London:20230603T140000
DTEND;TZID=Europe/London:20230603T160000
DTSTAMP:20260422T050432
CREATED:20230416T121132Z
LAST-MODIFIED:20230416T121132Z
UID:16556-1685800800-1685808000@www.theblackmorevale.co.uk
SUMMARY:Ruprt Brooke's Poetry at Shillingstone Station
DESCRIPTION:Local poet David Caddy will lead a short walk along the North Dorset Trailway and will read poems by Rupert Brooke in the railway carriage at Shillingstone Station.\nhttps://www.eventbrite.co.uk/e/rupert-brookes-poetry-at-shillingstone-station-tickets-571742726887
URL:https://www.theblackmorevale.co.uk/whats-on/ruprt-brookes-poetry-at-shillingstone-station/
LOCATION:Shillingstone Station\, St Patricks Industrial Estate\, Station Rd\, Shillingstone\,\, Blandford Forum\, DT11 0SA
CATEGORIES:Book Talks,lectures & Talks
ATTACH;FMTTYPE=image/jpeg:https://www.theblackmorevale.co.uk/wp-content/uploads/2023/04/IMGP0339.jpg
ORGANIZER;CN="Sturminster Newton Literary Festival":MAILTO:sturlitfest1@gmail.com
END:VEVENT
BEGIN:VEVENT
DTSTART;TZID=Europe/London:20230605T140000
DTEND;TZID=Europe/London:20230605T150000
DTSTAMP:20260422T050432
CREATED:20230417T094644Z
LAST-MODIFIED:20230417T094644Z
UID:16567-1685973600-1685977200@www.theblackmorevale.co.uk
SUMMARY:The Tennis Champion who Escaped the Nazis
DESCRIPTION:Writer Felice Hardy tells the remarkable story of her grandmother\, who escaped the Nazis in WW2 Vienna and played tennis at Wimbledon.
URL:https://www.theblackmorevale.co.uk/whats-on/the-tennis-champion-who-escaped-the-nazis/
LOCATION:1855 Building\, Old Market Cross\, Sturminster Newton\, DT10 1AT
CATEGORIES:Book Talks,lectures & Talks
ATTACH;FMTTYPE=image/jpeg:https://www.theblackmorevale.co.uk/wp-content/uploads/2023/04/Tennis-Champion-RGB.jpg
ORGANIZER;CN="Sturminster Newton Literary Festival":MAILTO:sturlitfest1@gmail.com
END:VEVENT
BEGIN:VEVENT
DTSTART;TZID=Europe/London:20230605T193000
DTEND;TZID=Europe/London:20230605T210000
DTSTAMP:20260422T050432
CREATED:20230419T181438Z
LAST-MODIFIED:20230419T181438Z
UID:16629-1685993400-1685998800@www.theblackmorevale.co.uk
SUMMARY:From Sturminster Newton to the White House: the Fuller Sisters in America
DESCRIPTION:A dramatic monologue performed by Rachel Alexander – as Rosalind Fuller – recounts the sisters’ three tours of America between 1911 and 1917. The drama is interspersed with the folk songs she and her sisters sang on farms\, in the high class salons of wealthy women and even the White House.\nThis piece\, written by playwright Sue Ashby\, is based on Rosalind Fuller’s memoir ‘Kissing the Joy’. Rachael Alexander is joined by Rachel Revell & Lina Felsa to perform some of the songs they sang on their tours.\nThe Fuller family lived in Bridge Street\, Sturminster Newton before and during the First World War.\nhttps://www.eventbrite.co.uk/e/from-sturminster-newton-to-the-white-house-the-fuller-sisters-in-america-tickets-592672107227
URL:https://www.theblackmorevale.co.uk/whats-on/from-sturminster-newton-to-the-white-house-the-fuller-sisters-in-america/
LOCATION:The Exchange\, Sturminster Newton\, Sturminster Newton\, DT10 1FH
CATEGORIES:Book Talks,lectures & Talks,Theatre
ATTACH;FMTTYPE=image/jpeg:https://www.theblackmorevale.co.uk/wp-content/uploads/2023/04/FULLER-SISTERS-POSTER.jpeg
ORGANIZER;CN="Sturminster Newton Literary Festival":MAILTO:sturlitfest1@gmail.com
END:VEVENT
BEGIN:VEVENT
DTSTART;TZID=Europe/London:20230609T140000
DTEND;TZID=Europe/London:20230609T150000
DTSTAMP:20260422T050432
CREATED:20230423T115011Z
LAST-MODIFIED:20230423T115011Z
UID:16728-1686319200-1686322800@www.theblackmorevale.co.uk
SUMMARY:Beyond Tess
DESCRIPTION:Michael Langridge\, in conversation with Dr Tracy Hayes \, talks about The Second Mrs Clare\, his sequel to Thomas Hardy’s ‘Tess’.\nhttps://www.eventbrite.co.uk/e/beyond-tess-tickets-567919902717
URL:https://www.theblackmorevale.co.uk/whats-on/beyond-tess/
LOCATION:The Exchange\, Sturminster Newton\, Sturminster Newton\, DT10 1FH
CATEGORIES:Book Talks,lectures & Talks
ATTACH;FMTTYPE=image/jpeg:https://www.theblackmorevale.co.uk/wp-content/uploads/2023/04/thumbnail_IMG_4049.jpg
ORGANIZER;CN="Sturminster Newton Literary Festival":MAILTO:sturlitfest1@gmail.com
END:VEVENT
BEGIN:VEVENT
DTSTART;TZID=Europe/London:20230610T130000
DTEND;TZID=Europe/London:20230610T140000
DTSTAMP:20260422T050432
CREATED:20230421T172013Z
LAST-MODIFIED:20230421T172037Z
UID:16687-1686402000-1686405600@www.theblackmorevale.co.uk
SUMMARY:A Test Pilot's Story
DESCRIPTION:Writer Chris Taylor talks about his extraordinary career as a test pilot both with the Royal Navy and with civilian aircraft.\nhttps://www.eventbrite.co.uk/e/a-test-pilots-story-tickets-578649094017
URL:https://www.theblackmorevale.co.uk/whats-on/a-test-pilots-story/
LOCATION:Sturminster Newton Library\, Bath Rd\, Sturminster Newton\, DT10 1EH
CATEGORIES:Book Talks,lectures & Talks
ATTACH;FMTTYPE=image/jpeg:https://www.theblackmorevale.co.uk/wp-content/uploads/2023/04/Test-Pilot-Cover-High-Res.jpg
ORGANIZER;CN="Sturminster Newton Literary Festival":MAILTO:sturlitfest1@gmail.com
END:VEVENT
BEGIN:VEVENT
DTSTART;TZID=Europe/London:20230610T160000
DTEND;TZID=Europe/London:20230610T170000
DTSTAMP:20260422T050432
CREATED:20230424T083637Z
LAST-MODIFIED:20230424T083637Z
UID:16755-1686412800-1686416400@www.theblackmorevale.co.uk
SUMMARY:Nature's Wonders
DESCRIPTION:Jane V. Adams talks about her latest book\, Nature’s Wonders\, and how nature inspires her writing.\nhttps://www.eventbrite.co.uk/e/natures-wonders-tickets-593662870627
URL:https://www.theblackmorevale.co.uk/whats-on/natures-wonders/
LOCATION:Sturminster Newton Library\, Bath Rd\, Sturminster Newton\, DT10 1EH
CATEGORIES:Book Talks,lectures & Talks
ATTACH;FMTTYPE=image/jpeg:https://www.theblackmorevale.co.uk/wp-content/uploads/2023/04/Natures-Wonders-Cover.jpg
ORGANIZER;CN="Sturminster Newton Literary Festival":MAILTO:sturlitfest1@gmail.com
END:VEVENT
BEGIN:VEVENT
DTSTART;TZID=Europe/London:20230617T130000
DTEND;TZID=Europe/London:20230617T170000
DTSTAMP:20260422T050432
CREATED:20230421T085928Z
LAST-MODIFIED:20230421T085928Z
UID:16661-1687006800-1687021200@www.theblackmorevale.co.uk
SUMMARY:Fitz Fun
DESCRIPTION:A family fun day in Okeford Fitzpaine. Free with donations to the play park upgrade project.\nhttps://www.facebook.com/groups/1163220527553321
URL:https://www.theblackmorevale.co.uk/whats-on/fitz-fun/
LOCATION:Okeford Fitzpaine Recreation Ground\, Castle Lane\, Okeford Fitzpaine\, DT11 0RL
CATEGORIES:Book Talks,Car Boot,charity event,Children's,Family event,Fun day,Fundraiser,lectures & Talks
ATTACH;FMTTYPE=image/jpeg:https://www.theblackmorevale.co.uk/wp-content/uploads/2023/04/336780207_2445764015589750_8507471100652196767_n.jpg
ORGANIZER;CN="Okeford Fitzpaine Parish Council":MAILTO:clerk@okefordfitzpaine-pc.gov.uk
END:VEVENT
END:VCALENDAR