BEGIN:VCALENDAR
VERSION:2.0
PRODID:-//The BV - ECPv6.15.20//NONSGML v1.0//EN
CALSCALE:GREGORIAN
METHOD:PUBLISH
X-WR-CALNAME:The BV
X-ORIGINAL-URL:https://www.theblackmorevale.co.uk
X-WR-CALDESC:Events for The BV
REFRESH-INTERVAL;VALUE=DURATION:PT1H
X-Robots-Tag:noindex
X-PUBLISHED-TTL:PT1H
BEGIN:VTIMEZONE
TZID:Europe/London
BEGIN:DAYLIGHT
TZOFFSETFROM:+0000
TZOFFSETTO:+0100
TZNAME:BST
DTSTART:20220327T010000
END:DAYLIGHT
BEGIN:STANDARD
TZOFFSETFROM:+0100
TZOFFSETTO:+0000
TZNAME:GMT
DTSTART:20221030T010000
END:STANDARD
BEGIN:DAYLIGHT
TZOFFSETFROM:+0000
TZOFFSETTO:+0100
TZNAME:BST
DTSTART:20230326T010000
END:DAYLIGHT
BEGIN:STANDARD
TZOFFSETFROM:+0100
TZOFFSETTO:+0000
TZNAME:GMT
DTSTART:20231029T010000
END:STANDARD
BEGIN:DAYLIGHT
TZOFFSETFROM:+0000
TZOFFSETTO:+0100
TZNAME:BST
DTSTART:20240331T010000
END:DAYLIGHT
BEGIN:STANDARD
TZOFFSETFROM:+0100
TZOFFSETTO:+0000
TZNAME:GMT
DTSTART:20241027T010000
END:STANDARD
END:VTIMEZONE
BEGIN:VEVENT
DTSTART;TZID=Europe/London:20230317T190000
DTEND;TZID=Europe/London:20230317T233000
DTSTAMP:20260420T210734
CREATED:20230223T135442Z
LAST-MODIFIED:20230223T135442Z
UID:14958-1679079600-1679095800@www.theblackmorevale.co.uk
SUMMARY:Owen’s World Launch Party
DESCRIPTION:We are celebrating the opening of our community interest company in memory of Owen Dunn the 18 year old sadly stabbed to death in Swindon in December.\nOur aim is to cut down on knife crime and provide more services for the youths of Swindon.
URL:https://www.theblackmorevale.co.uk/whats-on/owens-world-launch-party/
LOCATION:the moonrakers swindin\, Moonrakers pub\, Swindon\, Sn2 5aa
CATEGORIES:Fundraiser
ATTACH;FMTTYPE=image/jpeg:https://www.theblackmorevale.co.uk/wp-content/uploads/2023/02/8AA2B681-CB16-4291-83AD-EA496DE7FA11.jpeg
ORGANIZER;CN="Joanne Gonzalez":MAILTO:Owens_world@outlook.com
END:VEVENT
BEGIN:VEVENT
DTSTART;TZID=Europe/London:20230317T190000
DTEND;TZID=Europe/London:20230317T233000
DTSTAMP:20260420T210734
CREATED:20230223T135508Z
LAST-MODIFIED:20230223T135508Z
UID:14962-1679079600-1679095800@www.theblackmorevale.co.uk
SUMMARY:Owen’s World Launch Party
DESCRIPTION:We are celebrating the opening of our community interest company in memory of Owen Dunn the 18 year old sadly stabbed to death in Swindon in December.\nOur aim is to cut down on knife crime and provide more services for the youths of Swindon.
URL:https://www.theblackmorevale.co.uk/whats-on/owens-world-launch-party-2/
CATEGORIES:Fundraiser
END:VEVENT
BEGIN:VEVENT
DTSTART;TZID=Europe/London:20230318T190000
DTEND;TZID=Europe/London:20230318T220000
DTSTAMP:20260420T210734
CREATED:20230224T144152Z
LAST-MODIFIED:20230224T144152Z
UID:14994-1679166000-1679176800@www.theblackmorevale.co.uk
SUMMARY:Prize Bingo in aid of ZEM CC\, Chard.
DESCRIPTION:Prize Bingo in aid of ZEM CC\, Chard.\nChard Guildhall from 7.00 – 10.00 pm on Saturday 18th March\nFree entry\nMammouth Raffle – Refreshments being sold in aid of St. Margaret’s Hospice \nTelephone number contact is (01460) 62842 – email kayeandsimon67@gmail.com
URL:https://www.theblackmorevale.co.uk/whats-on/prize-bingo-in-aid-of-zem-cc-chard/
LOCATION:Chard Guildhall\, 14 Fore St\, Chard\, TA20 1PH
CATEGORIES:Bingo,charity event,Fundraiser
ATTACH;FMTTYPE=image/jpeg:https://www.theblackmorevale.co.uk/wp-content/uploads/2023/02/img20230224_13582485.jpg
ORGANIZER;CN="Kaye Bond":MAILTO:kayeandsimon67@gmail.com
END:VEVENT
END:VCALENDAR