BEGIN:VCALENDAR
VERSION:2.0
PRODID:-//The BV - ECPv6.15.20//NONSGML v1.0//EN
CALSCALE:GREGORIAN
METHOD:PUBLISH
X-ORIGINAL-URL:https://www.theblackmorevale.co.uk
X-WR-CALDESC:Events for The BV
REFRESH-INTERVAL;VALUE=DURATION:PT1H
X-Robots-Tag:noindex
X-PUBLISHED-TTL:PT1H
BEGIN:VTIMEZONE
TZID:Europe/London
BEGIN:DAYLIGHT
TZOFFSETFROM:+0000
TZOFFSETTO:+0100
TZNAME:BST
DTSTART:20210328T010000
END:DAYLIGHT
BEGIN:STANDARD
TZOFFSETFROM:+0100
TZOFFSETTO:+0000
TZNAME:GMT
DTSTART:20211031T010000
END:STANDARD
BEGIN:DAYLIGHT
TZOFFSETFROM:+0000
TZOFFSETTO:+0100
TZNAME:BST
DTSTART:20220327T010000
END:DAYLIGHT
BEGIN:STANDARD
TZOFFSETFROM:+0100
TZOFFSETTO:+0000
TZNAME:GMT
DTSTART:20221030T010000
END:STANDARD
BEGIN:DAYLIGHT
TZOFFSETFROM:+0000
TZOFFSETTO:+0100
TZNAME:BST
DTSTART:20230326T010000
END:DAYLIGHT
BEGIN:STANDARD
TZOFFSETFROM:+0100
TZOFFSETTO:+0000
TZNAME:GMT
DTSTART:20231029T010000
END:STANDARD
END:VTIMEZONE
BEGIN:VEVENT
DTSTART;TZID=Europe/London:20221001T100000
DTEND;TZID=Europe/London:20221001T110000
DTSTAMP:20260421T041304
CREATED:20220929T225500Z
LAST-MODIFIED:20220929T225500Z
UID:11195-1664618400-1664622000@www.theblackmorevale.co.uk
SUMMARY:Macmillan Coffee Morning
DESCRIPTION:Coffee morning to raise money for Macmillan Cancer Support.
URL:https://www.theblackmorevale.co.uk/whats-on/macmillan-coffee-morning-2/
LOCATION:Oborne Village Hall\, Oborne\, Nr Sherborne\, DT9 4LA
CATEGORIES:charity event,Coffee Morning,Fundraiser
ATTACH;FMTTYPE=:
ORGANIZER;CN="Oborne Village Events":MAILTO:oborneevents@gmail.com
END:VEVENT
BEGIN:VEVENT
DTSTART;TZID=Europe/London:20221019T170917
DTEND;TZID=Europe/London:20221019T170917
DTSTAMP:20260421T041304
CREATED:20221025T100435Z
LAST-MODIFIED:20221215T170917Z
UID:11882-1666199357-1666199357@www.theblackmorevale.co.uk
SUMMARY:The Rockbourne Fair
DESCRIPTION:Bored of high-street shopping? The Rockbourne Fair boutique shopping fair returns this Autumn\, supporting the Salisbury Hospital Stars Appeal. \nSalisbury Racecourse\nWeds 19th – Fri 21st October (late night shopping on Thurs 20th) \nFeaturing over 100 boutique suppliers with products that you simply won’t find on the high street – everything from fashion\, cosmetics and jewellery\, to luxury homeware\, gourmet food and toys. \nThe fair raises vital funds in support of the Stars Appeal\, Salisbury Hospital’s charity. Each year\, the Stars Appeal aims to raise at least £1million to enhance care for patients across all Wards and Departments at Salisbury District Hospital and support the NHS staff who care for them. Last year despite a 30% reduction in the number of stalls for Covid-safety\, the Fair managed to raise over £50\,000. \nLord Pembroke\, President of the Stars Appeal said “The Rockbourne Fair is a brilliant opportunity to support the Stars Appeal – Salisbury Hospital’s Charity\, whilst getting a head start on your Christmas shopping! We are so grateful to the voluntary organising committee for their hard work and dedication to this wonderful annual fair. The money raised will help us to fund projects that make such a difference for patients and staff at Salisbury District Hospital.” \nThe Rockbourne Fair is an unrivalled\, boutique shopping experience for the Salisbury area\, where people meet to socialise and shop\, whilst knowing that they are supporting small business owners as well as The Stars Appeal.
URL:https://www.theblackmorevale.co.uk/whats-on/the-rockbourne-fair/
LOCATION:Salisbury Racecourse\, Netherhampton\, Salisbury\, Wiltshire\, SP2 8PN\, United Kingdom
CATEGORIES:charity event,craft fair,Fundraiser
ATTACH;FMTTYPE=image/png:https://www.theblackmorevale.co.uk/wp-content/uploads/2022/10/Screenshot-2022-10-25-at-10.50.30.png
END:VEVENT
BEGIN:VEVENT
DTSTART;TZID=Europe/London:20221019T170917
DTEND;TZID=Europe/London:20221019T170917
DTSTAMP:20260421T041304
CREATED:20221025T100435Z
LAST-MODIFIED:20221215T170917Z
UID:11882-1666199357-1666199357@www.theblackmorevale.co.uk
SUMMARY:The Rockbourne Fair
DESCRIPTION:Bored of high-street shopping? The Rockbourne Fair boutique shopping fair returns this Autumn\, supporting the Salisbury Hospital Stars Appeal. \nSalisbury Racecourse\nWeds 19th – Fri 21st October (late night shopping on Thurs 20th) \nFeaturing over 100 boutique suppliers with products that you simply won’t find on the high street – everything from fashion\, cosmetics and jewellery\, to luxury homeware\, gourmet food and toys. \nThe fair raises vital funds in support of the Stars Appeal\, Salisbury Hospital’s charity. Each year\, the Stars Appeal aims to raise at least £1million to enhance care for patients across all Wards and Departments at Salisbury District Hospital and support the NHS staff who care for them. Last year despite a 30% reduction in the number of stalls for Covid-safety\, the Fair managed to raise over £50\,000. \nLord Pembroke\, President of the Stars Appeal said “The Rockbourne Fair is a brilliant opportunity to support the Stars Appeal – Salisbury Hospital’s Charity\, whilst getting a head start on your Christmas shopping! We are so grateful to the voluntary organising committee for their hard work and dedication to this wonderful annual fair. The money raised will help us to fund projects that make such a difference for patients and staff at Salisbury District Hospital.” \nThe Rockbourne Fair is an unrivalled\, boutique shopping experience for the Salisbury area\, where people meet to socialise and shop\, whilst knowing that they are supporting small business owners as well as The Stars Appeal.
URL:https://www.theblackmorevale.co.uk/whats-on/the-rockbourne-fair/
LOCATION:Salisbury Racecourse\, Netherhampton\, Salisbury\, Wiltshire\, SP2 8PN\, United Kingdom
CATEGORIES:charity event,craft fair,Fundraiser
ATTACH;FMTTYPE=image/png:https://www.theblackmorevale.co.uk/wp-content/uploads/2022/10/Screenshot-2022-10-25-at-10.50.30.png
END:VEVENT
BEGIN:VEVENT
DTSTART;TZID=Europe/London:20221028T193000
DTEND;TZID=Europe/London:20221028T213000
DTSTAMP:20260421T041304
CREATED:20220825T112728Z
LAST-MODIFIED:20220825T112728Z
UID:10375-1666985400-1666992600@www.theblackmorevale.co.uk
SUMMARY:Teddy20 Evening of Mediumship
DESCRIPTION:Another Medium Night? You got it! \nJoin us on Friday 28th October for Teddy20’s evening of mediumship at Pimperne Village Hall with mediums Andy Ford & Carol Kitson. Tickets are £12.50pp\, contact Veronica on 07961796585 – We’ll see you there!
URL:https://www.theblackmorevale.co.uk/whats-on/teddy20-evening-of-mediumship/
LOCATION:Pimperne Village Hall\, Newfield Rd\, Pimperne\, DT11 8UZ
CATEGORIES:charity event,Fundraiser
ATTACH;FMTTYPE=image/png:https://www.theblackmorevale.co.uk/wp-content/uploads/2022/08/T20-Evening-of-mediumship-FBPost-120822-1.png
END:VEVENT
END:VCALENDAR