BEGIN:VCALENDAR
VERSION:2.0
PRODID:-//The BV - ECPv6.15.20//NONSGML v1.0//EN
CALSCALE:GREGORIAN
METHOD:PUBLISH
X-WR-CALNAME:The BV
X-ORIGINAL-URL:https://www.theblackmorevale.co.uk
X-WR-CALDESC:Events for The BV
REFRESH-INTERVAL;VALUE=DURATION:PT1H
X-Robots-Tag:noindex
X-PUBLISHED-TTL:PT1H
BEGIN:VTIMEZONE
TZID:Europe/London
BEGIN:DAYLIGHT
TZOFFSETFROM:+0000
TZOFFSETTO:+0100
TZNAME:BST
DTSTART:20210328T010000
END:DAYLIGHT
BEGIN:STANDARD
TZOFFSETFROM:+0100
TZOFFSETTO:+0000
TZNAME:GMT
DTSTART:20211031T010000
END:STANDARD
BEGIN:DAYLIGHT
TZOFFSETFROM:+0000
TZOFFSETTO:+0100
TZNAME:BST
DTSTART:20220327T010000
END:DAYLIGHT
BEGIN:STANDARD
TZOFFSETFROM:+0100
TZOFFSETTO:+0000
TZNAME:GMT
DTSTART:20221030T010000
END:STANDARD
BEGIN:DAYLIGHT
TZOFFSETFROM:+0000
TZOFFSETTO:+0100
TZNAME:BST
DTSTART:20230326T010000
END:DAYLIGHT
BEGIN:STANDARD
TZOFFSETFROM:+0100
TZOFFSETTO:+0000
TZNAME:GMT
DTSTART:20231029T010000
END:STANDARD
END:VTIMEZONE
BEGIN:VEVENT
DTSTART;TZID=Europe/London:20220827T110000
DTEND;TZID=Europe/London:20220827T140000
DTSTAMP:20260421T072258
CREATED:20220816T143641Z
LAST-MODIFIED:20220816T143641Z
UID:10071-1661598000-1661608800@www.theblackmorevale.co.uk
SUMMARY:Craft Fair & Afternoon Teas
DESCRIPTION:Our increasingly popular Craft Fairs with Afternoon Tea at Sixpenny Handley Village Hall continue on Saturday 27 August from 11.00 am to 2.00 pm. \nThere will be various arts\, crafts and homemade produce stalls\, including wood turned products\, jewellery\, bags\, cards and many more. There will also be a spinning demonstration by our resident village crafter where you can learn how to spin simply using a stick! Children and adults will also have a chance to have a go at using a spindle. \nTo accompany your pot of tea or mug of coffee\, there will be a variety of freshly made sandwiches\, scones with jam and cream (or cream and jam if you prefer!) plus an array of delicious homemade cakes. \nWe are a friendly bunch of volunteers who are running this free event for all the family to raise funds for our village hall. So\, if you’re looking for something to do for a couple of hours on 27 August why not come along and join in the fun; we look forward to welcoming you to our hall. There’s plenty of parking and we are keeping our fingers crossed that the sun will shine so that you can enjoy your tea outside. \nWe are intending to continue to run these events monthly so if you are interested in having a table at a future event\, please do get in touch. The next event is planned for Saturday 24 September. For more information or to book a table\, please contact us at: 6dhandleyhall@gmail.com or 07951 056069
URL:https://www.theblackmorevale.co.uk/whats-on/craft-fair-afternoon-teas/
LOCATION:Sixpenny Handley Village Hall\, Common Road\, Sixpenny Handley\, Near Salisbury\, SP5 5NJ
CATEGORIES:craft fair,Crafts,Family,Food & Drink,Fundraiser
ATTACH;FMTTYPE=image/jpeg:https://www.theblackmorevale.co.uk/wp-content/uploads/2022/08/Craft-Fair-July-2022.jpg
ORGANIZER;CN="Sixpenny Handley Village Hall":MAILTO:6dhandleyhall@gmail.com
END:VEVENT
END:VCALENDAR