BEGIN:VCALENDAR
VERSION:2.0
PRODID:-//The BV - ECPv6.15.20//NONSGML v1.0//EN
CALSCALE:GREGORIAN
METHOD:PUBLISH
X-ORIGINAL-URL:https://www.theblackmorevale.co.uk
X-WR-CALDESC:Events for The BV
REFRESH-INTERVAL;VALUE=DURATION:PT1H
X-Robots-Tag:noindex
X-PUBLISHED-TTL:PT1H
BEGIN:VTIMEZONE
TZID:Europe/London
BEGIN:DAYLIGHT
TZOFFSETFROM:+0000
TZOFFSETTO:+0100
TZNAME:BST
DTSTART:20210328T010000
END:DAYLIGHT
BEGIN:STANDARD
TZOFFSETFROM:+0100
TZOFFSETTO:+0000
TZNAME:GMT
DTSTART:20211031T010000
END:STANDARD
BEGIN:DAYLIGHT
TZOFFSETFROM:+0000
TZOFFSETTO:+0100
TZNAME:BST
DTSTART:20220327T010000
END:DAYLIGHT
BEGIN:STANDARD
TZOFFSETFROM:+0100
TZOFFSETTO:+0000
TZNAME:GMT
DTSTART:20221030T010000
END:STANDARD
BEGIN:DAYLIGHT
TZOFFSETFROM:+0000
TZOFFSETTO:+0100
TZNAME:BST
DTSTART:20230326T010000
END:DAYLIGHT
BEGIN:STANDARD
TZOFFSETFROM:+0100
TZOFFSETTO:+0000
TZNAME:GMT
DTSTART:20231029T010000
END:STANDARD
END:VTIMEZONE
BEGIN:VEVENT
DTSTART;TZID=Europe/London:20220703T163000
DTEND;TZID=Europe/London:20220703T213000
DTSTAMP:20260421T084054
CREATED:20220509T161257Z
LAST-MODIFIED:20220509T161257Z
UID:7938-1656865800-1656883800@www.theblackmorevale.co.uk
SUMMARY:Ukraine Charity Concert 3rd July
DESCRIPTION:The Pilgrim Singers present Singing for Ukraine on Sunday 3rd July at Clementina’s Garden\, High Street Wincanton. Tickets £14 (to include Pimms-or soft drink\, strawberries and cream) U 16s free. From Wincanton PO and Wincanton Fruit and Veg (Coles Yard). Gardens open 4.30 pm so bring a picnic. Enquiries 01963 33695.
URL:https://www.theblackmorevale.co.uk/whats-on/ukraine-charity-concert-3rd-july/
LOCATION:Clementina’s Garden\, High Street\, Wincanton\, Clementina's Garden High Street Wincanton BA9\, Wincanton\, BA99BQ\, United Kingdom
CATEGORIES:Fundraiser
ATTACH;FMTTYPE=:
ORGANIZER;CN="The Pilgrim Singers":MAILTO:chris@fentonfamilylaw.co.uk
END:VEVENT
BEGIN:VEVENT
DTSTART;TZID=Europe/London:20220706T120000
DTEND;TZID=Europe/London:20220706T190000
DTSTAMP:20260421T084054
CREATED:20220617T111910Z
LAST-MODIFIED:20220617T111910Z
UID:9085-1657108800-1657134000@www.theblackmorevale.co.uk
SUMMARY:Hillbrush Charity Tours
DESCRIPTION:To celebrate 100 years in business\, Hillbrush are hosting a charity day for the public. This is an opportunity to see behind the scenes at Hillbrush and tour our factory grounds. Our staff will provide insight into the history of the business\, machinery and brush making. You will get a chance to see a real working environment in operation and follow the production of our brushes from start to finish. \nCost is £10 pp* and all proceeds will be donated to the Royal Warrant Holders Charity Fund. A discount will be available with each ticket to be used for food & beverage\, or in the shop at Visit Hillbrush. \n*Please note children under 10 will not be permitted on the tour
URL:https://www.theblackmorevale.co.uk/whats-on/hillbrush-charity-tours/
LOCATION:Hillbrush\, Norwood Park\, Mere\, BA126FE\, United Kingdom
CATEGORIES:charity event,Family event,Food & Drink,Fundraiser
ATTACH;FMTTYPE=image/jpeg:https://www.theblackmorevale.co.uk/wp-content/uploads/2022/06/Hillbrush-Staff-100-scaled.jpg
ORGANIZER;CN="Hillbrush":MAILTO:marketing@hillbrush.com
END:VEVENT
END:VCALENDAR