BEGIN:VCALENDAR
VERSION:2.0
PRODID:-//The BV - ECPv6.15.20//NONSGML v1.0//EN
CALSCALE:GREGORIAN
METHOD:PUBLISH
X-WR-CALNAME:The BV
X-ORIGINAL-URL:https://www.theblackmorevale.co.uk
X-WR-CALDESC:Events for The BV
REFRESH-INTERVAL;VALUE=DURATION:PT1H
X-Robots-Tag:noindex
X-PUBLISHED-TTL:PT1H
BEGIN:VTIMEZONE
TZID:Europe/London
BEGIN:DAYLIGHT
TZOFFSETFROM:+0000
TZOFFSETTO:+0100
TZNAME:BST
DTSTART:20210328T010000
END:DAYLIGHT
BEGIN:STANDARD
TZOFFSETFROM:+0100
TZOFFSETTO:+0000
TZNAME:GMT
DTSTART:20211031T010000
END:STANDARD
BEGIN:DAYLIGHT
TZOFFSETFROM:+0000
TZOFFSETTO:+0100
TZNAME:BST
DTSTART:20220327T010000
END:DAYLIGHT
BEGIN:STANDARD
TZOFFSETFROM:+0100
TZOFFSETTO:+0000
TZNAME:GMT
DTSTART:20221030T010000
END:STANDARD
BEGIN:DAYLIGHT
TZOFFSETFROM:+0000
TZOFFSETTO:+0100
TZNAME:BST
DTSTART:20230326T010000
END:DAYLIGHT
BEGIN:STANDARD
TZOFFSETFROM:+0100
TZOFFSETTO:+0000
TZNAME:GMT
DTSTART:20231029T010000
END:STANDARD
END:VTIMEZONE
BEGIN:VEVENT
DTSTART;TZID=Europe/London:20220611T100000
DTEND;TZID=Europe/London:20220611T120000
DTSTAMP:20260421T095517
CREATED:20220517T181413Z
LAST-MODIFIED:20220517T181413Z
UID:8359-1654941600-1654948800@www.theblackmorevale.co.uk
SUMMARY:Cake Sale
DESCRIPTION:Sale of delicious cakes\, biscuits and delicacies along with teas\, coffee and soft drinks. All money raised is going towards the upkeep of Oborne Playing Field.
URL:https://www.theblackmorevale.co.uk/whats-on/cake-sale/
LOCATION:Oborne Playing Field\, Oborne\, Nr Sherborne DT9 4LA\, Oborne Playing Field\, Nr Sherborne\, DT9 4LA\, United Kingdom
CATEGORIES:charity event,Coffee Morning,Family,Fundraiser,SALE
ATTACH;FMTTYPE=image/png:https://www.theblackmorevale.co.uk/wp-content/uploads/2022/05/Cake-Sale.png
ORGANIZER;CN="Karen Perryman":MAILTO:oborneevents@gmail.com
END:VEVENT
BEGIN:VEVENT
DTSTART;TZID=Europe/London:20220611T183000
DTEND;TZID=Europe/London:20220611T230000
DTSTAMP:20260421T095517
CREATED:20220331T123631Z
LAST-MODIFIED:20220331T123631Z
UID:6664-1654972200-1654988400@www.theblackmorevale.co.uk
SUMMARY:Ukraine farmers Charity Music Evening at The Langton Arms
DESCRIPTION:Join us at The Langton Arms\, Tarrant Monkton\, DT118RX for a charity music evening. There will be a ploughman’s supper served between 7.30-8.30pm. Rock waves band will be playing from 9pm. All profits will go towards the Ukrainian farmers fund.\nTickets are £15 per person.
URL:https://www.theblackmorevale.co.uk/whats-on/ukraine-farmers-charity-music-evening-at-the-langton-arms-2/
LOCATION:The Langton Arms\, THE LANGTON ARMS\, BLANDFORD FORUM\, DT11 8RX\, United Kingdom
CATEGORIES:Food & Drink,Fundraiser,Music Gig
ATTACH;FMTTYPE=image/png:https://www.theblackmorevale.co.uk/wp-content/uploads/2022/03/Live-music-night-June-11th.png
END:VEVENT
BEGIN:VEVENT
DTSTART;TZID=Europe/London:20220616T100000
DTEND;TZID=Europe/London:20220616T113000
DTSTAMP:20260421T095517
CREATED:20220509T111358Z
LAST-MODIFIED:20220509T111358Z
UID:7897-1655373600-1655379000@www.theblackmorevale.co.uk
SUMMARY:Lewis-Manning Hospice Care's Rick Stein Coffee Morning
DESCRIPTION:Rick Stein in Sandbanks are hosting a coffee morning event in aid of Lewis-Manning Hospice Care and we would love you to join us for coffee\, cake and a raffle! \nWHERE: Rick Stein\, Sandbanks\, BH13 7QB \nWHEN: 10am – 11.30am – Thursday 16th June 2022 \nCOST: £12.50 per ticket (includes 5 raffle tickets & fabulous refreshments)\nBook you tickets here: https://lewis-manning.org.uk/rick-stein-coffee-morning/ \nWhy not get a small group of friends together to enjoy a casual coffee and cake with the beautiful back drop of Sandbanks at Rick Stein. Ticket price includes a strip of raffle tickets with some fabulous prizes on offer. \nAll proceeds go to Lewis-Manning Hospice Care & we look forward to seeing you there!
URL:https://www.theblackmorevale.co.uk/whats-on/lewis-manning-hospice-cares-rick-stein-coffee-morning/
LOCATION:Rick Stein\, 10-14 Banks Road\, Poole\, BH13 7QB
CATEGORIES:charity event,Coffee Morning,Family,Food & Drink,Fundraiser
ATTACH;FMTTYPE=image/jpeg:https://www.theblackmorevale.co.uk/wp-content/uploads/2022/05/RScakeand-ticket.jpg
END:VEVENT
BEGIN:VEVENT
DTSTART;TZID=Europe/London:20220619T110000
DTEND;TZID=Europe/London:20220619T170000
DTSTAMP:20260421T095517
CREATED:20220331T131722Z
LAST-MODIFIED:20220331T131722Z
UID:6678-1655636400-1655658000@www.theblackmorevale.co.uk
SUMMARY:Child Okeford Open Gardens
DESCRIPTION:Around 20 village gardens will be open to visitors at a cost of £5 per person. Tickets will be available on the day from the Community Centre (post code DT11 8EW)\, where there will refreshment s(tea and cakes) and toilet facilities available\, and also plants for sale. Tickets and toilet facilities will also be available from the Village Hall (post code DT11 8EX). Unfortunately\, no dogs\, but children under 12 free. \nProceeds will be split between the Village Hall and the Community Centre\, both of which are currently fundraising for urgent repairs and upgrades.
URL:https://www.theblackmorevale.co.uk/whats-on/child-okeford-open-gardens/
LOCATION:Child Okeford Community Centre\, Station Road\, Child Okeford\, Dorset\, DT11 8EW
CATEGORIES:Fundraiser
ORGANIZER;CN="Child":MAILTO:j.shonfield@gmail.com
END:VEVENT
BEGIN:VEVENT
DTSTART;TZID=Europe/London:20220619T110000
DTEND;TZID=Europe/London:20220619T170000
DTSTAMP:20260421T095517
CREATED:20220421T110030Z
LAST-MODIFIED:20220421T110030Z
UID:7685-1655636400-1655658000@www.theblackmorevale.co.uk
SUMMARY:Child Okeford Open Gardens Day
DESCRIPTION:Child Okeford Open Gardens Day\, Sunday\, 19 June\, from 11:00 am to 5:00 pm:.There will be around 20 gardens open to visit in the village\, which nestles under picturesque Hambledon Hill (NT). Tickets will be available\, £5 per person\, children free\, on the day from both the Community Centre in Station Road (post code DT11 8EW)\, and the Village Hall in The Hollow (post code DT11 8EX). Teas and cakes will be available at the Community Centre\, where there will also be plants for sale.
URL:https://www.theblackmorevale.co.uk/whats-on/child-okeford-open-gardens-day/
LOCATION:Child Okeford Community Centre\, Station Road\, Child Okeford\, Dorset\, DT11 8EW
CATEGORIES:Fundraiser
ATTACH;FMTTYPE=image/jpeg:https://www.theblackmorevale.co.uk/wp-content/uploads/2022/04/OG-poster-scaled.jpeg
ORGANIZER;CN="Child Okeford Gardeners Club":MAILTO:j.shonfield@gmail.com
END:VEVENT
BEGIN:VEVENT
DTSTART;TZID=Europe/London:20220625T190000
DTEND;TZID=Europe/London:20220625T223000
DTSTAMP:20260421T095517
CREATED:20220528T093233Z
LAST-MODIFIED:20220528T093233Z
UID:8624-1656183600-1656196200@www.theblackmorevale.co.uk
SUMMARY:Oborne Barn Dance
DESCRIPTION:Family Barn Dance with Ceilidh Band Four Foot Four. Skittles and bar. Ticket price includes a Ploughman’s meal. £12 adults\, £6 (16 and under). Ivy House Barn\, Oborne\, Nr Sherborne\, Dorset DT9 4JY (on corner of A30 and turning into Oborne Village). Tickets can be purchased by contacting oborneevents@gmail.com or Tel: 07866933736. All money raised will go towards the Village Hall\, Playing Field and Church.
URL:https://www.theblackmorevale.co.uk/whats-on/oborne-barn-dance/
LOCATION:Ivy House Barn\, Oborne\, Nr Sherborne DT9 4JY\, Ivy House Barn\, Oborne\, Nr Sherborne\, DT9 4JY
CATEGORIES:Dance,Family event,Fundraiser
ATTACH;FMTTYPE=image/png:https://www.theblackmorevale.co.uk/wp-content/uploads/2022/05/Screenshot-855.png
ORGANIZER;CN="Oborne Village Events":MAILTO:oborneevents@gmail.com
END:VEVENT
END:VCALENDAR