BEGIN:VCALENDAR
VERSION:2.0
PRODID:-//The BV - ECPv6.15.20//NONSGML v1.0//EN
CALSCALE:GREGORIAN
METHOD:PUBLISH
X-ORIGINAL-URL:https://www.theblackmorevale.co.uk
X-WR-CALDESC:Events for The BV
REFRESH-INTERVAL;VALUE=DURATION:PT1H
X-Robots-Tag:noindex
X-PUBLISHED-TTL:PT1H
BEGIN:VTIMEZONE
TZID:Europe/London
BEGIN:DAYLIGHT
TZOFFSETFROM:+0000
TZOFFSETTO:+0100
TZNAME:BST
DTSTART:20210328T010000
END:DAYLIGHT
BEGIN:STANDARD
TZOFFSETFROM:+0100
TZOFFSETTO:+0000
TZNAME:GMT
DTSTART:20211031T010000
END:STANDARD
BEGIN:DAYLIGHT
TZOFFSETFROM:+0000
TZOFFSETTO:+0100
TZNAME:BST
DTSTART:20220327T010000
END:DAYLIGHT
BEGIN:STANDARD
TZOFFSETFROM:+0100
TZOFFSETTO:+0000
TZNAME:GMT
DTSTART:20221030T010000
END:STANDARD
BEGIN:DAYLIGHT
TZOFFSETFROM:+0000
TZOFFSETTO:+0100
TZNAME:BST
DTSTART:20230326T010000
END:DAYLIGHT
BEGIN:STANDARD
TZOFFSETFROM:+0100
TZOFFSETTO:+0000
TZNAME:GMT
DTSTART:20231029T010000
END:STANDARD
END:VTIMEZONE
BEGIN:VEVENT
DTSTART;VALUE=DATE:20220429
DTEND;VALUE=DATE:20220502
DTSTAMP:20260421T111142
CREATED:20220414T103120Z
LAST-MODIFIED:20220414T103120Z
UID:7609-1651190400-1651449599@www.theblackmorevale.co.uk
SUMMARY:Teddy Rocks Festival 2022
DESCRIPTION:Teddy Rocks is a 3 day family-friendly rock music event in Blandford\, Dorset\, UK – Home to some of the biggest acts in the UK. \nTeddy Rocks Festival started with a small gig in 2011 to raise money for Teddy20\, a children’s cancer charity founded by Tom Newton and his family after he lost his 10 year old brother Ted to a very rare bone cancer. \nTickets can be brought from teddyrocks.co.uk
URL:https://www.theblackmorevale.co.uk/whats-on/teddy-rocks-festival-2022/
LOCATION:Teddy Rocks Festival\, Charisworth Farm Cottage\, Blandford Forum\, DT11 9AL
CATEGORIES:charity event,Family,Festival,Fundraiser,Music Gig
ATTACH;FMTTYPE=image/png:https://www.theblackmorevale.co.uk/wp-content/uploads/2022/04/TR_Lockup_Redslogan.png.png
END:VEVENT
BEGIN:VEVENT
DTSTART;VALUE=DATE:20220429
DTEND;VALUE=DATE:20220502
DTSTAMP:20260421T111142
CREATED:20220414T103131Z
LAST-MODIFIED:20220414T103131Z
UID:7612-1651190400-1651449599@www.theblackmorevale.co.uk
SUMMARY:Teddy Rocks Festival 2022
DESCRIPTION:Teddy Rocks is a 3 day family-friendly rock music event in Blandford\, Dorset\, UK – Home to some of the biggest acts in the UK. \nTeddy Rocks Festival started with a small gig in 2011 to raise money for Teddy20\, a children’s cancer charity founded by Tom Newton and his family after he lost his 10 year old brother Ted to a very rare bone cancer. \nTickets can be brought from teddyrocks.co.uk
URL:https://www.theblackmorevale.co.uk/whats-on/teddy-rocks-festival-2022-2/
CATEGORIES:charity event,Family,Festival,Fundraiser,Music Gig
ATTACH;FMTTYPE=:
END:VEVENT
BEGIN:VEVENT
DTSTART;TZID=Europe/London:20220501T100000
DTEND;TZID=Europe/London:20220501T160000
DTSTAMP:20260421T111142
CREATED:20220325T134419Z
LAST-MODIFIED:20220325T134419Z
UID:6455-1651399200-1651420800@www.theblackmorevale.co.uk
SUMMARY:Pop Up Cafe
DESCRIPTION:Pop up cafe offering delicious food and hot and cold drinks. Everyone welcome. \nStourton Memorial Hall is a perfect place to visit before or after a stroll around the estate and gardens at Stourhead. \nAll proceeds in aid of Whitesheet Primary Academy\, Zeals
URL:https://www.theblackmorevale.co.uk/whats-on/pop-up-cafe/
LOCATION:Stourton Memorial Hall\, Spreadeagle Courtyard\, Stourton\, BA12 6QE
CATEGORIES:Fundraiser
END:VEVENT
BEGIN:VEVENT
DTSTART;TZID=Europe/London:20220501T100000
DTEND;TZID=Europe/London:20220501T160000
DTSTAMP:20260421T111142
CREATED:20220325T134419Z
LAST-MODIFIED:20220325T134419Z
UID:6455-1651399200-1651420800@www.theblackmorevale.co.uk
SUMMARY:Pop Up Cafe
DESCRIPTION:Pop up cafe offering delicious food and hot and cold drinks. Everyone welcome. \nStourton Memorial Hall is a perfect place to visit before or after a stroll around the estate and gardens at Stourhead. \nAll proceeds in aid of Whitesheet Primary Academy\, Zeals
URL:https://www.theblackmorevale.co.uk/whats-on/pop-up-cafe/
LOCATION:Stourton Memorial Hall\, Spreadeagle Courtyard\, Stourton\, BA12 6QE
CATEGORIES:Fundraiser
END:VEVENT
BEGIN:VEVENT
DTSTART;TZID=Europe/London:20220513T193000
DTEND;TZID=Europe/London:20220513T220000
DTSTAMP:20260421T111142
CREATED:20220419T093644Z
LAST-MODIFIED:20220419T093644Z
UID:7630-1652470200-1652479200@www.theblackmorevale.co.uk
SUMMARY:Concert for Ukraine
DESCRIPTION:A fundraising concert for Ukraine featuring Celebrity Organist Thomas Trotter (Birmingham City Organist) and Guests: David Briggs (Organist\, St John the Divine\, NYC)\, Keith Hearnshaw (Concert Organist)\, Jonathan Hope (Organist\, Gloucester Cathedral)\, Duncan Honeybourne (Concert Pianist) and Rex Wickham (Treble). \nThe concert has been organised to raise money for the Disasters Emergency Committee (DEC) and its response to the Russian invasion. Everyone involved\, including all of the performers\, are giving their services without charge so 100% of funds raised will go to the appeal. WeGotTickets will also be donating 20% of the Booking Fee to the DEC. \nPlease come along and support this important cause.
URL:https://www.theblackmorevale.co.uk/whats-on/concert-for-ukraine-2/
LOCATION:Gillingham Methodist Church\, High St\, Gillingham\, SP8 4AG\, United Kingdom
CATEGORIES:charity event,Classical Music,Fundraiser,music
ATTACH;FMTTYPE=image/jpeg:https://www.theblackmorevale.co.uk/wp-content/uploads/2022/04/Ukraine-Concert-Poster-no-logo.jpg
ORGANIZER;CN="Music at GMC":MAILTO:organ1234@btinternet.com
END:VEVENT
BEGIN:VEVENT
DTSTART;TZID=Europe/London:20220521T130000
DTEND;TZID=Europe/London:20220521T170000
DTSTAMP:20260421T111142
CREATED:20220317T210731Z
LAST-MODIFIED:20220520T160746Z
UID:6246-1653138000-1653152400@www.theblackmorevale.co.uk
SUMMARY:Hedgehog Craft Fayre
DESCRIPTION:Over 30 local Craft stalls selling hand made crafts. The Fayre is to help the local Hedgehog Rescue at Hazelbury Bryan.\nHeld at The Pavilion in Hazelbury Bryan Opposite The Antelope pub. Starts at 1pm and finish at 5pm serving Coffee and Tea with cake\, free parking and helpful hedgehog advice.
URL:https://www.theblackmorevale.co.uk/whats-on/hedgehog-craft-fayre/
LOCATION:Hazelbury Bryan\, Pidney Hill\, Hazelbury Bryan\, Dorset\, DT10 2EB\, United Kingdom
CATEGORIES:Fundraiser,Wildlife
ATTACH;FMTTYPE=:
ORGANIZER;CN="Jeanette Hampstead":MAILTO:nhampstead@hotmail.com
END:VEVENT
BEGIN:VEVENT
DTSTART;TZID=Europe/London:20220528T110000
DTEND;TZID=Europe/London:20220528T140000
DTSTAMP:20260421T111142
CREATED:20220516T152831Z
LAST-MODIFIED:20220516T152831Z
UID:8334-1653735600-1653746400@www.theblackmorevale.co.uk
SUMMARY:Craft Fair & Afternoon Teas for all the family at Sixpenny Handley Village Hall on Saturday 28 May
DESCRIPTION:Come and join us at our inaugural Craft Fair with Afternoon Tea at Sixpenny Handley Village Hall from 11.00 am to 2.00 pm on Saturday 28 May. \nThere will be various arts\, crafts and homemade produce stalls\, including wax melts\, jewellery\, bags\, cards and many more. There will also be a spinning demonstration by our resident village crafter where you can learn how to spin simply using a stick! Children and adults will also have a chance to have a go at using a spindle. \nTo accompany your cup of tea or coffee\, there will be bacon rolls (for early birds)\, sandwiches\, scones with jam and cream (or cream and jam if you prefer!) plus an array of delicious homemade cakes. \nWe are a friendly bunch of volunteers who are running this free event for all the family to raise funds for our village hall. So\, if you’re looking for something to do for a couple of hours on 28 May come along and join in the fun; we look forward to welcoming you to our hall. There’s plenty of parking and we are keeping our fingers crossed that the sun will shine so that you can enjoy your tea outside. \nWe will be running these events monthly during the summer so if you are interested in having a table at a future event\, please do get in touch. The next event is planned for Saturday 25 June.
URL:https://www.theblackmorevale.co.uk/whats-on/craft-fair-afternoon-teas-for-all-the-family-at-sixpenny-handley-village-hall-on-saturday-28-may/
LOCATION:Sixpenny Handley Village Hall\, Common Road\, Sixpenny Handley\, Near Salisbury\, SP5 5NJ
CATEGORIES:craft fair,Crafts,Family,Fundraiser
ATTACH;FMTTYPE=:
ORGANIZER;CN="Sixpenny Handley Village Hall":MAILTO:6dhandleyhall@gmail.com
END:VEVENT
BEGIN:VEVENT
DTSTART;TZID=Europe/London:20220529T110000
DTEND;TZID=Europe/London:20220529T163000
DTSTAMP:20260421T111142
CREATED:20220404T164105Z
LAST-MODIFIED:20220404T164105Z
UID:6836-1653822000-1653841800@www.theblackmorevale.co.uk
SUMMARY:Turnworth DT11 0EE
DESCRIPTION:Friendly event for all the family being held in large Old Rectory garden in this rural hamlet.\nStrong historic connections with Thomas Hardy – see Hardy’s Owl in adjacent church.\nCome & enjoy:\n– Teas – Plants & Produce – Bric-a-brac – Music – Kids’ activities & more….\nRaising funds for the upkeep of St Mary’s church\nFree entry/parking
URL:https://www.theblackmorevale.co.uk/whats-on/turnworth-dt11-0ee/
CATEGORIES:Fete,Fundraiser
END:VEVENT
BEGIN:VEVENT
DTSTART;TZID=Europe/London:20220529T110000
DTEND;TZID=Europe/London:20220529T163000
DTSTAMP:20260421T111142
CREATED:20220409T142010Z
LAST-MODIFIED:20220409T142010Z
UID:7177-1653822000-1653841800@www.theblackmorevale.co.uk
SUMMARY:Turnworth DT11 0EE
DESCRIPTION:Friendly event for all the family: held in Old Rectory garden; teas; plants & produce; bric-a-brac; music; kids’ fun. Free entry/parking. Funds being raised for upkeep of St Mary’s Church which has strong Thomas Hardy connections. Beautiful location!
URL:https://www.theblackmorevale.co.uk/whats-on/turnworth-dt11-0ee-2/
LOCATION:Turnworth DT11 0EE\, Turnworth\, Blandford Forum\, DT11 0EE
CATEGORIES:Family,Fundraiser
ATTACH;FMTTYPE=image/jpeg:https://www.theblackmorevale.co.uk/wp-content/uploads/2022/04/turnworth_in_May_2022-002-2-scaled.jpg
ORGANIZER;CN="Sarah Heald":MAILTO:sml.philbrick@btinternet.com
END:VEVENT
END:VCALENDAR