BEGIN:VCALENDAR
VERSION:2.0
PRODID:-//The BV - ECPv6.15.20//NONSGML v1.0//EN
CALSCALE:GREGORIAN
METHOD:PUBLISH
X-WR-CALNAME:The BV
X-ORIGINAL-URL:https://www.theblackmorevale.co.uk
X-WR-CALDESC:Events for The BV
REFRESH-INTERVAL;VALUE=DURATION:PT1H
X-Robots-Tag:noindex
X-PUBLISHED-TTL:PT1H
BEGIN:VTIMEZONE
TZID:Europe/London
BEGIN:DAYLIGHT
TZOFFSETFROM:+0000
TZOFFSETTO:+0100
TZNAME:BST
DTSTART:20210328T010000
END:DAYLIGHT
BEGIN:STANDARD
TZOFFSETFROM:+0100
TZOFFSETTO:+0000
TZNAME:GMT
DTSTART:20211031T010000
END:STANDARD
BEGIN:DAYLIGHT
TZOFFSETFROM:+0000
TZOFFSETTO:+0100
TZNAME:BST
DTSTART:20220327T010000
END:DAYLIGHT
BEGIN:STANDARD
TZOFFSETFROM:+0100
TZOFFSETTO:+0000
TZNAME:GMT
DTSTART:20221030T010000
END:STANDARD
BEGIN:DAYLIGHT
TZOFFSETFROM:+0000
TZOFFSETTO:+0100
TZNAME:BST
DTSTART:20230326T010000
END:DAYLIGHT
BEGIN:STANDARD
TZOFFSETFROM:+0100
TZOFFSETTO:+0000
TZNAME:GMT
DTSTART:20231029T010000
END:STANDARD
END:VTIMEZONE
BEGIN:VEVENT
DTSTART;TZID=Europe/London:20220404T193000
DTEND;TZID=Europe/London:20220404T213000
DTSTAMP:20260421T123107
CREATED:20220323T160602Z
LAST-MODIFIED:20220323T160602Z
UID:6394-1649100600-1649107800@www.theblackmorevale.co.uk
SUMMARY:Easter Bingo - Gillingham Carnival Committee
DESCRIPTION:Easter Prize Bingo\, Monday 4th April 2022. at Vicarage School Rooms Gillingham Dorset.\nDoors open 7:00 pm\, eyes down 7:45 pm. Run by and in aid of Gillingham Carnival
URL:https://www.theblackmorevale.co.uk/whats-on/easter-bingo-gillingham-carnival-committee/
LOCATION:Gillingham\, Vicarage School Rooms\, GILLINGHAM
CATEGORIES:Bingo,Fundraiser
END:VEVENT
BEGIN:VEVENT
DTSTART;TZID=Europe/London:20220416T103000
DTEND;TZID=Europe/London:20220416T123000
DTSTAMP:20260421T123107
CREATED:20220321T120243Z
LAST-MODIFIED:20220321T120243Z
UID:6294-1650105000-1650112200@www.theblackmorevale.co.uk
SUMMARY:The Big Yellow Bus Garden Project Easter Egg Hunt
DESCRIPTION:The Big Yellow Bus Easter Egg Hunt takes place on Saturday 16th April between 10.30am and 12.30pm. Entry is free and it’s great fun for the whole family. With thanks to Shillingstone Co-Op for supporting this event once again.\nThe Big Yellow Bus Garden Project is located alongside the North Dorset Trailway at Shillingstone\, between Blandford Forum and Sturminster Newton\,
URL:https://www.theblackmorevale.co.uk/whats-on/the-big-yellow-bus-garden-project-easter-egg-hunt/
LOCATION:The Big Yellow Bus Garden Project\, Shillingstone
CATEGORIES:Children's,Fundraiser
ATTACH;FMTTYPE=image/jpeg:https://www.theblackmorevale.co.uk/wp-content/uploads/2022/03/Big-Yellow-Bus-Logo-May-21.jpg
END:VEVENT
BEGIN:VEVENT
DTSTART;TZID=Europe/London:20220422T190000
DTEND;TZID=Europe/London:20220422T223000
DTSTAMP:20260421T123107
CREATED:20220329T105408Z
LAST-MODIFIED:20220329T105408Z
UID:6551-1650654000-1650666600@www.theblackmorevale.co.uk
SUMMARY:CONCERT FOR UKRAINE
DESCRIPTION:A fundraising concert for the people of Ukraine
URL:https://www.theblackmorevale.co.uk/whats-on/concert-for-ukraine/
LOCATION:Athenaeum Centre\, Warminster\, 18-20 High Street\, Warminster\, BA12 9AE
CATEGORIES:Fundraiser,Music Gig
ATTACH;FMTTYPE=image/png:https://www.theblackmorevale.co.uk/wp-content/uploads/2022/03/cfu-poster-947x1340-1.png
END:VEVENT
BEGIN:VEVENT
DTSTART;TZID=Europe/London:20220422T190000
DTEND;TZID=Europe/London:20220422T223000
DTSTAMP:20260421T123107
CREATED:20220414T104416Z
LAST-MODIFIED:20220414T104416Z
UID:7616-1650654000-1650666600@www.theblackmorevale.co.uk
SUMMARY:An Evening of Mediumship
DESCRIPTION:An Evening of Mediumship (in aid of Teddy20) with Mediums Mickey Havelock & Mark Stone – Tickets are £12.50pp which can be purchased from Veronica by contacting 07961796585. \nThis event has been organised by Veronica Jenkins to help raise funds towards the refurb of the Teddy20 Santa Sleigh. The Teddy20 Santa Sleigh stops were extremely popular last year but after being towed from stop to stop across Dorset over the past few years extensive work is now needed to keep the Sleigh in a safe\, usable condition.
URL:https://www.theblackmorevale.co.uk/whats-on/an-evening-of-mediumship/
LOCATION:Pimperne Village Hall\, Newfield Rd\, Pimperne\, DT11 8UZ
CATEGORIES:charity event,Fundraiser,lectures & Talks,Theatre
ATTACH;FMTTYPE=image/png:https://www.theblackmorevale.co.uk/wp-content/uploads/2022/04/T20-Evening-of-mediumship-FB-30-01-22.png
END:VEVENT
BEGIN:VEVENT
DTSTART;TZID=Europe/London:20220423T190000
DTEND;TZID=Europe/London:20220423T210000
DTSTAMP:20260421T123107
CREATED:20220404T164200Z
LAST-MODIFIED:20220404T164200Z
UID:6815-1650740400-1650747600@www.theblackmorevale.co.uk
SUMMARY:“Come and Sing” Classical Choral Concert
DESCRIPTION:An evening concert of classical choral pieces including Vivaldi’s “Gloria” and Handel’s “Messiah”\nunder the expert musical direction of Alice Dicker BMus(Hons) DipABRSM(perf) and with accomplished organist Kris Emmett BA(Hons) taking place on Saturday\, 23rd April 2022 at 7.00pm in St Mary’s Church\, Bradford Abbas\, performed by our “Come and Sing” choir following an intensive one-day workshop. Tickets £5 on the door\, in aid of St. Michael’s Church\, Beer Hackett.
URL:https://www.theblackmorevale.co.uk/whats-on/come-and-sing-classical-choral-concert/
LOCATION:St. Mary’s Church Bradford Abbas\, Church Road\, Bradford Abbas\, DT9 6RF
CATEGORIES:Classical Music,Fundraiser
ATTACH;FMTTYPE=image/jpeg:https://www.theblackmorevale.co.uk/wp-content/uploads/2022/04/20220404_163217-1-scaled.jpg
END:VEVENT
BEGIN:VEVENT
DTSTART;TZID=Europe/London:20220423T190000
DTEND;TZID=Europe/London:20220423T220000
DTSTAMP:20260421T123107
CREATED:20220317T173722Z
LAST-MODIFIED:20220317T173741Z
UID:6237-1650740400-1650751200@www.theblackmorevale.co.uk
SUMMARY:CRESS African-themed Fundraising evening
DESCRIPTION:CRESS UK is hosting an inspirational African evening of information and anecdote\, sharing African refugee stories by Zoom\, highlighting the life changing impact of CRESS funding. \nThis event will take place on Saturday 23rd April (7pm-10pm) at Coombe Bissett Village Hall. \nTickets cost £20 per person for a relaxed supper\, including glass of wine\, suitable for all diets. African themed dress optional. \nCRESS’ vision is to enable the refugee community to become self-sufficient\, now whilst in exile and eventually on their return to South Sudan. The emphasis for CRESS is on long-term development based on continuing personal contact. \nYou can buy tickets via the website\, here: https://cressuk.org/shop/ \nOr\, alternatively\, tickets can be purchased from Coombe Bissett Stores or Broadchalke Hub.
URL:https://www.theblackmorevale.co.uk/whats-on/cress-african-themed-fundraising-evening/
LOCATION:Coombe Bissett Village Hall\, Shutts Lane\, Coombe Bissett\, SP5 4LU
CATEGORIES:Food & Drink,Fundraiser
ATTACH;FMTTYPE=image/jpeg:https://www.theblackmorevale.co.uk/wp-content/uploads/2022/03/african-dinner-square-fundraising-buy-tickets-resized.jpg
ORGANIZER;CN="CRESS UK":MAILTO:claire.bourne@cressuk.org
END:VEVENT
BEGIN:VEVENT
DTSTART;TZID=Europe/London:20220422T190000
DTEND;TZID=Europe/London:20220422T223000
DTSTAMP:20260421T123107
CREATED:20220329T105408Z
LAST-MODIFIED:20220329T105408Z
UID:6551-1650654000-1650666600@www.theblackmorevale.co.uk
SUMMARY:CONCERT FOR UKRAINE
DESCRIPTION:A fundraising concert for the people of Ukraine
URL:https://www.theblackmorevale.co.uk/whats-on/concert-for-ukraine/
LOCATION:Athenaeum Centre\, Warminster\, 18-20 High Street\, Warminster\, BA12 9AE
CATEGORIES:Fundraiser,Music Gig
ATTACH;FMTTYPE=image/png:https://www.theblackmorevale.co.uk/wp-content/uploads/2022/03/cfu-poster-947x1340-1.png
END:VEVENT
BEGIN:VEVENT
DTSTART;VALUE=DATE:20220429
DTEND;VALUE=DATE:20220502
DTSTAMP:20260421T123107
CREATED:20220414T103120Z
LAST-MODIFIED:20220414T103120Z
UID:7609-1651190400-1651449599@www.theblackmorevale.co.uk
SUMMARY:Teddy Rocks Festival 2022
DESCRIPTION:Teddy Rocks is a 3 day family-friendly rock music event in Blandford\, Dorset\, UK – Home to some of the biggest acts in the UK. \nTeddy Rocks Festival started with a small gig in 2011 to raise money for Teddy20\, a children’s cancer charity founded by Tom Newton and his family after he lost his 10 year old brother Ted to a very rare bone cancer. \nTickets can be brought from teddyrocks.co.uk
URL:https://www.theblackmorevale.co.uk/whats-on/teddy-rocks-festival-2022/
LOCATION:Teddy Rocks Festival\, Charisworth Farm Cottage\, Blandford Forum\, DT11 9AL
CATEGORIES:charity event,Family,Festival,Fundraiser,Music Gig
ATTACH;FMTTYPE=image/png:https://www.theblackmorevale.co.uk/wp-content/uploads/2022/04/TR_Lockup_Redslogan.png.png
END:VEVENT
BEGIN:VEVENT
DTSTART;VALUE=DATE:20220429
DTEND;VALUE=DATE:20220502
DTSTAMP:20260421T123107
CREATED:20220414T103131Z
LAST-MODIFIED:20220414T103131Z
UID:7612-1651190400-1651449599@www.theblackmorevale.co.uk
SUMMARY:Teddy Rocks Festival 2022
DESCRIPTION:Teddy Rocks is a 3 day family-friendly rock music event in Blandford\, Dorset\, UK – Home to some of the biggest acts in the UK. \nTeddy Rocks Festival started with a small gig in 2011 to raise money for Teddy20\, a children’s cancer charity founded by Tom Newton and his family after he lost his 10 year old brother Ted to a very rare bone cancer. \nTickets can be brought from teddyrocks.co.uk
URL:https://www.theblackmorevale.co.uk/whats-on/teddy-rocks-festival-2022-2/
CATEGORIES:charity event,Family,Festival,Fundraiser,Music Gig
ATTACH;FMTTYPE=:
END:VEVENT
BEGIN:VEVENT
DTSTART;TZID=Europe/London:20220430T093000
DTEND;TZID=Europe/London:20220430T143000
DTSTAMP:20260421T123107
CREATED:20220412T161930Z
LAST-MODIFIED:20220412T161930Z
UID:7390-1651311000-1651329000@www.theblackmorevale.co.uk
SUMMARY:Spring Craft Fair
DESCRIPTION:Blandford & District Lions \nSpring Craft Fair – Saturday 30th April 9.30am – 2.30pm \nAt the Corn Exchange Blandford Forum \nEntry via donation to: PTSD Resolution \nWe look forward to your support
URL:https://www.theblackmorevale.co.uk/whats-on/spring-craft-fair/
LOCATION:The Corn Exchange\, 17 Market Place\, Blandford Forum\, DT11 7AG
CATEGORIES:charity event,craft fair,Crafts,Fundraiser
ATTACH;FMTTYPE=image/png:https://www.theblackmorevale.co.uk/wp-content/uploads/2022/04/Blandford-Lions.png
END:VEVENT
END:VCALENDAR