BEGIN:VCALENDAR
VERSION:2.0
PRODID:-//The BV - ECPv6.15.20//NONSGML v1.0//EN
CALSCALE:GREGORIAN
METHOD:PUBLISH
X-WR-CALNAME:The BV
X-ORIGINAL-URL:https://www.theblackmorevale.co.uk
X-WR-CALDESC:Events for The BV
REFRESH-INTERVAL;VALUE=DURATION:PT1H
X-Robots-Tag:noindex
X-PUBLISHED-TTL:PT1H
BEGIN:VTIMEZONE
TZID:Europe/London
BEGIN:DAYLIGHT
TZOFFSETFROM:+0000
TZOFFSETTO:+0100
TZNAME:BST
DTSTART:20210328T010000
END:DAYLIGHT
BEGIN:STANDARD
TZOFFSETFROM:+0100
TZOFFSETTO:+0000
TZNAME:GMT
DTSTART:20211031T010000
END:STANDARD
BEGIN:DAYLIGHT
TZOFFSETFROM:+0000
TZOFFSETTO:+0100
TZNAME:BST
DTSTART:20220327T010000
END:DAYLIGHT
BEGIN:STANDARD
TZOFFSETFROM:+0100
TZOFFSETTO:+0000
TZNAME:GMT
DTSTART:20221030T010000
END:STANDARD
BEGIN:DAYLIGHT
TZOFFSETFROM:+0000
TZOFFSETTO:+0100
TZNAME:BST
DTSTART:20230326T010000
END:DAYLIGHT
BEGIN:STANDARD
TZOFFSETFROM:+0100
TZOFFSETTO:+0000
TZNAME:GMT
DTSTART:20231029T010000
END:STANDARD
END:VTIMEZONE
BEGIN:VEVENT
DTSTART;TZID=Europe/London:20220324T190000
DTEND;TZID=Europe/London:20220324T203000
DTSTAMP:20260421T134834
CREATED:20220322T172801Z
LAST-MODIFIED:20220322T172801Z
UID:6382-1648148400-1648153800@www.theblackmorevale.co.uk
SUMMARY:A Concert for Ukraine
DESCRIPTION:Featuring a selection of short pieces specially selected for the occasion\, including: \nHultmark – Fanfare for Ukraine\nEvelyn Glennie – A Little Prayer\nGliére – Nocturne\nDvorák – Serenade for Winds \nAdmission is free with no booking required. \nThe collection from this concert will support the humanitarian aid in Ukraine. \nIf you cannot attend but would still like to donate\, visit wells.cathedral.school / ukraine
URL:https://www.theblackmorevale.co.uk/whats-on/a-concert-for-ukraine/
LOCATION:Wells Cathedral\, Cathedral Green\, Wells\, BA5 2UE
CATEGORIES:Classical Music,Fundraiser
ATTACH;FMTTYPE=image/jpeg:https://www.theblackmorevale.co.uk/wp-content/uploads/2022/03/A-Concert-for-Ukraine-24.03.22-scaled-1.jpg
END:VEVENT
END:VCALENDAR