BEGIN:VCALENDAR
VERSION:2.0
PRODID:-//The BV - ECPv6.15.20//NONSGML v1.0//EN
CALSCALE:GREGORIAN
METHOD:PUBLISH
X-WR-CALNAME:The BV
X-ORIGINAL-URL:https://www.theblackmorevale.co.uk
X-WR-CALDESC:Events for The BV
REFRESH-INTERVAL;VALUE=DURATION:PT1H
X-Robots-Tag:noindex
X-PUBLISHED-TTL:PT1H
BEGIN:VTIMEZONE
TZID:Europe/London
BEGIN:DAYLIGHT
TZOFFSETFROM:+0000
TZOFFSETTO:+0100
TZNAME:BST
DTSTART:20220327T010000
END:DAYLIGHT
BEGIN:STANDARD
TZOFFSETFROM:+0100
TZOFFSETTO:+0000
TZNAME:GMT
DTSTART:20221030T010000
END:STANDARD
BEGIN:DAYLIGHT
TZOFFSETFROM:+0000
TZOFFSETTO:+0100
TZNAME:BST
DTSTART:20230326T010000
END:DAYLIGHT
BEGIN:STANDARD
TZOFFSETFROM:+0100
TZOFFSETTO:+0000
TZNAME:GMT
DTSTART:20231029T010000
END:STANDARD
BEGIN:DAYLIGHT
TZOFFSETFROM:+0000
TZOFFSETTO:+0100
TZNAME:BST
DTSTART:20240331T010000
END:DAYLIGHT
BEGIN:STANDARD
TZOFFSETFROM:+0100
TZOFFSETTO:+0000
TZNAME:GMT
DTSTART:20241027T010000
END:STANDARD
END:VTIMEZONE
BEGIN:VEVENT
DTSTART;TZID=Europe/London:20230301T183000
DTEND;TZID=Europe/London:20230301T203000
DTSTAMP:20260420T194906
CREATED:20230216T085743Z
LAST-MODIFIED:20230216T085743Z
UID:14692-1677695400-1677702600@www.theblackmorevale.co.uk
SUMMARY:Cider Tour & Tasting
DESCRIPTION:Come join Shaftesbury & Gillingham RoundTable at Burrow Hill Farm\, TA12 6BU – for a cider tour and tasting\nNew members event\, find out more about your local RoundTable group\nOnly £10 \nFor more information and contact details – search ‘Shaftesbury & Gillingham Round Table’ on Facebook
URL:https://www.theblackmorevale.co.uk/whats-on/cider-tour-tasting/
CATEGORIES:Free Taster Sessions
ATTACH;FMTTYPE=image/jpeg:https://www.theblackmorevale.co.uk/wp-content/uploads/2023/02/96C33B14-19B8-435C-84D2-D84B5751BACE.jpeg
END:VEVENT
END:VCALENDAR