BEGIN:VCALENDAR
VERSION:2.0
PRODID:-//The BV - ECPv6.15.20//NONSGML v1.0//EN
CALSCALE:GREGORIAN
METHOD:PUBLISH
X-WR-CALNAME:The BV
X-ORIGINAL-URL:https://www.theblackmorevale.co.uk
X-WR-CALDESC:Events for The BV
REFRESH-INTERVAL;VALUE=DURATION:PT1H
X-Robots-Tag:noindex
X-PUBLISHED-TTL:PT1H
BEGIN:VTIMEZONE
TZID:Europe/London
BEGIN:DAYLIGHT
TZOFFSETFROM:+0000
TZOFFSETTO:+0100
TZNAME:BST
DTSTART:20210328T010000
END:DAYLIGHT
BEGIN:STANDARD
TZOFFSETFROM:+0100
TZOFFSETTO:+0000
TZNAME:GMT
DTSTART:20211031T010000
END:STANDARD
BEGIN:DAYLIGHT
TZOFFSETFROM:+0000
TZOFFSETTO:+0100
TZNAME:BST
DTSTART:20220327T010000
END:DAYLIGHT
BEGIN:STANDARD
TZOFFSETFROM:+0100
TZOFFSETTO:+0000
TZNAME:GMT
DTSTART:20221030T010000
END:STANDARD
BEGIN:DAYLIGHT
TZOFFSETFROM:+0000
TZOFFSETTO:+0100
TZNAME:BST
DTSTART:20230326T010000
END:DAYLIGHT
BEGIN:STANDARD
TZOFFSETFROM:+0100
TZOFFSETTO:+0000
TZNAME:GMT
DTSTART:20231029T010000
END:STANDARD
BEGIN:DAYLIGHT
TZOFFSETFROM:+0000
TZOFFSETTO:+0100
TZNAME:BST
DTSTART:20240331T010000
END:DAYLIGHT
BEGIN:STANDARD
TZOFFSETFROM:+0100
TZOFFSETTO:+0000
TZNAME:GMT
DTSTART:20241027T010000
END:STANDARD
BEGIN:DAYLIGHT
TZOFFSETFROM:+0000
TZOFFSETTO:+0100
TZNAME:BST
DTSTART:20250330T010000
END:DAYLIGHT
BEGIN:STANDARD
TZOFFSETFROM:+0100
TZOFFSETTO:+0000
TZNAME:GMT
DTSTART:20251026T010000
END:STANDARD
BEGIN:DAYLIGHT
TZOFFSETFROM:+0000
TZOFFSETTO:+0100
TZNAME:BST
DTSTART:20260329T010000
END:DAYLIGHT
BEGIN:STANDARD
TZOFFSETFROM:+0100
TZOFFSETTO:+0000
TZNAME:GMT
DTSTART:20261025T010000
END:STANDARD
BEGIN:DAYLIGHT
TZOFFSETFROM:+0000
TZOFFSETTO:+0100
TZNAME:BST
DTSTART:20270328T010000
END:DAYLIGHT
BEGIN:STANDARD
TZOFFSETFROM:+0100
TZOFFSETTO:+0000
TZNAME:GMT
DTSTART:20271031T010000
END:STANDARD
END:VTIMEZONE
BEGIN:VEVENT
DTSTART;VALUE=DATE:20220908
DTEND;VALUE=DATE:20220912
DTSTAMP:20260420T211022
CREATED:20220907T111122Z
LAST-MODIFIED:20220925T113619Z
UID:10916-1662595200-1662940799@www.theblackmorevale.co.uk
SUMMARY:b-side Festival
DESCRIPTION:b-side is an internationally recognised and locally loved arts organisation that both embodies and enriches its place of origin – the Isle of Portland in Dorset. \nThis year\, b-side Festival returns for their 2022 edition\, launching 15 brand new artworks under the theme of ‘Common Lands’ which invites visitors to explore their relationship to the unique landscape of Portland. \nTaking place across four days between September 8th-11th\, Portland will host both local and international artists who will take festival-goers on an experimental tour around this distinctive part of the UK\, exploring its history through their creative visions. From abseiling down Portland’s infamous cliffsides to a one-to-one poetry workshop\, to diving into an augmented reality artwork of mythical mermaids and taking part in print and banner-making workshops\, there’s something for all the family to enjoy. \nThe festival will also culminate in The Big Portland Parade\, where attendees will be invited to a joint celebration of Portland. United under the theme of ‘Keep Portland Weird\,’ attendees are encouraged to show off their most weird and wonderful outfits in a parade led by the local community\, volunteers and b-side artists. \nPlease visit our website to see the full programme of events held across the four-day festival.
URL:https://www.theblackmorevale.co.uk/whats-on/b-side-festival/
LOCATION:St Georges Centre\, Reforne\, Easton Portland\, St Georges Centre\, Reforne\, DT5 2AN
CATEGORIES:Art,Crafts,Exhibition,Family event,Festival,outdoor theatre,Wildlife
ATTACH;FMTTYPE=image/jpeg:https://www.theblackmorevale.co.uk/wp-content/uploads/2022/09/B-Side-2021-Credit-Paul-Box-2-scaled.jpg
ORGANIZER;CN="Sandy Kirby":MAILTO:info@b-side.org.uk
END:VEVENT
BEGIN:VEVENT
DTSTART;TZID=Europe/London:20230414T170000
DTEND;TZID=Europe/London:20230416T170000
DTSTAMP:20260420T211022
CREATED:20230228T110221Z
LAST-MODIFIED:20230228T110221Z
UID:15044-1681491600-1681664400@www.theblackmorevale.co.uk
SUMMARY:Sherborne Travel Writing Festival
DESCRIPTION:While our horizons have drawn in\, travel writers have continued to reach out\, rediscovering and reinterpreting the world for a new age. \nThe Sherborne Travel Writing Festival\, curated by Rory MacLean\, will be the first travel literature festival to be held in the UK in recent years. \nAt its heart is the idea – and the timely theme – of reaching for the horizon.
URL:https://www.theblackmorevale.co.uk/whats-on/sherborne-travel-writing-festival/
LOCATION:Powell Theatre\, Abbey Road\, Sherborne
CATEGORIES:Festival
ATTACH;FMTTYPE=image/jpeg:https://www.theblackmorevale.co.uk/wp-content/uploads/2023/02/Sherborne_Travel_Writing_Festival.jpg
END:VEVENT
BEGIN:VEVENT
DTSTART;TZID=Europe/London:20230604T110000
DTEND;TZID=Europe/London:20230604T160000
DTSTAMP:20260420T211022
CREATED:20230424T083614Z
LAST-MODIFIED:20250829T160903Z
UID:16743-1685876400-1685894400@www.theblackmorevale.co.uk
SUMMARY:Thomas Hardy Victorian Fair
DESCRIPTION:Step back in time this summer when Dorchester remembers its Victorian past and celebrates the life and times of the famous writer Thomas Hardy\, who was born and lived nearby.\n\nThe Thomas Hardy Victorian Fair will be a fun and inspiring day out for all the family. High East and High West Streets will be closed to traffic for a more authentic experience.\nVisitors are welcome to dress up for the occasion and join the “Ragged Victorians” to see Penny Farthing displays\, Punch and Judy shows\, steam engines\, and all things Victoriana\, as well as enjoy live music\, performances\, and dancing in the street.
URL:https://www.theblackmorevale.co.uk/whats-on/thomas-hardy-victorian-fair/
LOCATION:dorchester\, The Town Pump\, Dorchester\, DT1 1BA\, United Kingdom
CATEGORIES:Festival
ATTACH;FMTTYPE=image/jpeg:https://www.theblackmorevale.co.uk/wp-content/uploads/2023/04/THVF-Purbeck-Quire.jpg
ORGANIZER;CN="Dorchester Town Council":MAILTO:T.Umasankar@dorchester-tc.gov.uk
END:VEVENT
BEGIN:VEVENT
DTSTART;TZID=Europe/London:20230819T140000
DTEND;TZID=Europe/London:20230819T220000
DTSTAMP:20260420T211022
CREATED:20230719T170934Z
LAST-MODIFIED:20230719T170934Z
UID:19229-1692453600-1692482400@www.theblackmorevale.co.uk
SUMMARY:Riverside Family Fest
DESCRIPTION:Fun Family Festival with tribute bands\, free children’s entertainment\, dog show\, punch & Judy\, stalls\, bouncy slide\, food\, Tug O War & more!
URL:https://www.theblackmorevale.co.uk/whats-on/riverside-family-fest-2/
LOCATION:Riverside Meadows\, The Bridge Sturminster Newton\, The Bridge\, Sturminster Newton\, DT102BS
CATEGORIES:Festival
ATTACH;FMTTYPE=image/jpeg:https://www.theblackmorevale.co.uk/wp-content/uploads/2023/07/Green-Pink-Creative-Summer-Concert-Festival-Flyer-2.jpg
ORGANIZER;CN="Ruth caldwell":MAILTO:riversidefamilyfest@outlook.com
END:VEVENT
BEGIN:VEVENT
DTSTART;TZID=Europe/London:20240705T190000
DTEND;TZID=Europe/London:20240705T230000
DTSTAMP:20260420T211022
CREATED:20240227T195550Z
LAST-MODIFIED:20240227T195550Z
UID:25504-1720206000-1720220400@www.theblackmorevale.co.uk
SUMMARY:Semley Music Festival
DESCRIPTION:Starts 7.00pm Friday 5th July & from noon – midnight Saturday 6th July \nA two day community festival in the heart of our village. Hours of live music\, a wide range of stalls offering food\, drink and crafts with lots of free activities for children.
URL:https://www.theblackmorevale.co.uk/whats-on/semley-music-festival-4/
LOCATION:Church Green\, Semley\, SP7 9AS\, Church Green\, Semley\, SP7 9AS
CATEGORIES:charity event,Children's,Family event,Festival,Food & Drink,live music,music
ATTACH;FMTTYPE=image/jpeg:https://www.theblackmorevale.co.uk/wp-content/uploads/2024/02/Save-the-dates-earlybird-ad.jpg
ORGANIZER;CN="David Curless":MAILTO:dc@david-curless.com
END:VEVENT
BEGIN:VEVENT
DTSTART;TZID=Europe/London:20240720T140000
DTEND;TZID=Europe/London:20240721T030000
DTSTAMP:20260420T211022
CREATED:20240613T152633Z
LAST-MODIFIED:20240613T152633Z
UID:29104-1721484000-1721530800@www.theblackmorevale.co.uk
SUMMARY:Kington Magnafest
DESCRIPTION:A proper Dorset event: cider bar\, hay bales\, three live bands\, Pimm’s & Ploughmans tent\, hot food (day)\, BBQ (evening)\, cream teas\, kidszone\, 25 crafts and fayre stalls\, garden produce competition + more – all starting at 10.30am with a steam\, old tractor and vintage car rally through the village
URL:https://www.theblackmorevale.co.uk/whats-on/kington-magnafest/
LOCATION:Kington Magna Music Field\, Church Hill\, Kington Magna\, Gillingham\, Dorset\, SP8 5ET\, United Kingdom
CATEGORIES:Festival,live music,tea in the garden
ATTACH;FMTTYPE=image/jpeg:https://www.theblackmorevale.co.uk/wp-content/uploads/2024/06/Screenshot-2024-06-13-at-16.20.20.jpg
ORGANIZER;CN="kingtonmagna@gmail.com":MAILTO:kingtonmagna@gmail.com
END:VEVENT
BEGIN:VEVENT
DTSTART;TZID=Europe/London:20240720T140000
DTEND;TZID=Europe/London:20240721T030000
DTSTAMP:20260420T211022
CREATED:20240613T152633Z
LAST-MODIFIED:20240613T152633Z
UID:29104-1721484000-1721530800@www.theblackmorevale.co.uk
SUMMARY:Kington Magnafest
DESCRIPTION:A proper Dorset event: cider bar\, hay bales\, three live bands\, Pimm’s & Ploughmans tent\, hot food (day)\, BBQ (evening)\, cream teas\, kidszone\, 25 crafts and fayre stalls\, garden produce competition + more – all starting at 10.30am with a steam\, old tractor and vintage car rally through the village
URL:https://www.theblackmorevale.co.uk/whats-on/kington-magnafest/
LOCATION:Kington Magna Music Field\, Church Hill\, Kington Magna\, Gillingham\, Dorset\, SP8 5ET\, United Kingdom
CATEGORIES:Festival,live music,tea in the garden
ATTACH;FMTTYPE=image/jpeg:https://www.theblackmorevale.co.uk/wp-content/uploads/2024/06/Screenshot-2024-06-13-at-16.20.20.jpg
ORGANIZER;CN="kingtonmagna@gmail.com":MAILTO:kingtonmagna@gmail.com
END:VEVENT
BEGIN:VEVENT
DTSTART;TZID=Europe/London:20240817T120000
DTEND;TZID=Europe/London:20240817T220000
DTSTAMP:20260420T211022
CREATED:20240701T121946Z
LAST-MODIFIED:20240701T121946Z
UID:29498-1723896000-1723932000@www.theblackmorevale.co.uk
SUMMARY:RIVERSIDE FEST
DESCRIPTION:A fun family music festival with live bands\, bar\, food\, fair\, circus workshop\, bouncy castle\, stalls\, mad4animals reptile show\, fire display\, belly dancers\, Tug O War and much more! \nTickets adults £7.50 Kids Under 16 go free! \navailable before or on the gate
URL:https://www.theblackmorevale.co.uk/whats-on/riverside-fest/
LOCATION:Riverside Meadows\, The Bridge Sturminster Newton\, The Bridge\, Sturminster Newton\, DT102BS
CATEGORIES:Festival
ATTACH;FMTTYPE=image/jpeg:https://www.theblackmorevale.co.uk/wp-content/uploads/2024/07/Green-Pink-Creative-Summer-Concert-Festival-Flyer-2.jpg
ORGANIZER;CN="Ruth caldwell":MAILTO:riversidefamilyfest@outlook.com
END:VEVENT
BEGIN:VEVENT
DTSTART;TZID=Europe/London:20250124T100000
DTEND;TZID=Europe/London:20250125T150000
DTSTAMP:20260420T211022
CREATED:20250113T163510Z
LAST-MODIFIED:20250113T163511Z
UID:36128-1737712800-1737817200@www.theblackmorevale.co.uk
SUMMARY:Sturminster Newton Wedding Dress Exhibition
DESCRIPTION:This annual exhibition of wedding dresses at St Mary’s Church in Sturminster Newton is in collaboration with the Sturminster Newton Wedding Fair held in The Exchange on Saturday 25th January 2025.\n\nEach dress on display has a story and provides a fascinating insight from brides with a local connection.
URL:https://www.theblackmorevale.co.uk/whats-on/sturminster-newton-wedding-dress-exhibition/
LOCATION:St Mary’s Church\, Sturminster Newton\, Church Lane\, Sturminster Newton\, DT10 2HG
CATEGORIES:Exhibition,Family event,Festival,History,Wedding
ATTACH;FMTTYPE=image/jpeg:https://www.theblackmorevale.co.uk/wp-content/uploads/2025/01/Wedding-Fest-24-6.jpg
END:VEVENT
BEGIN:VEVENT
DTSTART;TZID=Europe/London:20250620T000000
DTEND;TZID=Europe/London:20250622T235959
DTSTAMP:20260420T211022
CREATED:20241218T233108Z
LAST-MODIFIED:20250210T153301Z
UID:35393-1750377600-1750636799@www.theblackmorevale.co.uk
SUMMARY:'Bands For Bravery Music & Family Festival 2025'
DESCRIPTION:Mark your calendars for an incredible three days of live music\, delicious food\, traders and exhibitions including military displays and special guest appearances\, all held within the award winning fields of Longthorns Farm in Wareham (next to Monkey World).\n\nMake a weekend of it by booking to stay within the beautiful surroundings with convenient camping and glamping options.\n\nEvery ticket sold and each £1 raised helps our forces homeless veterans in need across England and Wales. We are a small 100% volunteer powered charity based in Dorset but supported by big hearts like you!
URL:https://www.theblackmorevale.co.uk/whats-on/bands-for-bravery-music-family-festival-2025/
LOCATION:Longthorns Farm\, Longthorns\, Wareham\, BH20 6HH
CATEGORIES:Festival,Food & Drink,live music
ATTACH;FMTTYPE=image/jpeg:https://www.theblackmorevale.co.uk/wp-content/uploads/2024/12/WhatsApp-Image-2024-09-08-at-22.00.06.jpeg
ORGANIZER;CN="Helping Homeless Veterans UK":MAILTO:jamie@hhvuk.org
END:VEVENT
BEGIN:VEVENT
DTSTART;TZID=Europe/London:20250704T190000
DTEND;TZID=Europe/London:20250704T233000
DTSTAMP:20260420T211022
CREATED:20250322T185714Z
LAST-MODIFIED:20250322T185716Z
UID:39028-1751655600-1751671800@www.theblackmorevale.co.uk
SUMMARY:Semley Music Festival
DESCRIPTION:Bringing you the very best music\, arts\, crafts\, food and drink from around the world to your doorstep.From dubstep and DJ sets to ceilidh and blues rock\, we have it all.
URL:https://www.theblackmorevale.co.uk/whats-on/semley-music-festival-5/
LOCATION:Church Green\, Semley\, SP7 9AS\, Church Green\, Semley\, SP7 9AS
CATEGORIES:Festival,Food & Drink,live music,music
ATTACH;FMTTYPE=image/jpeg:https://www.theblackmorevale.co.uk/wp-content/uploads/2025/03/You-tube-banner.jpg
ORGANIZER;CN="David Curless":MAILTO:dc@david-curless.com
END:VEVENT
BEGIN:VEVENT
DTSTART;TZID=Europe/London:20250705T120000
DTEND;TZID=Europe/London:20250705T233000
DTSTAMP:20260420T211022
CREATED:20250322T185729Z
LAST-MODIFIED:20250322T185730Z
UID:39033-1751716800-1751758200@www.theblackmorevale.co.uk
SUMMARY:Semley Music Festival
DESCRIPTION:A not-for-profit community music festival in rural Dorset\, bringing together talented and innovative musicians from a range of genres. We have musicians – both local and global\, emerging and established. From dubstep and DJ sets to ceilidh and blues rock\, we have it all.\n\nIn addition to the live music\, we have always been determined to offer free activities for children and young people as part of the festival. Year by year we have managed to extend this offer which typically has included: music workshops\, art and craft workshops\, team projects making and decorating festival flags and banners\, circus skills training\, Tai Chi exercises\, bubble sculpting etc.
URL:https://www.theblackmorevale.co.uk/whats-on/semley-music-festival-6/
LOCATION:Church Green\, Semley\, SP7 9AS\, Church Green\, Semley\, SP7 9AS
CATEGORIES:Family event,Festival,Food & Drink,Fun day,live music,music
ATTACH;FMTTYPE=image/jpeg:https://www.theblackmorevale.co.uk/wp-content/uploads/2025/03/Pink-woman-2.jpg
ORGANIZER;CN="David Curless":MAILTO:dc@david-curless.com
END:VEVENT
BEGIN:VEVENT
DTSTART;TZID=Europe/London:20250706T113000
DTEND;TZID=Europe/London:20250706T190000
DTSTAMP:20260420T211022
CREATED:20250610T160043Z
LAST-MODIFIED:20250610T160231Z
UID:42698-1751801400-1751828400@www.theblackmorevale.co.uk
SUMMARY:Semley Music Festival
DESCRIPTION:Semley Music Festival returns for its 4th year and the small festival with big ideas just got even bigger! We’ve extended the event on to an additional day\, Sunday July 6th. \nThis year\, Feelgood Sunday promises to lift your mind\, body and spirit with a day packed full of yoga\, tai chi\, sound bath healing\, hypnotherapy and meditation sessions\, plus spa treatments\, including aromatherapy\, reiki\, Indian head massage\, chakra balancing\, and rejuvenating facials. \nYou’ll also find a varied programme of poetry\, storytelling\, soundscapes and films reflecting the beauty of the natural world. \nThere’s something for all the family\, whether you want to join a children’s art workshop\, relax to the sound of the sitar or create a festival skirt on a solar-powered sewing machine. \nAnd expect the usual great food and drink\, face painting\, festival braids\, henna tattoos and bubble entertainment. \nThe festival comes to a lively close on Sunday with a family ceilidh led by the wonderful Hambledon Hopstep Band from 5pm. Let the experts lead you in a mix of jigs\, reels\, hornpipes\, waltzes and polkas to celebrate the end of Semley Music Festival 2025. \nYou can book for one day or the whole 3 days and there’s even camping for the full festival experience.
URL:https://www.theblackmorevale.co.uk/whats-on/semley-music-festival-8/
LOCATION:Church Green\, Semley\, SP7 9AS\, Church Green\, Semley\, SP7 9AS
CATEGORIES:Art,bar,Barn Dance,Children's,classes,Family event,Festival,Food & Drink,Workshop
ATTACH;FMTTYPE=image/jpeg:https://www.theblackmorevale.co.uk/wp-content/uploads/2025/06/Singing-bowl.jpg
ORGANIZER;CN="David Curless":MAILTO:dc@david-curless.com
END:VEVENT
BEGIN:VEVENT
DTSTART;TZID=Europe/London:20250711T160000
DTEND;TZID=Europe/London:20250713T233000
DTSTAMP:20260420T211022
CREATED:20250516T101208Z
LAST-MODIFIED:20250516T101210Z
UID:41622-1752249600-1752449400@www.theblackmorevale.co.uk
SUMMARY:Swanage Jazz Festival
DESCRIPTION:The 34th Swanage Jazz Festival with 35 top quality bands in the ticketed programme from New Orleans to Contemporary Jazz plus a FREE Festival Fringe. Headline acts this year include Elainer Delmar\, Andy Sheppard\, Hejira\, Soothsayers\, The Adrian Cox Trio\, The Sultan Stevenson Trio\, Ian Bateman’s Tribute to Louis Armstronic All Stars\, Pete Long’s Jazz at The Mowlemonic and Rainey’s Revue.
URL:https://www.theblackmorevale.co.uk/whats-on/swanage-jazz-festival/
LOCATION:The Mowlem\, Shore Road\, Swanage\, BH19 1DD
CATEGORIES:Festival,live music,music
ATTACH;FMTTYPE=image/png:https://www.theblackmorevale.co.uk/wp-content/uploads/2025/05/swanage-jazz-festival.png
ORGANIZER;CN="Swanage Jazz Festival":MAILTO:info@swanagejazzfestival.co.uk
END:VEVENT
BEGIN:VEVENT
DTSTART;TZID=Europe/London:20250906T120000
DTEND;TZID=Europe/London:20250906T223000
DTSTAMP:20260420T211022
CREATED:20250728T160042Z
LAST-MODIFIED:20250728T160043Z
UID:44482-1757160000-1757197800@www.theblackmorevale.co.uk
SUMMARY:Kington Magnafest 2
DESCRIPTION:A village music festival with a sideshow of vintage tractors\, three live bands\, line dancing\, cider and cocktail bars\, pizza/fish and chips/BBQ\, artisan coffee and cakes\, ice cream and a circus skills workshop. All profits to #teamtorri
URL:https://www.theblackmorevale.co.uk/whats-on/kington-magnafest-2/
LOCATION:Kington Magna Music Field\, Church Hill\, Kington Magna\, Gillingham\, Dorset\, SP8 5ET\, United Kingdom
CATEGORIES:Family event,Festival,Food & Drink,Fun day,Fundraiser,music
ATTACH;FMTTYPE=image/png:https://www.theblackmorevale.co.uk/wp-content/uploads/2025/07/Magnafest-logo.png
ORGANIZER;CN="kingtonmagna@gmail.com":MAILTO:kingtonmagna@gmail.com
END:VEVENT
BEGIN:VEVENT
DTSTART;TZID=Europe/London:20250926T160000
DTEND;TZID=Europe/London:20250928T190000
DTSTAMP:20260420T211022
CREATED:20250801T100808Z
LAST-MODIFIED:20250801T100809Z
UID:44659-1758902400-1759086000@www.theblackmorevale.co.uk
SUMMARY:Arts by the Sea 2025
DESCRIPTION:Arts by the Sea Festival returns this September from Friday 26 – Sunday 28th as The South West’s biggest celebration of art\, culture\, people and place.\n\nThis year’s theme\, WE ARE HERE\, is a bold celebration of community\, creativity and the power of place as the festival amplifies homegrown talent and those who call Bournemouth\, Christchurch and Poole home.\n\nWith a range of walkabout acts\, art installations\, musical performances and workshops over the weekend\, Bournemouth town centre will be filled with colour\, creativity and art in a not-to-miss event!
URL:https://www.theblackmorevale.co.uk/whats-on/arts-by-the-sea-2025/
CATEGORIES:Art,Children's,Dance,Family event,Festival,Fun day,live music
END:VEVENT
BEGIN:VEVENT
DTSTART;TZID=Europe/London:20251004T120000
DTEND;TZID=Europe/London:20251004T233000
DTSTAMP:20260420T211022
CREATED:20250731T212536Z
LAST-MODIFIED:20250731T212537Z
UID:44615-1759579200-1759620600@www.theblackmorevale.co.uk
SUMMARY:Weymouth Oktoberfest
DESCRIPTION:BEER\, FOOD AND GOOD TIMES?\n\nThis sound like you?\n\nThen join us for again for Weymouth’s best Oktoberfest\, a party that Germany would be proud of.\n\nWe are back again\, bigger and better than last year with 12 solid hours of Great music\, food\, beer and fun.\n\nOur adults only tent will be in full swing with the same great vibes and cheap drinks.\n\nLimited FREE parking\, but brilliant public transport links and multiple hotels nearby.\n\nIncluded in your ticket:\n\nEntry to festival\n\nPlastic drinking stein\n\nVarious Fun Freebies
URL:https://www.theblackmorevale.co.uk/whats-on/weymouth-oktoberfest-2/
LOCATION:weymouth and portland rugby club\, Weymouth & Portland Rugby Club\, Weymouth\, DT3 5NY
CATEGORIES:Festival
END:VEVENT
BEGIN:VEVENT
DTSTART;TZID=Europe/London:20260207T000000
DTEND;TZID=Europe/London:20260208T235959
DTSTAMP:20260420T211022
CREATED:20260127T155113Z
LAST-MODIFIED:20260127T155116Z
UID:73355-1770422400-1770595199@www.theblackmorevale.co.uk
SUMMARY:The Healing Weekend at Lighthouse Poole
DESCRIPTION:The Healing Weekend at Lighthouse Holistic Festival returns to Poole for its 12th year on Saturday 7 & Sunday 8 February 2026\, bringing a vibrant weekend of wellbeing\, inspiration and spiritual exploration to Dorset’s iconic arts venue. \nOften described as a magical winter indoor festival\, the event is the sister festival to The Healing Weekend summer gathering in Somerset\, and offers something for everyone — from those on a spiritual path\, to visitors looking to support their health and wellbeing\, or simply enjoy the atmosphere and browse the stands. \nAcross the weekend\, visitors can explore a packed programme of talks\, workshops\, demonstrations and performance\, all included with entry\, alongside a wide range of holistic stalls and exhibitors.\nA special highlight is “An Evening of Mediumship & Psychic Art” on the Saturday evening\, featuring a line-up of gifted mediums and psychic artists including Patrick Gamble\, Greg Smith\, Antony Doveton\, Melayne Stone and Allison Michaela. \nThe festival is also raising funds for Dorset Cancer Care\, held in loving memory of Jane McCheyne. \nElaine Fenton\, event organiser\, said: \n“The Healing Weekend at Lighthouse Holistic Festival is a warm\, welcoming weekend where people can take a breath\, feel inspired\, and enjoy a real sense of community. We’re so grateful to our visitors\, exhibitors\, crew and Lighthouse for making it possible — and we can’t wait to welcome everyone back.” \nEVENT DETAILS (What’s On Listings)\nEvent: The Healing Weekend at Lighthouse Holistic Festival 2026\nDates: Saturday 7 & Sunday 8 February 2026\nVenue: Lighthouse\, Poole\, Dorset BH15 1UG\nTickets (advance booking and pay on on entry):\nSaturday daytime: £13 (Over 65s £11)\nSunday daytime: £13 (Over 65s £11)\nWeekend daytime (Sat + Sun): £24\nWeekend + Saturday evening show: £36 (Over 65s £34)\nSaturday evening show only: £14 (Over 65s £12)\nIncluded in entry: A full programme of talks/workshops/demos across the weekend (included with admission). \nCharity fundraising: Supporting Dorset Cancer Care.\nEnquiries / Press contact:\nElaine Fenton (Event Organiser)\nTel: 07494 024738\nEmail: elaine@elainefenton.co.uk
URL:https://www.theblackmorevale.co.uk/whats-on/the-healing-weekend-at-lighthouse-poole/
LOCATION:Lighthouse\, Poole’s Centre for the Arts\, 21 Kingland Road\, Poole\, dorset\, BH15 1UG\, United Kingdom
CATEGORIES:Festival
ORGANIZER;CN="Elaine Fenton":MAILTO:elaine@elainefenton.co.uk
END:VEVENT
BEGIN:VEVENT
DTSTART;TZID=Europe/London:20260501T170000
DTEND;TZID=Europe/London:20260503T003000
DTSTAMP:20260420T211022
CREATED:20260217T102113Z
LAST-MODIFIED:20260217T103958Z
UID:74288-1777654800-1777768200@www.theblackmorevale.co.uk
SUMMARY:Teddy Rocks Festival
DESCRIPTION:Teddy Rocks Festival is a multi-award winning 3 day family-friendly charity music event in Dorset\, UK. \nTickets – Teddy Rocks Festival – 1st May to 3rd May – Charisworth Farm\, Blandford\, Dorset \nTeddy Rocks has raised over £815\,000 for children’s cancer charities\, is the UK’s best family festival award winner and Heavy Music Awards “H” recipient for exceptional positive contribution. Sponsored by Hall & Woodhouse \nAll the profits from Teddy Rocks Festival go directly to our partner cancer charities. \nTickets – Teddy Rocks Festival – 1st May to 3rd May – Charisworth Farm\, Blandford\, Dorset
URL:https://www.theblackmorevale.co.uk/whats-on/teddy-rocks-festival/
LOCATION:Charisworth Farm\, Blandford Forum\, DT11 9AL
CATEGORIES:charity event,Family event,Festival,Fundraiser,live music,Music Gig,Sport
ATTACH;FMTTYPE=image/jpeg:https://www.theblackmorevale.co.uk/wp-content/uploads/2026/02/TRocks-Poster.webp
ORGANIZER;CN="Teddy Rocks Festival":MAILTO:info@teddyrocks.co.uk
END:VEVENT
BEGIN:VEVENT
DTSTART;TZID=Europe/London:20260605T170000
DTEND;TZID=Europe/London:20260606T230000
DTSTAMP:20260420T211022
CREATED:20260111T114810Z
LAST-MODIFIED:20260217T103510Z
UID:72498-1780678800-1780786800@www.theblackmorevale.co.uk
SUMMARY:Dorset Tractor Fest 2026
DESCRIPTION:A new music festival featuring The Wurzels\, Hayseed Dixie\, Foo Farmers plus guest appearances from Kaleb Cooper\, Olly Harrison and the Red Shepherdess alongside a large tractor and steam vehicle show. Plenty of fun for the whole family with Bolddog FMX\, wrestling shows\, agricultural activities\, lawn mower racing\, eating contests\, funfair and much more plus Great British food and drink.
URL:https://www.theblackmorevale.co.uk/whats-on/dorset-tractor-fest-2026/
LOCATION:Turnpike Showground\, Shaftesbury\, Motcombe\, Shaftesbury\, Dorset\, sp7 9pn\, United Kingdom
CATEGORIES:Festival
ORGANIZER;CN="Bearfoot Productions":MAILTO:hello@bearfootproductions.co.uk
END:VEVENT
END:VCALENDAR