BEGIN:VCALENDAR
VERSION:2.0
PRODID:-//The BV - ECPv6.15.20//NONSGML v1.0//EN
CALSCALE:GREGORIAN
METHOD:PUBLISH
X-ORIGINAL-URL:https://www.theblackmorevale.co.uk
X-WR-CALDESC:Events for The BV
REFRESH-INTERVAL;VALUE=DURATION:PT1H
X-Robots-Tag:noindex
X-PUBLISHED-TTL:PT1H
BEGIN:VTIMEZONE
TZID:Europe/London
BEGIN:DAYLIGHT
TZOFFSETFROM:+0000
TZOFFSETTO:+0100
TZNAME:BST
DTSTART:20210328T010000
END:DAYLIGHT
BEGIN:STANDARD
TZOFFSETFROM:+0100
TZOFFSETTO:+0000
TZNAME:GMT
DTSTART:20211031T010000
END:STANDARD
BEGIN:DAYLIGHT
TZOFFSETFROM:+0000
TZOFFSETTO:+0100
TZNAME:BST
DTSTART:20220327T010000
END:DAYLIGHT
BEGIN:STANDARD
TZOFFSETFROM:+0100
TZOFFSETTO:+0000
TZNAME:GMT
DTSTART:20221030T010000
END:STANDARD
BEGIN:DAYLIGHT
TZOFFSETFROM:+0000
TZOFFSETTO:+0100
TZNAME:BST
DTSTART:20230326T010000
END:DAYLIGHT
BEGIN:STANDARD
TZOFFSETFROM:+0100
TZOFFSETTO:+0000
TZNAME:GMT
DTSTART:20231029T010000
END:STANDARD
END:VTIMEZONE
BEGIN:VEVENT
DTSTART;TZID=Europe/London:20220820T120000
DTEND;TZID=Europe/London:20220820T220000
DTSTAMP:20260420T141007
CREATED:20220726T121233Z
LAST-MODIFIED:20220726T121233Z
UID:9631-1660996800-1661032800@www.theblackmorevale.co.uk
SUMMARY:Riverside Family Fest
DESCRIPTION:Riverside Family Fest\, is a fun family festival raising money for Children With Cancer UK\, and a couple of local charities\, The Vale Pantry in Sturminster Newton and The Big Yellow Bus Garden Project in Shillingstone. There will be live bands\, BBQ\, Bar\, childrens entertainment\, ice cream\, cream teas\, stalls bouncy castle\, rides and much more!
URL:https://www.theblackmorevale.co.uk/whats-on/riverside-family-fest/
LOCATION:Riverside Meadows\, The Bridge Sturminster Newton\, The Bridge\, Sturminster Newton\, DT102BS
CATEGORIES:charity event,Family event,Festival
ATTACH;FMTTYPE=image/jpeg:https://www.theblackmorevale.co.uk/wp-content/uploads/2022/07/Green-Pink-Creative-Summer-Concert-Festival-Flyer-1.jpg
ORGANIZER;CN="Ruth caldwell":MAILTO:riversidefamilyfest@outlook.com
END:VEVENT
END:VCALENDAR