BEGIN:VCALENDAR
VERSION:2.0
PRODID:-//The BV - ECPv6.15.20//NONSGML v1.0//EN
CALSCALE:GREGORIAN
METHOD:PUBLISH
X-WR-CALNAME:The BV
X-ORIGINAL-URL:https://www.theblackmorevale.co.uk
X-WR-CALDESC:Events for The BV
REFRESH-INTERVAL;VALUE=DURATION:PT1H
X-Robots-Tag:noindex
X-PUBLISHED-TTL:PT1H
BEGIN:VTIMEZONE
TZID:Europe/London
BEGIN:DAYLIGHT
TZOFFSETFROM:+0000
TZOFFSETTO:+0100
TZNAME:BST
DTSTART:20230326T010000
END:DAYLIGHT
BEGIN:STANDARD
TZOFFSETFROM:+0100
TZOFFSETTO:+0000
TZNAME:GMT
DTSTART:20231029T010000
END:STANDARD
BEGIN:DAYLIGHT
TZOFFSETFROM:+0000
TZOFFSETTO:+0100
TZNAME:BST
DTSTART:20240331T010000
END:DAYLIGHT
BEGIN:STANDARD
TZOFFSETFROM:+0100
TZOFFSETTO:+0000
TZNAME:GMT
DTSTART:20241027T010000
END:STANDARD
BEGIN:DAYLIGHT
TZOFFSETFROM:+0000
TZOFFSETTO:+0100
TZNAME:BST
DTSTART:20250330T010000
END:DAYLIGHT
BEGIN:STANDARD
TZOFFSETFROM:+0100
TZOFFSETTO:+0000
TZNAME:GMT
DTSTART:20251026T010000
END:STANDARD
BEGIN:DAYLIGHT
TZOFFSETFROM:+0000
TZOFFSETTO:+0100
TZNAME:BST
DTSTART:20260329T010000
END:DAYLIGHT
BEGIN:STANDARD
TZOFFSETFROM:+0100
TZOFFSETTO:+0000
TZNAME:GMT
DTSTART:20261025T010000
END:STANDARD
BEGIN:DAYLIGHT
TZOFFSETFROM:+0000
TZOFFSETTO:+0100
TZNAME:BST
DTSTART:20270328T010000
END:DAYLIGHT
BEGIN:STANDARD
TZOFFSETFROM:+0100
TZOFFSETTO:+0000
TZNAME:GMT
DTSTART:20271031T010000
END:STANDARD
END:VTIMEZONE
BEGIN:VEVENT
DTSTART;TZID=Europe/London:20241002T190000
DTEND;TZID=Europe/London:20241002T213000
DTSTAMP:20260422T000311
CREATED:20240606T121730Z
LAST-MODIFIED:20240606T121749Z
UID:28661-1727895600-1727904600@www.theblackmorevale.co.uk
SUMMARY:Wincanton Camera Club present a talk by Charlie Waite\, landscape photographer
DESCRIPTION:Wincanton Camera Club present a talk by Charlie Waite. Regarded as one of this country’s top landscape photographers with a worldwide reputation\, his photographs are held in private and corporate collections. Charlie has lectured throughout the UK\, Europe and US with solo exhibitions in places such as London\, Tokyo\, Sydney\, Brisbane\, Melbourne\, New York and California. In 2016 he was invited by the Royal Academy of Arts to exhibit in their Summer Exhbition. \nCharlie is a Fellow of the Royal Photographic Society and holds an honorary Fellowship of the British Institute of Professional Photographers. Having started out working for the BBC behind the scenes\, Charlie is now frequently seen on British Television discussing the finer aspects of landscape photography. He is the owner and founder of Light & Land\, the UK’s leading photographic workshop and tour company which has been running tours\, courses and workshops for over 29 years with the help of a select team of photographers.\nIn 2007 Charlie launched the UK Landscape Photographer of the Year\, an international competition open to all\, which ties in with Charlie’s desire to share his passion and appreciation of the beauty of our surroundings through photography. \nFunds raised from the evening will be shared with The Disabled Photographers’ charity. A raffle prize offers a chance to own one of Charlie’s prints.
URL:https://www.theblackmorevale.co.uk/whats-on/wincanton-camera-club-present-a-talk-by-charlie-waite-landscape-photographer/
LOCATION:Wincanton Memorial Hall\, High Street\, Wincanton\, Somerset\, BA9 9JX
CATEGORIES:Art,Book Talks,Exhibition,lectures & Talks
ATTACH;FMTTYPE=image/jpeg:https://www.theblackmorevale.co.uk/wp-content/uploads/2024/06/Charlie_Waite.jpeg
ORGANIZER;CN="Wincanton camera club":MAILTO:chairman@wincantoncameraclub.co.uk
END:VEVENT
BEGIN:VEVENT
DTSTART;TZID=Europe/London:20250124T100000
DTEND;TZID=Europe/London:20250125T150000
DTSTAMP:20260422T000311
CREATED:20250113T163510Z
LAST-MODIFIED:20250113T163511Z
UID:36128-1737712800-1737817200@www.theblackmorevale.co.uk
SUMMARY:Sturminster Newton Wedding Dress Exhibition
DESCRIPTION:This annual exhibition of wedding dresses at St Mary’s Church in Sturminster Newton is in collaboration with the Sturminster Newton Wedding Fair held in The Exchange on Saturday 25th January 2025.\n\nEach dress on display has a story and provides a fascinating insight from brides with a local connection.
URL:https://www.theblackmorevale.co.uk/whats-on/sturminster-newton-wedding-dress-exhibition/
LOCATION:St Mary’s Church\, Sturminster Newton\, Church Lane\, Sturminster Newton\, DT10 2HG
CATEGORIES:Exhibition,Family event,Festival,History,Wedding
ATTACH;FMTTYPE=image/jpeg:https://www.theblackmorevale.co.uk/wp-content/uploads/2025/01/Wedding-Fest-24-6.jpg
END:VEVENT
BEGIN:VEVENT
DTSTART;TZID=Europe/London:20250516T100000
DTEND;TZID=Europe/London:20250517T170000
DTSTAMP:20260422T000311
CREATED:20250206T161535Z
LAST-MODIFIED:20250206T161541Z
UID:37264-1747389600-1747501200@www.theblackmorevale.co.uk
SUMMARY:Defashion Dorset
DESCRIPTION:Hawkers Farm is hosting Defashion Dorset on Fri 16th & Sat 17th May 2025 now in its third year. Founded by Jennifer Morisetti as an opportunity to celebrate local fibre growers and makers and a local clothing culture. Enjoy talks\, demonstrations and inspiring local exhibitors. Workshops will run over the 2 days and include upcycling\, pattern making\, mending techniques and embroidery
URL:https://www.theblackmorevale.co.uk/whats-on/defashion-dorset-2/
LOCATION:Hawkers Farm\, Stour Provost\, Gillingham\, SP8 5LZ
CATEGORIES:Crafts,Exhibition,Workshop
ATTACH;FMTTYPE=image/jpeg:https://www.theblackmorevale.co.uk/wp-content/uploads/2025/02/1.jpg
ORGANIZER;CN="Jennifer Morisetti":MAILTO:info@hawkersfarm.org
END:VEVENT
BEGIN:VEVENT
DTSTART;TZID=Europe/London:20250613T100000
DTEND;TZID=Europe/London:20250615T040000
DTSTAMP:20260422T000311
CREATED:20250512T223700Z
LAST-MODIFIED:20250512T223702Z
UID:41523-1749808800-1749960000@www.theblackmorevale.co.uk
SUMMARY:Stalbridge Sold exhibition
DESCRIPTION:Stalbridge History Society presents a NEW exhibition ‘Stalbridge Sold- A town under the hammer’\, at Stalbridge Hall from Friday 13th June to Sunday 15th June 2025\n\nWe invite you to join us for a trip back to 1918.\nOur main exhibition illustrates what life was like for Stalbridge residents during a time of turmoil.\nThe stories\, photographs and history it contains are taken from our newly published 350 page book\, and there will be an opportunity to view and possibly purchase a copy at the exhibition. We have already sold out of two print runs in the last couple of months\, so this may be your last chance to acquire a copy!\n\nOpening times are: Friday 13th June from 10.00am to 12.30pm\, Saturday 14th and Sunday 15th June from 10.00am to 4.00pm.\n\nAnd for one day only\, join us for the ‘Stalbridge Family & Local History Fair’ on Saturday 14th June 2025 in the Community Hall at Stalbridge Hall.\nThis one day event runs at the same time as the main exhibition on Saturday only.\nFamily & local history societies and commercial exhibitors will be in the Community Hall on Saturday for you to come and chat with\, ask advice and learn more about researching your family or local area.\n\nSo do come along and find out what life was like in Stalbridge\, over 100 years ago\, as the First World War was coming to an end\, and when Lord Stalbridge decided to sell the entire town at auction.\n\nFREE ENTRY | REFRESHMENTS | FREE PARKING | WHEELCHAIR FRIENDLY\n\nThis exhibition has been sponsored by Dorset Council\, Stalbridge Town Council and Stalbridge Community Shop.
URL:https://www.theblackmorevale.co.uk/whats-on/stalbridge-sold-exhibition/
LOCATION:Stalbridge Village Hall\, Lower Road\, Stalbridge\, DT10 2NF
CATEGORIES:Book Launch,Exhibition
ATTACH;FMTTYPE=image/jpeg:https://www.theblackmorevale.co.uk/wp-content/uploads/2025/05/IMG_0362.jpeg
ORGANIZER;CN="Stalbridge History Society":MAILTO:stalbridgehistory@gmail.com
END:VEVENT
BEGIN:VEVENT
DTSTART;TZID=Europe/London:20250618T190000
DTEND;TZID=Europe/London:20250618T220000
DTSTAMP:20260422T000311
CREATED:20250622T092546Z
LAST-MODIFIED:20250622T092547Z
UID:42924-1750273200-1750284000@www.theblackmorevale.co.uk
SUMMARY:Art Meets Sky: Helm Gallery Brings Bold 'DISRUPTION' Exhibition to Branksome's Roof Terrace
DESCRIPTION:Rockwater Branksome is hosting an exclusive one-night-only rooftop takeover by Brighton’s Helm Gallery on Wednesday\, June 18th. \n\nThe evening will showcase thought-provoking prints and original works from over 10 different artists set against the coastal backdrop of Branksome at sunset.\n\nThis rooftop takeover represents everything Helm Gallery stands for – bringing exceptional art into unexpected spaces where people can truly connect with both the work and each other\,” said Eden Maseyk\, Co-founder of Helm. “There’s something magical about experiencing disruptive art against the backdrop of the Branksome coast at sunset.”\n\nHelm Gallery has redefined the traditional gallery experience since opening\, combining limited edition prints and original pieces across two floors with an innovative cocktail bar concept. The gallery’s main exhibition hall regularly hosts conversation-sparking shows\, while the top floor features carefully curated collections in an atmosphere designed for lingering\, connecting\, and finding inspiration.\n\nGuests at the Rockwater Branksome pop-up will be welcomed with a complimentary glass of sparkling wine on arrival\, alongside carefully selected canapés. Throughout the evening\, visitors can experience a true taste of Helm with a specially curated cocktail menu available for purchase\, featuring gallery favorites such as the Chilli Peach Margarita and Dark Chocolate Sea Salt Espresso Martini. The combination of exceptional art\, Helm’s signature drinks\, and the dramatic coastal rooftop setting promises an unforgettable evening that brings every aspect of the Brighton gallery experience to the coast.\n\nThe ‘DISRUPTION’ pop-up offers a tantalizing preview of Helm Gallery’s full offerings\, inviting art enthusiasts and cultural explorers to experience why Brighton’s boldest culture space has become a destination for those seeking something beyond the ordinary gallery visit.\n\nThis exclusive event is part of Rockwater Branksome’s dynamic summer programming\, which includes Roebuck Supper Clubs during English Wine Week (June 21-29)\, sound baths led by in-house wellness expert Vivienne Yardley\, and weekend Sunset Sessions in collaboration with Casamigos on the roof terrace.
URL:https://www.theblackmorevale.co.uk/whats-on/art-meets-sky-helm-gallery-brings-bold-disruption-exhibition-to-branksomes-roof-terrace/
CATEGORIES:Art,Exhibition,Food & Drink,music
ATTACH;FMTTYPE=image/jpeg:https://www.theblackmorevale.co.uk/wp-content/uploads/2025/06/IMG_2890.jpg
END:VEVENT
BEGIN:VEVENT
DTSTART;TZID=Europe/London:20250626T000000
DTEND;TZID=Europe/London:20250629T235959
DTSTAMP:20260422T000311
CREATED:20250516T142247Z
LAST-MODIFIED:20250516T142250Z
UID:41633-1750896000-1751241599@www.theblackmorevale.co.uk
SUMMARY:Photography and Digital Art Exhibition
DESCRIPTION:The Reflections of Nature exhibition will showcase the varied photographic artwork of two talented local artists who take inspiration from the light and energy of the natural world\, cycles of the sun and moon and the landscape around them.  There will be framed pictures\, prints\, cards and other items for sale. The venue has wheelchair access and toilets.
URL:https://www.theblackmorevale.co.uk/whats-on/photography-and-digital-art-exhibition/
LOCATION:The old school Room\, Winterborne Whitechurch\, dorset\, DT11 OAN\, United Kingdom
CATEGORIES:Exhibition
ATTACH;FMTTYPE=image/jpeg:https://www.theblackmorevale.co.uk/wp-content/uploads/2025/05/Untitled_Artwork.jpeg
ORGANIZER;CN="Maggie Curtis/Gilly Hopson":MAILTO:maggiecurtis1965@gmail.com
END:VEVENT
BEGIN:VEVENT
DTSTART;TZID=Europe/London:20250719T110000
DTEND;TZID=Europe/London:20250727T170000
DTSTAMP:20260422T000311
CREATED:20250528T083540Z
LAST-MODIFIED:20250528T083542Z
UID:42012-1752922800-1753635600@www.theblackmorevale.co.uk
SUMMARY:Milton Abbas Art Group Exhibition
DESCRIPTION:Our annual exhibition is held in the Reading Rooms\, directly opposite St James’ Church\, at the centre of The Street. The iconic cottages and beautiful surroundings add to the quintessential village charm and create an inspirational setting.\n\nThere are lots of unique styles and mediums to suit plenty of different tastes\, and exhibiting artists will have original works for sale\, as well as prints\, greetings cards\, bookmarks\, and other items – great for purchasing gifts that are just that little bit different.\n\nPlease do come and join us for a wander – everybody’s welcome!
URL:https://www.theblackmorevale.co.uk/whats-on/milton-abbas-art-group-exhibition/
LOCATION:The Reading Rooms\, Milton Abbas\, The Reading Rooms\, The Street\, Milton Abbas\, DT11 0BW
CATEGORIES:Art,Exhibition
ATTACH;FMTTYPE=image/jpeg:https://www.theblackmorevale.co.uk/wp-content/uploads/2025/05/MAAG-Exhibition-poster-2025.jpg
ORGANIZER;CN="Milton Abbas Art Group":MAILTO:miltonabbasart@gmail.com
END:VEVENT
BEGIN:VEVENT
DTSTART;TZID=Europe/London:20250726T100000
DTEND;TZID=Europe/London:20250726T170000
DTSTAMP:20260422T000311
CREATED:20250527T151339Z
LAST-MODIFIED:20250527T151341Z
UID:41977-1753524000-1753549200@www.theblackmorevale.co.uk
SUMMARY:Strawberry Cottage Studio at Milton Abbas Street Fair
DESCRIPTION:Strawberry Cottage Studio is opening as part the Milton Abbas Street Fair on Saturday 26th July. Louise Freir will be displaying many creative pieces such as pen and watercolour paintings of Dorset\, silk paintings and specialist fabric cushions. If you are unable to attend the street fair\, you could always contact Louise to make an appointment and pop in: www.StrawberryCottageStudio.com
URL:https://www.theblackmorevale.co.uk/whats-on/strawberry-cottage-studio-at-milton-abbas-street-fair/
LOCATION:Milton Abbas\, The Street\, Milton Abbas\, Dorset\, DT11 0BP\, United Kingdom
CATEGORIES:Art,charity event,craft fair,Crafts,Exhibition,Fete,Open day
ATTACH;FMTTYPE=image/jpeg:https://www.theblackmorevale.co.uk/wp-content/uploads/2025/05/20250527_151814-COLLAGE.jpg
ORGANIZER;CN="Louise Freir":MAILTO:lfreirart@gmail.com 0
END:VEVENT
BEGIN:VEVENT
DTSTART;TZID=Europe/London:20250829T170000
DTEND;TZID=Europe/London:20250829T200000
DTSTAMP:20260422T000311
CREATED:20250622T092632Z
LAST-MODIFIED:20250622T092633Z
UID:42867-1756486800-1756497600@www.theblackmorevale.co.uk
SUMMARY:"A Glimpse Behind Bars"
DESCRIPTION:Come and see what goes on at Guys Marsh Prison. You might be surprised @\n\nFriday 29th August – The Exchange\,  Sturminster Minister Newton\n\nFree entry: Welcome drink.
URL:https://www.theblackmorevale.co.uk/whats-on/a-glimpse-behind-bars/
LOCATION:Sturminster Newton\, Sturminster Newton\, Dt10\, United Kingdom
CATEGORIES:Exhibition
ATTACH;FMTTYPE=image/jpeg:https://www.theblackmorevale.co.uk/wp-content/uploads/2025/06/A-Glimpse-Behind-Bars-flyer.jpg
ORGANIZER;CN="Fiends of Guys Marsh":MAILTO:Fogmvicechair@outlook.com
END:VEVENT
BEGIN:VEVENT
DTSTART;TZID=Europe/London:20251103T093000
DTEND;TZID=Europe/London:20251224T163000
DTSTAMP:20260422T000311
CREATED:20251103T094248Z
LAST-MODIFIED:20251103T094252Z
UID:52535-1762162200-1766593800@www.theblackmorevale.co.uk
SUMMARY:Handmade for Christmas
DESCRIPTION:Handmade for Christmasat the Workhouse Chapel\n\n\nOpen Daily 1st November – 24th December9.30 a.m. – 4.30 p.m.\n\n\nOur gifts are all lovingly Made by Hand by real people\, working in real sheds\, with real tools. You won’t find anything mass-produced here! We have over 70 local artists and makers exhibiting their work – you might even find something for those tricky to buy for people in your life or a treat for yourself that you just can’t resist!
URL:https://www.theblackmorevale.co.uk/whats-on/handmade-for-christmas/
LOCATION:The Workhouse Chapel\, Strurminster Newton\, Bath Road\, Sturminster Newton\, Dorset\, DT10 1DS\, United Kingdom
CATEGORIES:Art,Christmas,Christmas fair,Crafts,Exhibition,gifts
ATTACH;FMTTYPE=image/jpeg:https://www.theblackmorevale.co.uk/wp-content/uploads/2025/11/Unknown.webp
ORGANIZER;CN="Rose Hatcher":MAILTO:handmade@workhousechapel.co.uk
END:VEVENT
BEGIN:VEVENT
DTSTART;TZID=Europe/London:20260121T080000
DTEND;TZID=Europe/London:20260121T170000
DTSTAMP:20260422T000311
CREATED:20260121T125702Z
LAST-MODIFIED:20260121T125704Z
UID:73103-1768982400-1769014800@www.theblackmorevale.co.uk
SUMMARY:Occupied / Unoccupied is a photography exhibition by Ukrainian photographer Iryna Sozanska
DESCRIPTION:Occupied / Unoccupied is a photography exhibition by Ukrainian photographer Iryna Sozanska\, living in Dorset\, on display at Russell-Cotes Art Gallery & Museum from 20 January to 8 March 2026.\nThe exhibition brings together photographs taken over four years\, from the first days of the full-scale invasion of Ukraine\, when the artist and her family were living under occupation and evacuating\, to images from their life in safety in Dorset. Shown side by side\, the photographs explore the contrast between war and peace\, fear and safety\, loss and renewal.\nAlongside the photographs\, visitors will see a fragment of a Russian missile and a short video with sound filmed during the early days of the invasion\, adding a powerful physical and emotional dimension to the exhibition.\nOccupied / Unoccupied is about survival\, resilience\, healing\, and human connection. It will resonate with Ukrainians who have settled in the UK since 2022\, as well as with local communities who care about the situation in Ukraine and want to better understand the human stories behind the headlines.
URL:https://www.theblackmorevale.co.uk/whats-on/occupied-unoccupied-is-a-photography-exhibition-by-ukrainian-photographer-iryna-sozanska/
LOCATION:Russell-Cotes Art Gallery & Museum\, West Cliff Promenade\,\, Bournemouth\, Dorset\, BH1 3AA\, United Kingdom
CATEGORIES:Exhibition
END:VEVENT
BEGIN:VEVENT
DTSTART;TZID=Europe/London:20260221T100000
DTEND;TZID=Europe/London:20260221T130000
DTSTAMP:20260422T000311
CREATED:20260102T123113Z
LAST-MODIFIED:20260102T123115Z
UID:72384-1771668000-1771678800@www.theblackmorevale.co.uk
SUMMARY:Card Collectors Show
DESCRIPTION:TCG Trading card collectors show in Bournemouth. This takes place on 21st February 2026. Meet fellow TGC collectors interested in Pokémon\, Yu-Gi-Oh!\, One Piece\, Magic The Gathering\, Warhammer\, Lorcana\, Dragon Ball\, and Achroma. \nThousands of premium and budget Pokémon\, Magic The Gathering\, Yu-Gi-Oh! cards on sale. \nJoin other fans at this Trading Card Convention UK\, featuring top sellers and a vibrant community of collectors from across the South West (and beyond!).
URL:https://www.theblackmorevale.co.uk/whats-on/card-collectors-show/
LOCATION:The Bridge Access Dorset\, Chaseside\, Bournemouth\, Dorset\, BH7 7BX\, United Kingdom
CATEGORIES:Exhibition
ORGANIZER;CN="Card Collectors Show":MAILTO:info@card-collectors.co.uk
END:VEVENT
END:VCALENDAR