BEGIN:VCALENDAR
VERSION:2.0
PRODID:-//The BV - ECPv6.15.20//NONSGML v1.0//EN
CALSCALE:GREGORIAN
METHOD:PUBLISH
X-ORIGINAL-URL:https://www.theblackmorevale.co.uk
X-WR-CALDESC:Events for The BV
REFRESH-INTERVAL;VALUE=DURATION:PT1H
X-Robots-Tag:noindex
X-PUBLISHED-TTL:PT1H
BEGIN:VTIMEZONE
TZID:Europe/London
BEGIN:DAYLIGHT
TZOFFSETFROM:+0000
TZOFFSETTO:+0100
TZNAME:BST
DTSTART:20220327T010000
END:DAYLIGHT
BEGIN:STANDARD
TZOFFSETFROM:+0100
TZOFFSETTO:+0000
TZNAME:GMT
DTSTART:20221030T010000
END:STANDARD
BEGIN:DAYLIGHT
TZOFFSETFROM:+0000
TZOFFSETTO:+0100
TZNAME:BST
DTSTART:20230326T010000
END:DAYLIGHT
BEGIN:STANDARD
TZOFFSETFROM:+0100
TZOFFSETTO:+0000
TZNAME:GMT
DTSTART:20231029T010000
END:STANDARD
BEGIN:DAYLIGHT
TZOFFSETFROM:+0000
TZOFFSETTO:+0100
TZNAME:BST
DTSTART:20240331T010000
END:DAYLIGHT
BEGIN:STANDARD
TZOFFSETFROM:+0100
TZOFFSETTO:+0000
TZNAME:GMT
DTSTART:20241027T010000
END:STANDARD
END:VTIMEZONE
BEGIN:VEVENT
DTSTART;TZID=Europe/London:20230204T110000
DTEND;TZID=Europe/London:20230204T120000
DTSTAMP:20260421T082210
CREATED:20221206T105826Z
LAST-MODIFIED:20221212T110713Z
UID:12967-1675508400-1675512000@www.theblackmorevale.co.uk
SUMMARY:The Sky at Night
DESCRIPTION:Astronomy: An introductory insight with Niky and Anthony from Shaftesbury Astronomy Club.
URL:https://www.theblackmorevale.co.uk/whats-on/the-sky-at-night/
LOCATION:Shaftesbury Library\, Bell Street\, Shaftesbury\, Shaftesbury Library SP7 8AE
CATEGORIES:Exhibition,Family event
ATTACH;FMTTYPE=image/jpeg:https://www.theblackmorevale.co.uk/wp-content/uploads/2022/12/Astronomy-Portrait-.jpg
ORGANIZER;CN="Shaftesbury Library":MAILTO:shaftesburylibrary@dorsetcouncil.gov.uk
END:VEVENT
END:VCALENDAR