BEGIN:VCALENDAR
VERSION:2.0
PRODID:-//The BV - ECPv6.15.20//NONSGML v1.0//EN
CALSCALE:GREGORIAN
METHOD:PUBLISH
X-ORIGINAL-URL:https://www.theblackmorevale.co.uk
X-WR-CALDESC:Events for The BV
REFRESH-INTERVAL;VALUE=DURATION:PT1H
X-Robots-Tag:noindex
X-PUBLISHED-TTL:PT1H
BEGIN:VTIMEZONE
TZID:Europe/London
BEGIN:DAYLIGHT
TZOFFSETFROM:+0000
TZOFFSETTO:+0100
TZNAME:BST
DTSTART:20220327T010000
END:DAYLIGHT
BEGIN:STANDARD
TZOFFSETFROM:+0100
TZOFFSETTO:+0000
TZNAME:GMT
DTSTART:20221030T010000
END:STANDARD
BEGIN:DAYLIGHT
TZOFFSETFROM:+0000
TZOFFSETTO:+0100
TZNAME:BST
DTSTART:20230326T010000
END:DAYLIGHT
BEGIN:STANDARD
TZOFFSETFROM:+0100
TZOFFSETTO:+0000
TZNAME:GMT
DTSTART:20231029T010000
END:STANDARD
BEGIN:DAYLIGHT
TZOFFSETFROM:+0000
TZOFFSETTO:+0100
TZNAME:BST
DTSTART:20240331T010000
END:DAYLIGHT
BEGIN:STANDARD
TZOFFSETFROM:+0100
TZOFFSETTO:+0000
TZNAME:GMT
DTSTART:20241027T010000
END:STANDARD
END:VTIMEZONE
BEGIN:VEVENT
DTSTART;TZID=Europe/London:20230121T110000
DTEND;TZID=Europe/London:20230121T120000
DTSTAMP:20260421T094836
CREATED:20221206T104007Z
LAST-MODIFIED:20221206T104007Z
UID:12960-1674298800-1674302400@www.theblackmorevale.co.uk
SUMMARY:Classic Vintage Motorcycle Display
DESCRIPTION:Vintage Classic Motorcycle Display. A fantastic and unique opportunity to see these beautiful machines inside and outside the library and to meet Members of the Dorset VMCC.
URL:https://www.theblackmorevale.co.uk/whats-on/classic-vintage-motorcycle-display/
LOCATION:Shaftesbury Library\, Bell Street\, Shaftesbury\, Shaftesbury Library SP7 8AE
CATEGORIES:Exhibition,Family
ATTACH;FMTTYPE=image/jpeg:https://www.theblackmorevale.co.uk/wp-content/uploads/2022/12/Motorcycles-Portrait.jpg
ORGANIZER;CN="Shaftesbury Library":MAILTO:shaftesburylibrary@dorsetcouncil.gov.uk
END:VEVENT
END:VCALENDAR