BEGIN:VCALENDAR
VERSION:2.0
PRODID:-//The BV - ECPv6.15.20//NONSGML v1.0//EN
CALSCALE:GREGORIAN
METHOD:PUBLISH
X-WR-CALNAME:The BV
X-ORIGINAL-URL:https://www.theblackmorevale.co.uk
X-WR-CALDESC:Events for The BV
REFRESH-INTERVAL;VALUE=DURATION:PT1H
X-Robots-Tag:noindex
X-PUBLISHED-TTL:PT1H
BEGIN:VTIMEZONE
TZID:Europe/London
BEGIN:DAYLIGHT
TZOFFSETFROM:+0000
TZOFFSETTO:+0100
TZNAME:BST
DTSTART:20210328T010000
END:DAYLIGHT
BEGIN:STANDARD
TZOFFSETFROM:+0100
TZOFFSETTO:+0000
TZNAME:GMT
DTSTART:20211031T010000
END:STANDARD
BEGIN:DAYLIGHT
TZOFFSETFROM:+0000
TZOFFSETTO:+0100
TZNAME:BST
DTSTART:20220327T010000
END:DAYLIGHT
BEGIN:STANDARD
TZOFFSETFROM:+0100
TZOFFSETTO:+0000
TZNAME:GMT
DTSTART:20221030T010000
END:STANDARD
BEGIN:DAYLIGHT
TZOFFSETFROM:+0000
TZOFFSETTO:+0100
TZNAME:BST
DTSTART:20230326T010000
END:DAYLIGHT
BEGIN:STANDARD
TZOFFSETFROM:+0100
TZOFFSETTO:+0000
TZNAME:GMT
DTSTART:20231029T010000
END:STANDARD
END:VTIMEZONE
BEGIN:VEVENT
DTSTART;TZID=Europe/London:20221008T183000
DTEND;TZID=Europe/London:20221008T183000
DTSTAMP:20260421T140520
CREATED:20220830T135447Z
LAST-MODIFIED:20220830T135447Z
UID:10457-1665253800-1665253800@www.theblackmorevale.co.uk
SUMMARY:Gala Ball 'Mission Possible'
DESCRIPTION:GALA BALL – LAST REMAINING TICKETS – SATURDAY 8 OCTOBER 2022\nJoin us for an unforgettable night of dining and dancing to live music raising funds for the Dorset & Somerset Air Ambulance at the beautiful Ilsington House at Puddletown.\n6.30pm – Sparkling reception\n1am Carriages\nBlack tie – Only £90 per tickets \nContact – events@ilsington.house or 07919 488057
URL:https://www.theblackmorevale.co.uk/whats-on/gala-ball-mission-possible/
LOCATION:DT2 8TQ\, Ilsington House\, Puddletown\, DT2 8TQ
CATEGORIES:charity event,Dance,Exhibition,Food & Drink,music
ATTACH;FMTTYPE=image/jpeg:https://www.theblackmorevale.co.uk/wp-content/uploads/2022/08/GalaBall-Save-The-Date_D1-scaled.jpg
ORGANIZER;CN="Mrs Diment":MAILTO:events@ilsington.house
END:VEVENT
BEGIN:VEVENT
DTSTART;TZID=Europe/London:20221028T160000
DTEND;TZID=Europe/London:20221028T200000
DTSTAMP:20260421T140520
CREATED:20221006T115809Z
LAST-MODIFIED:20221006T115809Z
UID:11291-1666972800-1666987200@www.theblackmorevale.co.uk
SUMMARY:Museums After Dark 2022
DESCRIPTION:Discover three incredible museums on one unforgettable night. \nFrom 4pm – 8pm on Friday 28th October\, you can visit Dorset Museum\, the Keep Military Museum and Shire Hall Museum with just one ticket! \nDiscover Dorchester’s fascinating history whilst exploring three of the best museums in the South West. Adult tickets are £10 and children go free! \nShow your receipt at the first venue you visit to collect a Museums After Dark card\, which can be stamped at each museum. Show your completed card at the last venue you visit for a prize!
URL:https://www.theblackmorevale.co.uk/whats-on/museums-after-dark-2022/
LOCATION:Keep Military Museum\, Barrack Road\, Dorchester\, DT1 1RN
CATEGORIES:Exhibition,Family event,Halloween
ATTACH;FMTTYPE=image/png:https://www.theblackmorevale.co.uk/wp-content/uploads/2022/10/Museums-After-Dark-Instagram-Post-Square.png
ORGANIZER;CN="Keep Military Museum":MAILTO:admin@keepmilitarymuseum.org
END:VEVENT
END:VCALENDAR