BEGIN:VCALENDAR
VERSION:2.0
PRODID:-//The BV - ECPv6.15.20//NONSGML v1.0//EN
CALSCALE:GREGORIAN
METHOD:PUBLISH
X-WR-CALNAME:The BV
X-ORIGINAL-URL:https://www.theblackmorevale.co.uk
X-WR-CALDESC:Events for The BV
REFRESH-INTERVAL;VALUE=DURATION:PT1H
X-Robots-Tag:noindex
X-PUBLISHED-TTL:PT1H
BEGIN:VTIMEZONE
TZID:Europe/London
BEGIN:DAYLIGHT
TZOFFSETFROM:+0000
TZOFFSETTO:+0100
TZNAME:BST
DTSTART:20210328T010000
END:DAYLIGHT
BEGIN:STANDARD
TZOFFSETFROM:+0100
TZOFFSETTO:+0000
TZNAME:GMT
DTSTART:20211031T010000
END:STANDARD
BEGIN:DAYLIGHT
TZOFFSETFROM:+0000
TZOFFSETTO:+0100
TZNAME:BST
DTSTART:20220327T010000
END:DAYLIGHT
BEGIN:STANDARD
TZOFFSETFROM:+0100
TZOFFSETTO:+0000
TZNAME:GMT
DTSTART:20221030T010000
END:STANDARD
BEGIN:DAYLIGHT
TZOFFSETFROM:+0000
TZOFFSETTO:+0100
TZNAME:BST
DTSTART:20230326T010000
END:DAYLIGHT
BEGIN:STANDARD
TZOFFSETFROM:+0100
TZOFFSETTO:+0000
TZNAME:GMT
DTSTART:20231029T010000
END:STANDARD
END:VTIMEZONE
BEGIN:VEVENT
DTSTART;TZID=Europe/London:20220602T100000
DTEND;TZID=Europe/London:20220605T160000
DTSTAMP:20260421T192403
CREATED:20220527T175044Z
LAST-MODIFIED:20220527T175044Z
UID:8605-1654164000-1654444800@www.theblackmorevale.co.uk
SUMMARY:Bere Regis Parish Church Jubilee Festival Exhibition
DESCRIPTION:A four day exhibition of Arts\, Crafts Cards\, Photography\, Poetry\, Flowers and Quilts from 10.00 – 4.00 over the Jubilee holiday.
URL:https://www.theblackmorevale.co.uk/whats-on/bere-regis-parish-church-jubilee-festival-exhibition/
LOCATION:St John the Baptist Church Bere Regis\, West Street\, Bere Regis\, BH20 7HQ\, United Kingdom
CATEGORIES:Exhibition
ATTACH;FMTTYPE=image/jpeg:https://www.theblackmorevale.co.uk/wp-content/uploads/2022/05/Poster-and-flyer-front-scaled.jpg
END:VEVENT
BEGIN:VEVENT
DTSTART;TZID=Europe/London:20220602T100000
DTEND;TZID=Europe/London:20220605T160000
DTSTAMP:20260421T192403
CREATED:20220527T175302Z
LAST-MODIFIED:20220527T175302Z
UID:8611-1654164000-1654444800@www.theblackmorevale.co.uk
SUMMARY:Bere Regis Parish Church Jubilee Festival Exhibition
DESCRIPTION:A four day exhibition of Arts\, Crafts Cards\, Photography\, Poetry\, Flowers and Quilts from 10.00 – 4.00 over the Jubilee holiday. Refreshments served from 11.00 to 3.00.
URL:https://www.theblackmorevale.co.uk/whats-on/bere-regis-parish-church-jubilee-festival-exhibition-3/
LOCATION:Dorset
CATEGORIES:Exhibition
ATTACH;FMTTYPE=image/jpeg:https://www.theblackmorevale.co.uk/wp-content/uploads/2022/05/Poster-and-flyer-front-2-scaled.jpg
ORGANIZER;CN="Alison Debenham":MAILTO:alison@culverdell.co.uk
END:VEVENT
BEGIN:VEVENT
DTSTART;TZID=Europe/London:20220603T120000
DTEND;TZID=Europe/London:20220603T180000
DTSTAMP:20260421T192403
CREATED:20220518T084244Z
LAST-MODIFIED:20220518T084244Z
UID:8366-1654257600-1654279200@www.theblackmorevale.co.uk
SUMMARY:Wincanton Town Festival [WTF] presents 'Jubilee' - a lively  intimate celebration of the Queen’s Platinum Jubilee.
DESCRIPTION:WTF and Greening the eARTh gallery commissioned local\ncraft business Bootmakers to run workshops within Wincanton’s\ntwo primary schools and hence created over 500 ‘postage stamp\ncrowns’ artworks that have been crafted entirely from found\nmaterials. These unique artworks will be exhibited for the month\nof June at the central location of Greening the eARTh gallery and\nother shops located on Wincanton’s High Street.\nIn addition to this art exhibition WTF will play host to a\nfestival style garden party within the walls of the enchanting\nwalled garden that date back to the 18th century. Within these\nbucolic walls the public will experience a lively array of world\nmusic\, art workshops\, demonstrations\, food and drink. The public\nwill be invited to bring along a picnic if they so desire.
URL:https://www.theblackmorevale.co.uk/whats-on/wincanton-town-festival-wtf-presents-jubilee-a-lively-intimate-celebration-of-the-queens-platinum-jubilee/
LOCATION:ba9 9jn\, Greening the eARTh Gallery\, Wincanton\, Ba9 9jn
CATEGORIES:Art,Exhibition,Festival
ATTACH;FMTTYPE=image/jpeg:https://www.theblackmorevale.co.uk/wp-content/uploads/2022/05/BA7913B7-5AA1-44E7-891D-020035FAD7D3.jpeg
END:VEVENT
END:VCALENDAR