BEGIN:VCALENDAR
VERSION:2.0
PRODID:-//The BV - ECPv6.15.20//NONSGML v1.0//EN
CALSCALE:GREGORIAN
METHOD:PUBLISH
X-WR-CALNAME:The BV
X-ORIGINAL-URL:https://www.theblackmorevale.co.uk
X-WR-CALDESC:Events for The BV
REFRESH-INTERVAL;VALUE=DURATION:PT1H
X-Robots-Tag:noindex
X-PUBLISHED-TTL:PT1H
BEGIN:VTIMEZONE
TZID:Europe/London
BEGIN:DAYLIGHT
TZOFFSETFROM:+0000
TZOFFSETTO:+0100
TZNAME:BST
DTSTART:20240331T010000
END:DAYLIGHT
BEGIN:STANDARD
TZOFFSETFROM:+0100
TZOFFSETTO:+0000
TZNAME:GMT
DTSTART:20241027T010000
END:STANDARD
BEGIN:DAYLIGHT
TZOFFSETFROM:+0000
TZOFFSETTO:+0100
TZNAME:BST
DTSTART:20250330T010000
END:DAYLIGHT
BEGIN:STANDARD
TZOFFSETFROM:+0100
TZOFFSETTO:+0000
TZNAME:GMT
DTSTART:20251026T010000
END:STANDARD
BEGIN:DAYLIGHT
TZOFFSETFROM:+0000
TZOFFSETTO:+0100
TZNAME:BST
DTSTART:20260329T010000
END:DAYLIGHT
BEGIN:STANDARD
TZOFFSETFROM:+0100
TZOFFSETTO:+0000
TZNAME:GMT
DTSTART:20261025T010000
END:STANDARD
BEGIN:DAYLIGHT
TZOFFSETFROM:+0000
TZOFFSETTO:+0100
TZNAME:BST
DTSTART:20270328T010000
END:DAYLIGHT
BEGIN:STANDARD
TZOFFSETFROM:+0100
TZOFFSETTO:+0000
TZNAME:GMT
DTSTART:20271031T010000
END:STANDARD
END:VTIMEZONE
BEGIN:VEVENT
DTSTART;TZID=Europe/London:20251003T190000
DTEND;TZID=Europe/London:20251003T203000
DTSTAMP:20260421T183515
CREATED:20251001T223752Z
LAST-MODIFIED:20251001T223753Z
UID:50563-1759518000-1759523400@www.theblackmorevale.co.uk
SUMMARY:Tuning Fork Sound Bath with Angelic Healing
DESCRIPTION:Release your worries\, feel nurtured\, nourished and rebalance.\nEnjoy a soothing relaxation to calm the mind and body with angelic frequencies and harmonies of the tuning forks. Relax and let your worries slip away. A wonderfully healing session to rebalance emotional and physical health.\nSimply lay back\, get comfy and enjoy a tuning fork sound bath and meditation to reduce anxiety and promote healing with sound therapist and spiritual life coach Nicki Greenham.\nWHEN: Friday 3rd October 7pmWHERE: Buckland Newton Village Hall\, (halfway between Sherborne and Dorchester) DT2 7BZ\nPLEASE NOTE this is an allergy-friendly event. Please do not wear perfume or fragrances.\nThis is a small group event.Free parking is available\, with ground floor access.\n£15\, limited places.
URL:https://www.theblackmorevale.co.uk/whats-on/tuning-fork-sound-bath-with-angelic-healing/
LOCATION:Buckland Newton Village Hall\, Major's Common\, Buckland Newton\, dorset\, DT2 7BZ\, United Kingdom
CATEGORIES:classes,Health
END:VEVENT
BEGIN:VEVENT
DTSTART;TZID=Europe/London:20251108T090000
DTEND;TZID=Europe/London:20251108T160000
DTSTAMP:20260421T183515
CREATED:20251022T093500Z
LAST-MODIFIED:20251022T093502Z
UID:51569-1762592400-1762617600@www.theblackmorevale.co.uk
SUMMARY:Spoon Carving
DESCRIPTION:Event details\n\n\nView on What3Words\ngentle.stews.condense\n\n\nDate\nSaturday 8 November 2025\n\nTime\n9:00am – 4:00pm\n\n\n\n\nAbout the event\nAfter spending ten years swinging from trees as an arborist\, Adam decided a job was needed where he could keep both feet firmly on the ground\, whilst still being a part of the woodland around him. Having previously studied engineering\, woodworking seemed a natural step\, and working with the natural inclination of green wood soon developed into a passion.\n\nMany of his spoons have exquisite kolrosing decoration\, this is a traditional Scandinavian technique where single incised cuts are made to create a pattern\, the spoon is then oiled\, and a colourant rubbed into the incisions and once burnished the pattern is sealed in.\n\nAdam lives in West Dorset and runs spoon carving courses across the UK. During this one day course\, discover how to safely use the axe\, knife and hook knife\, what to look for when selecting wood\, spoon design and how to carve with confidence. Develop a passion for this heritage craft and connect with the natural world.\n\nYour spoons will be made from locally sources greenwood. You will create a unique spoon using simple hand tools. Over 18’s only.
URL:https://www.theblackmorevale.co.uk/whats-on/spoon-carving/
LOCATION:Kingcombe Visitor Centre\, Lower Kingcombe\, Toller Porcorum\, Dorchester\, DT2 0EQ
CATEGORIES:classes,Crafts,Workshop
ATTACH;FMTTYPE=image/jpeg:https://www.theblackmorevale.co.uk/wp-content/uploads/2025/10/Spoons-Adam-Hawker.webp
END:VEVENT
BEGIN:VEVENT
DTSTART;TZID=Europe/London:20260207T130000
DTEND;TZID=Europe/London:20260207T160000
DTSTAMP:20260421T183515
CREATED:20260130T172110Z
LAST-MODIFIED:20260131T095218Z
UID:73432-1770469200-1770480000@www.theblackmorevale.co.uk
SUMMARY:Gelli plate printing workshop with Creative Hug
DESCRIPTION:Join me\, Sharon\, for a fun afternoon learning the art of gelli plate printing. \nIn this workshop you’ll be using various botanicals such as leaves\, grasses or flowers\, along with magazines for transfer prints\, as I guide you through the step-by-step process of creating beautiful unique prints using a gel plate and acrylic paints. \nWith stunning views over Christchurch Harbour\, you’ll be in pleasant surroundings\, in a relaxed atmosphere\, and creating lots of beautiful prints to take home and frame or use in other projects. \nIt’s highly addictive and I’ll give you lots of inspiration so you can experiment with different processes to create beautiful monotype prints. \nCreative Hug offers lots of creative courses in a friendly\, relaxed atmosphere and craft kits are available to buy\, so you can try another creative hobby at home or buy as a gift. \n• Beautiful river setting with balcony• Tea\, coffee and biscuits provided• All materials included• Lots of colours to choose from
URL:https://www.theblackmorevale.co.uk/whats-on/gelli-plate-printing-workshop-with-creative-hug/
LOCATION:Stanpit Village Hall\, 162 Stanpit\, Christchurch\, Dorset\, BH23 3NE\, United Kingdom
CATEGORIES:Art,classes,Workshop
ATTACH;FMTTYPE=image/jpeg:https://www.theblackmorevale.co.uk/wp-content/uploads/2026/01/Unknown-1.webp
END:VEVENT
BEGIN:VEVENT
DTSTART;TZID=Europe/London:20260223T190000
DTEND;TZID=Europe/London:20260223T210000
DTSTAMP:20260421T183515
CREATED:20260203T224757Z
LAST-MODIFIED:20260203T224800Z
UID:73570-1771873200-1771880400@www.theblackmorevale.co.uk
SUMMARY:Motivation and Self-Care Workshops
DESCRIPTION:I run small\, supportive workshops for women over 45 who want to feel more confident and motivated. \nThere is a strong emphasis on self care\, which we all need more of. They’re gently guided but not overwhelming\, with just enough structure to feel safe and focused. \nWe share\, listen\, and learn from each other in a relaxed space where no one has to have all the answers. It’s very much a we’re all in this together kind of experience. \nCurrent dates – 23 February\, 16 March\, 13 April\, 11 May 2026
URL:https://www.theblackmorevale.co.uk/whats-on/motivation-and-self-care-workshops/
LOCATION:The Hub on the Heath\, 10 Adastral Rd\, Canford Heath\, Poole\, dorset\, BH17 8SA\, United Kingdom
CATEGORIES:classes,Community information,Health,Workshop
ORGANIZER;CN="Sue Coombs":MAILTO:dorsetsue@live.co.uk
END:VEVENT
BEGIN:VEVENT
DTSTART;TZID=Europe/London:20260412T130000
DTEND;TZID=Europe/London:20260412T160000
DTSTAMP:20260421T183515
CREATED:20260323T123912Z
LAST-MODIFIED:20260323T123914Z
UID:75653-1775998800-1776009600@www.theblackmorevale.co.uk
SUMMARY:Gelli plate printing workshop with Creative Hug
DESCRIPTION:Join me\, Sharon\, for a fun afternoon learning the art of gelli plate printing\, on Sunday\, 12th April\, 1-4pm. \nIn this workshop you’ll be using various leaves\, grasses or flowers\, along with magazines for transfer prints\, as I guide you through the step-by-step process of creating beautiful unique prints using a gel plate and acrylic paints. \nWith stunning views over Christchurch Harbour\, you’ll be in pleasant surroundings\, in a relaxed atmosphere and creating lots of beautiful prints to take home and frame or use in other projects. \nIt’s highly addictive and I’ll give you lots of inspiration so you can experiment with different processes to create beautiful monotype prints. \nCreative Hug offers lots of creative courses in a friendly\, relaxed atmosphere and craft kits are available to buy\, so you can try another creative hobby at home or buy as a gift. \n• Beautiful river setting with balcony\n• Tea\, coffee and biscuits provided\n• All materials included\n• Lots of colours to choose from
URL:https://www.theblackmorevale.co.uk/whats-on/gelli-plate-printing-workshop-with-creative-hug-3/
LOCATION:Stanpit Village Hall\, 162 Stanpit\, CHRISTCHURCH\, BH23 3NE\, United Kingdom
CATEGORIES:Art,classes,Crafts,Workshop
ORGANIZER;CN="Creative Hug":MAILTO:hello@creativehug.uk
END:VEVENT
END:VCALENDAR