BEGIN:VCALENDAR
VERSION:2.0
PRODID:-//The BV - ECPv6.15.20//NONSGML v1.0//EN
CALSCALE:GREGORIAN
METHOD:PUBLISH
X-WR-CALNAME:The BV
X-ORIGINAL-URL:https://www.theblackmorevale.co.uk
X-WR-CALDESC:Events for The BV
REFRESH-INTERVAL;VALUE=DURATION:PT1H
X-Robots-Tag:noindex
X-PUBLISHED-TTL:PT1H
BEGIN:VTIMEZONE
TZID:Europe/London
BEGIN:DAYLIGHT
TZOFFSETFROM:+0000
TZOFFSETTO:+0100
TZNAME:BST
DTSTART:20220327T010000
END:DAYLIGHT
BEGIN:STANDARD
TZOFFSETFROM:+0100
TZOFFSETTO:+0000
TZNAME:GMT
DTSTART:20221030T010000
END:STANDARD
BEGIN:DAYLIGHT
TZOFFSETFROM:+0000
TZOFFSETTO:+0100
TZNAME:BST
DTSTART:20230326T010000
END:DAYLIGHT
BEGIN:STANDARD
TZOFFSETFROM:+0100
TZOFFSETTO:+0000
TZNAME:GMT
DTSTART:20231029T010000
END:STANDARD
BEGIN:DAYLIGHT
TZOFFSETFROM:+0000
TZOFFSETTO:+0100
TZNAME:BST
DTSTART:20240331T010000
END:DAYLIGHT
BEGIN:STANDARD
TZOFFSETFROM:+0100
TZOFFSETTO:+0000
TZNAME:GMT
DTSTART:20241027T010000
END:STANDARD
END:VTIMEZONE
BEGIN:VEVENT
DTSTART;TZID=Europe/London:20231202T150000
DTEND;TZID=Europe/London:20231202T173000
DTSTAMP:20260420T104912
CREATED:20231120T103459Z
LAST-MODIFIED:20231120T103459Z
UID:22806-1701529200-1701538200@www.theblackmorevale.co.uk
SUMMARY:Festive Fun at Woodlands Village Hall
DESCRIPTION:Arrive at any point\n• Try your hand at festive crafts\n• Join in with singing to live music\n• Listen to seasonal stories\n• Enjoy mince pies and mulled wine\n• And when it turns dark\,\njoin us to switch on our Christmas lights\nThis is a free family event\nAll Welcome!
URL:https://www.theblackmorevale.co.uk/whats-on/festive-fun-at-woodlands-village-hall/
LOCATION:Woodlands Village Hall\, Verwood Road\, Woodlands\, BH21 8LJ
CATEGORIES:Christmas,Crafts,music
ATTACH;FMTTYPE=image/jpeg:https://www.theblackmorevale.co.uk/wp-content/uploads/2023/11/Xmas-23-A5-FINAL-1.jpg
END:VEVENT
BEGIN:VEVENT
DTSTART;TZID=Europe/London:20231209T100000
DTEND;TZID=Europe/London:20231210T160000
DTSTAMP:20260420T104912
CREATED:20231128T153220Z
LAST-MODIFIED:20231128T154039Z
UID:23096-1702116000-1702224000@www.theblackmorevale.co.uk
SUMMARY:Christmas Tree Festival
DESCRIPTION:Christmas Tree Festival at St Mary’s Church\, Sturminster Marshall on Sat 9th & Sun 10th December 10 am to 4pm. Beautifully decorated trees dedicated to charities. Children’s activities. Toy service Sun 9.15am. Carol singing Sun PM. Refreshments FREE ENTRY
URL:https://www.theblackmorevale.co.uk/whats-on/christmas-tree-festival/
CATEGORIES:Christmas
END:VEVENT
BEGIN:VEVENT
DTSTART;TZID=Europe/London:20231216T123000
DTEND;TZID=Europe/London:20231216T130000
DTSTAMP:20260420T104912
CREATED:20231106T122429Z
LAST-MODIFIED:20231106T122429Z
UID:22311-1702729800-1702731600@www.theblackmorevale.co.uk
SUMMARY:Christmas Lunchtime Concert
DESCRIPTION:Join us at St Peter’s Church\, Dorchester on Saturday 16th December between 12.30 and 1pm for a Christmas lunchtime concert! Britten’s ‘A ceremony of carols’ will be performed by vocal consort and talented young harpist\, Marni Lai. Enjoy a restful half an hour in the midst of this busy December Saturday! Admission is free and all are very welcome.
URL:https://www.theblackmorevale.co.uk/whats-on/christmas-lunchtime-concert/
LOCATION:St Peter’s Church Dorchester\, 26 High East Street\, Dorchester\, DT1 1XA
CATEGORIES:Christmas,Classical Music
ATTACH;FMTTYPE=image/jpeg:https://www.theblackmorevale.co.uk/wp-content/uploads/2023/11/Lunchtime-concert-poster-Dorch-December-2023.jpg
ORGANIZER;CN="Music at St Peter's":MAILTO:musicatstpeters@mail.com
END:VEVENT
BEGIN:VEVENT
DTSTART;TZID=Europe/London:20231221T103000
DTEND;TZID=Europe/London:20231221T113000
DTSTAMP:20260420T104912
CREATED:20231124T121529Z
LAST-MODIFIED:20231124T121529Z
UID:22920-1703154600-1703158200@www.theblackmorevale.co.uk
SUMMARY:Christmas crafts
DESCRIPTION:Get into the festive spirit with some wintery crafts at the library. Drop in session\, no booking required. Suitable for ages 3 +. Children under 8 must be accompanied by an adult.
URL:https://www.theblackmorevale.co.uk/whats-on/christmas-crafts/
LOCATION:Sherborne Library\, Sherborne Library\, Hound street\, Sherborne\, DT9 3AA
CATEGORIES:Children's,Christmas,Crafts
ORGANIZER;CN="Sherborne Library":MAILTO:sherbornelibrary@dorsetcouncil.gov.uk
END:VEVENT
BEGIN:VEVENT
DTSTART;TZID=Europe/London:20231223T140000
DTEND;TZID=Europe/London:20231223T143000
DTSTAMP:20260420T104912
CREATED:20231124T121509Z
LAST-MODIFIED:20231124T121509Z
UID:22917-1703340000-1703341800@www.theblackmorevale.co.uk
SUMMARY:Christmas library gets lively
DESCRIPTION:Join us at the library for a special wintery story and craft session. Suitable for ages 3+. Children under 8 must be accompanied by an adult.
URL:https://www.theblackmorevale.co.uk/whats-on/christmas-library-gets-lively/
LOCATION:Sherborne Library\, Sherborne Library\, Hound street\, Sherborne\, DT9 3AA
CATEGORIES:Children's,Christmas,Community information,Crafts
ATTACH;FMTTYPE=image/jpeg:https://www.theblackmorevale.co.uk/wp-content/uploads/2023/11/xmas-poster-23.jpg
ORGANIZER;CN="Sherborne Library":MAILTO:sherbornelibrary@dorsetcouncil.gov.uk
END:VEVENT
BEGIN:VEVENT
DTSTART;TZID=Europe/London:20231223T163000
DTEND;TZID=Europe/London:20231223T180000
DTSTAMP:20260420T104912
CREATED:20231201T120129Z
LAST-MODIFIED:20231201T120129Z
UID:23186-1703349000-1703354400@www.theblackmorevale.co.uk
SUMMARY:Festival of Nine Lessons and Carols
DESCRIPTION:You are warmly invited to our very traditional carol service on Saturday 23rd December at 4.30pm in St Peter’s Church\, Dorchester. Alongside fantastic choral settings by composers including Morton Lauridsen and Philip Stopford\, you can enjoy singing the best-loved\, traditional Christmas carols. All are very welcome to this free event!
URL:https://www.theblackmorevale.co.uk/whats-on/festival-of-nine-lessons-and-carols-3/
LOCATION:St Peter’s Church Dorchester\, 26 High East Street\, Dorchester\, DT1 1XA
CATEGORIES:Christmas,Classical Music
ATTACH;FMTTYPE=image/jpeg:https://www.theblackmorevale.co.uk/wp-content/uploads/2023/12/Dorchester-Carols-2023.jpg
ORGANIZER;CN="Music at St Peter's":MAILTO:musicatstpeters@mail.com
END:VEVENT
END:VCALENDAR