BEGIN:VCALENDAR
VERSION:2.0
PRODID:-//The BV - ECPv6.15.20//NONSGML v1.0//EN
CALSCALE:GREGORIAN
METHOD:PUBLISH
X-WR-CALNAME:The BV
X-ORIGINAL-URL:https://www.theblackmorevale.co.uk
X-WR-CALDESC:Events for The BV
REFRESH-INTERVAL;VALUE=DURATION:PT1H
X-Robots-Tag:noindex
X-PUBLISHED-TTL:PT1H
BEGIN:VTIMEZONE
TZID:Europe/London
BEGIN:DAYLIGHT
TZOFFSETFROM:+0000
TZOFFSETTO:+0100
TZNAME:BST
DTSTART:20230326T010000
END:DAYLIGHT
BEGIN:STANDARD
TZOFFSETFROM:+0100
TZOFFSETTO:+0000
TZNAME:GMT
DTSTART:20231029T010000
END:STANDARD
BEGIN:DAYLIGHT
TZOFFSETFROM:+0000
TZOFFSETTO:+0100
TZNAME:BST
DTSTART:20240331T010000
END:DAYLIGHT
BEGIN:STANDARD
TZOFFSETFROM:+0100
TZOFFSETTO:+0000
TZNAME:GMT
DTSTART:20241027T010000
END:STANDARD
BEGIN:DAYLIGHT
TZOFFSETFROM:+0000
TZOFFSETTO:+0100
TZNAME:BST
DTSTART:20250330T010000
END:DAYLIGHT
BEGIN:STANDARD
TZOFFSETFROM:+0100
TZOFFSETTO:+0000
TZNAME:GMT
DTSTART:20251026T010000
END:STANDARD
END:VTIMEZONE
BEGIN:VEVENT
DTSTART;TZID=Europe/London:20241208T120000
DTEND;TZID=Europe/London:20241208T150000
DTSTAMP:20260420T104817
CREATED:20241014T140023Z
LAST-MODIFIED:20241014T140023Z
UID:32570-1733659200-1733670000@www.theblackmorevale.co.uk
SUMMARY:Parent/Baby Nearly New Sale
DESCRIPTION:Bargain parent and child sale\, new and pre-loved baby and toddler items. Books\, pushchairs\, furniture\, cots\, clothes\, toys\, bedding and much more.The event happens at St Edmund Campion Church\, (481 Castle Lane West\, Bournemouth\, BH8 9TN on Sunday 8th December from 12-3pm). Parking onsite\, or park at Castlepoint Shopping Centre. The church is right next door to Castlepoint.
URL:https://www.theblackmorevale.co.uk/whats-on/parent-baby-nearly-new-sale/
LOCATION:BH8 9TN\, St Edmund Campion Church Hall\, Bournemouth\, BH8 9TN
CATEGORIES:Car Boot,Jumble Sale
ATTACH;FMTTYPE=image/jpeg:https://www.theblackmorevale.co.uk/wp-content/uploads/2024/10/8th-December-Post.jpg
END:VEVENT
END:VCALENDAR