BEGIN:VCALENDAR
VERSION:2.0
PRODID:-//The BV - ECPv6.15.20//NONSGML v1.0//EN
CALSCALE:GREGORIAN
METHOD:PUBLISH
X-ORIGINAL-URL:https://www.theblackmorevale.co.uk
X-WR-CALDESC:Events for The BV
REFRESH-INTERVAL;VALUE=DURATION:PT1H
X-Robots-Tag:noindex
X-PUBLISHED-TTL:PT1H
BEGIN:VTIMEZONE
TZID:Europe/London
BEGIN:DAYLIGHT
TZOFFSETFROM:+0000
TZOFFSETTO:+0100
TZNAME:BST
DTSTART:20240331T010000
END:DAYLIGHT
BEGIN:STANDARD
TZOFFSETFROM:+0100
TZOFFSETTO:+0000
TZNAME:GMT
DTSTART:20241027T010000
END:STANDARD
BEGIN:DAYLIGHT
TZOFFSETFROM:+0000
TZOFFSETTO:+0100
TZNAME:BST
DTSTART:20250330T010000
END:DAYLIGHT
BEGIN:STANDARD
TZOFFSETFROM:+0100
TZOFFSETTO:+0000
TZNAME:GMT
DTSTART:20251026T010000
END:STANDARD
BEGIN:DAYLIGHT
TZOFFSETFROM:+0000
TZOFFSETTO:+0100
TZNAME:BST
DTSTART:20260329T010000
END:DAYLIGHT
BEGIN:STANDARD
TZOFFSETFROM:+0100
TZOFFSETTO:+0000
TZNAME:GMT
DTSTART:20261025T010000
END:STANDARD
END:VTIMEZONE
BEGIN:VEVENT
DTSTART;TZID=Europe/London:20250809T100000
DTEND;TZID=Europe/London:20250817T160000
DTSTAMP:20260420T140506
CREATED:20250707T082156Z
LAST-MODIFIED:20250707T082157Z
UID:43565-1754733600-1755446400@www.theblackmorevale.co.uk
SUMMARY:Art Exhibition
DESCRIPTION:53rd Annual Art Exhibition by the Seaton & District Art Society.
URL:https://www.theblackmorevale.co.uk/whats-on/art-exhibition/
LOCATION:United Reformed Church Hall\, Cross Steet\, Seaton\, EX12 2LH
CATEGORIES:Art
ATTACH;FMTTYPE=image/png:https://www.theblackmorevale.co.uk/wp-content/uploads/2025/07/Screenshot_20250707-085210.png
ORGANIZER;CN="Seaton &amp%3B District Art Society":MAILTO:exhibition@seatonartsociety.co.uk
END:VEVENT
BEGIN:VEVENT
DTSTART;TZID=Europe/London:20250811T110000
DTEND;TZID=Europe/London:20250811T130000
DTSTAMP:20260420T140506
CREATED:20250731T115953Z
LAST-MODIFIED:20250731T115954Z
UID:44550-1754910000-1754917200@www.theblackmorevale.co.uk
SUMMARY:Messy Museum Monday: Corn Dolly Workshop
DESCRIPTION:Join Rebecca and Kitty\, who are passionate about reviving this red-listed craft\, and learn how to make your very own corn dolly – a wonderful and traditional way of celebrating the harvest. The workshop will be split into two hour-long sessions (11am-12pm and 12pm-1pm). Spaces are limited\, so booking is essential.\n\nAdmission: £5 to cover the cost of materials. Otherwise\, entry to the museum is free for non-participants. Suitable for accompanied children (aged 7+ years) and adults. Please contact us to book your place.
URL:https://www.theblackmorevale.co.uk/whats-on/messy-museum-monday-corn-dolly-workshop/
LOCATION:Sherborne Museum\, Church Lane\, Sherborne\, DT9 3BP
CATEGORIES:Art,Crafts,History
ORGANIZER;CN="Sherborne Museum":MAILTO:info@sherbornemuseum.com
END:VEVENT
BEGIN:VEVENT
DTSTART;TZID=Europe/London:20250827T100000
DTEND;TZID=Europe/London:20250909T160000
DTSTAMP:20260420T140506
CREATED:20250804T141419Z
LAST-MODIFIED:20250804T141421Z
UID:44936-1756288800-1757433600@www.theblackmorevale.co.uk
SUMMARY:Take 3 Artists
DESCRIPTION:Dick Hewitson – Barbara Davis – Joan Scott\nThree artists whose individual styles complement each other creating an exciting mix of work\nDisplaying framed artwork in oils\, acrylic and mixed media for sale\nBrowser work\, greetings cards and calendars
URL:https://www.theblackmorevale.co.uk/whats-on/take-3-artists/
LOCATION:Shaftesbury Arts Centre\, 13 Bell St\, Shaftesbury\, Dorset\, SP7 8AR\, United Kingdom
CATEGORIES:Art
ORGANIZER;CN="Joan Scott":MAILTO:joan@holtlane.plus.com
END:VEVENT
END:VCALENDAR