BEGIN:VCALENDAR
VERSION:2.0
PRODID:-//The BV - ECPv6.15.20//NONSGML v1.0//EN
CALSCALE:GREGORIAN
METHOD:PUBLISH
X-WR-CALNAME:The BV
X-ORIGINAL-URL:https://www.theblackmorevale.co.uk
X-WR-CALDESC:Events for The BV
REFRESH-INTERVAL;VALUE=DURATION:PT1H
X-Robots-Tag:noindex
X-PUBLISHED-TTL:PT1H
BEGIN:VTIMEZONE
TZID:Europe/London
BEGIN:DAYLIGHT
TZOFFSETFROM:+0000
TZOFFSETTO:+0100
TZNAME:BST
DTSTART:20240331T010000
END:DAYLIGHT
BEGIN:STANDARD
TZOFFSETFROM:+0100
TZOFFSETTO:+0000
TZNAME:GMT
DTSTART:20241027T010000
END:STANDARD
BEGIN:DAYLIGHT
TZOFFSETFROM:+0000
TZOFFSETTO:+0100
TZNAME:BST
DTSTART:20250330T010000
END:DAYLIGHT
BEGIN:STANDARD
TZOFFSETFROM:+0100
TZOFFSETTO:+0000
TZNAME:GMT
DTSTART:20251026T010000
END:STANDARD
BEGIN:DAYLIGHT
TZOFFSETFROM:+0000
TZOFFSETTO:+0100
TZNAME:BST
DTSTART:20260329T010000
END:DAYLIGHT
BEGIN:STANDARD
TZOFFSETFROM:+0100
TZOFFSETTO:+0000
TZNAME:GMT
DTSTART:20261025T010000
END:STANDARD
END:VTIMEZONE
BEGIN:VEVENT
DTSTART;TZID=Europe/London:20250524T100000
DTEND;TZID=Europe/London:20250601T170000
DTSTAMP:20260420T104752
CREATED:20250505T093707Z
LAST-MODIFIED:20250505T093710Z
UID:40985-1748080800-1748797200@www.theblackmorevale.co.uk
SUMMARY:Andrew Thomas S.W.A.C - Sculptor - Solo Art Exhibition
DESCRIPTION:Solo Exhibition Showcases 36 Years of Work by Purbeck Artist Andrew Thomas SWAc \nPurbeck-based artist and sculptor Andrew Thomas SWAc will unveil a major solo exhibition this May\, opening to the public from May 24th for nine days. This special event offers a rare opportunity to view an extensive collection of his work in one location—spanning over 36 years of artistic exploration. \nThe exhibition will feature a compelling mix of original hand-carved wood sculptures\, limited-edition bronze castings\, striking ‘laser art’ canvas prints\, and a range of gift cards. Visitors will also have the chance to purchase from a curated selection of affordable art\, appealing to both seasoned collectors and first-time buyers. \nAndrew Thomas is known for creating work that is thought-provoking\, challenging\, and deeply inspirational. This free event invites art lovers of all backgrounds to experience the breadth and evolution of his creative journey.
URL:https://www.theblackmorevale.co.uk/whats-on/andrew-thomas-s-w-a-c-sculptor-solo-art-exhibition/
LOCATION:Stoborough Village Hall\, West Lane\, Stoborough\, Wareham\, BH20 5AJ
CATEGORIES:Art
ATTACH;FMTTYPE=image/jpeg:https://www.theblackmorevale.co.uk/wp-content/uploads/2025/05/I-AM.jpg
ORGANIZER;CN="Andrew Thomas":MAILTO:art@3dsculptor.com
END:VEVENT
BEGIN:VEVENT
DTSTART;TZID=Europe/London:20250618T190000
DTEND;TZID=Europe/London:20250618T220000
DTSTAMP:20260420T104752
CREATED:20250622T092546Z
LAST-MODIFIED:20250622T092547Z
UID:42924-1750273200-1750284000@www.theblackmorevale.co.uk
SUMMARY:Art Meets Sky: Helm Gallery Brings Bold 'DISRUPTION' Exhibition to Branksome's Roof Terrace
DESCRIPTION:Rockwater Branksome is hosting an exclusive one-night-only rooftop takeover by Brighton’s Helm Gallery on Wednesday\, June 18th. \n\nThe evening will showcase thought-provoking prints and original works from over 10 different artists set against the coastal backdrop of Branksome at sunset.\n\nThis rooftop takeover represents everything Helm Gallery stands for – bringing exceptional art into unexpected spaces where people can truly connect with both the work and each other\,” said Eden Maseyk\, Co-founder of Helm. “There’s something magical about experiencing disruptive art against the backdrop of the Branksome coast at sunset.”\n\nHelm Gallery has redefined the traditional gallery experience since opening\, combining limited edition prints and original pieces across two floors with an innovative cocktail bar concept. The gallery’s main exhibition hall regularly hosts conversation-sparking shows\, while the top floor features carefully curated collections in an atmosphere designed for lingering\, connecting\, and finding inspiration.\n\nGuests at the Rockwater Branksome pop-up will be welcomed with a complimentary glass of sparkling wine on arrival\, alongside carefully selected canapés. Throughout the evening\, visitors can experience a true taste of Helm with a specially curated cocktail menu available for purchase\, featuring gallery favorites such as the Chilli Peach Margarita and Dark Chocolate Sea Salt Espresso Martini. The combination of exceptional art\, Helm’s signature drinks\, and the dramatic coastal rooftop setting promises an unforgettable evening that brings every aspect of the Brighton gallery experience to the coast.\n\nThe ‘DISRUPTION’ pop-up offers a tantalizing preview of Helm Gallery’s full offerings\, inviting art enthusiasts and cultural explorers to experience why Brighton’s boldest culture space has become a destination for those seeking something beyond the ordinary gallery visit.\n\nThis exclusive event is part of Rockwater Branksome’s dynamic summer programming\, which includes Roebuck Supper Clubs during English Wine Week (June 21-29)\, sound baths led by in-house wellness expert Vivienne Yardley\, and weekend Sunset Sessions in collaboration with Casamigos on the roof terrace.
URL:https://www.theblackmorevale.co.uk/whats-on/art-meets-sky-helm-gallery-brings-bold-disruption-exhibition-to-branksomes-roof-terrace/
CATEGORIES:Art,Exhibition,Food & Drink,music
ATTACH;FMTTYPE=image/jpeg:https://www.theblackmorevale.co.uk/wp-content/uploads/2025/06/IMG_2890.jpg
END:VEVENT
BEGIN:VEVENT
DTSTART;TZID=Europe/London:20250628T100000
DTEND;TZID=Europe/London:20250628T150000
DTSTAMP:20260420T104752
CREATED:20250601T090017Z
LAST-MODIFIED:20250601T090019Z
UID:42026-1751104800-1751122800@www.theblackmorevale.co.uk
SUMMARY:Wimborne Community Centre Artisan Makers Market
DESCRIPTION:Come along and join us for another great Artisan Makers Market here at the Wimborne Community Centre.  You will find lots of beautiful art and craftwork for sale\, handmade by a wide array of local\, talented artists and makers.  Why not come to browse and shop and enjoy a tasty treat from our café too.  Free entry and dogs welcome.
URL:https://www.theblackmorevale.co.uk/whats-on/wimborne-community-centre-artisan-makers-market-13/
LOCATION:Wimborne Community Centre\, 41 - 44 King Street\, Wimborne\, BH21 1EA
CATEGORIES:Art,craft fair
ATTACH;FMTTYPE=image/jpeg:https://www.theblackmorevale.co.uk/wp-content/uploads/2025/05/28-June-.jpg
END:VEVENT
END:VCALENDAR