BEGIN:VCALENDAR
VERSION:2.0
PRODID:-//The BV - ECPv6.15.20//NONSGML v1.0//EN
CALSCALE:GREGORIAN
METHOD:PUBLISH
X-ORIGINAL-URL:https://www.theblackmorevale.co.uk
X-WR-CALDESC:Events for The BV
REFRESH-INTERVAL;VALUE=DURATION:PT1H
X-Robots-Tag:noindex
X-PUBLISHED-TTL:PT1H
BEGIN:VTIMEZONE
TZID:Europe/London
BEGIN:DAYLIGHT
TZOFFSETFROM:+0000
TZOFFSETTO:+0100
TZNAME:BST
DTSTART:20210328T010000
END:DAYLIGHT
BEGIN:STANDARD
TZOFFSETFROM:+0100
TZOFFSETTO:+0000
TZNAME:GMT
DTSTART:20211031T010000
END:STANDARD
BEGIN:DAYLIGHT
TZOFFSETFROM:+0000
TZOFFSETTO:+0100
TZNAME:BST
DTSTART:20220327T010000
END:DAYLIGHT
BEGIN:STANDARD
TZOFFSETFROM:+0100
TZOFFSETTO:+0000
TZNAME:GMT
DTSTART:20221030T010000
END:STANDARD
BEGIN:DAYLIGHT
TZOFFSETFROM:+0000
TZOFFSETTO:+0100
TZNAME:BST
DTSTART:20230326T010000
END:DAYLIGHT
BEGIN:STANDARD
TZOFFSETFROM:+0100
TZOFFSETTO:+0000
TZNAME:GMT
DTSTART:20231029T010000
END:STANDARD
END:VTIMEZONE
BEGIN:VEVENT
DTSTART;TZID=Europe/London:20220505T113000
DTEND;TZID=Europe/London:20220505T123000
DTSTAMP:20260420T224005
CREATED:20220405T092118Z
LAST-MODIFIED:20220405T092118Z
UID:6853-1651750200-1651753800@www.theblackmorevale.co.uk
SUMMARY:Free Taster Lectures
DESCRIPTION:Interested in The Arts? This Spring\, The Arts Society Blackmore Vale has some free taster places for its Thursday lectures:\n5th May: Peggy Guggenheim\n9th June: Georgia O’Keefe in New Mexico\n7th July: The Artworks Top 20 \nCoffee from 10.30am\, lecture 11.30am – 12.30pm\nDetails on our website : www.theartssocietyblackmorevale.org.uk or email: sheilawilliams51@btinternet.com\nor telephone 01747 840220 to secure your seat.
URL:https://www.theblackmorevale.co.uk/whats-on/free-taster-lectures/
CATEGORIES:Art,lectures & Talks
END:VEVENT
BEGIN:VEVENT
DTSTART;VALUE=DATE:20220908
DTEND;VALUE=DATE:20220912
DTSTAMP:20260420T224005
CREATED:20220907T111122Z
LAST-MODIFIED:20220925T113619Z
UID:10916-1662595200-1662940799@www.theblackmorevale.co.uk
SUMMARY:b-side Festival
DESCRIPTION:b-side is an internationally recognised and locally loved arts organisation that both embodies and enriches its place of origin – the Isle of Portland in Dorset. \nThis year\, b-side Festival returns for their 2022 edition\, launching 15 brand new artworks under the theme of ‘Common Lands’ which invites visitors to explore their relationship to the unique landscape of Portland. \nTaking place across four days between September 8th-11th\, Portland will host both local and international artists who will take festival-goers on an experimental tour around this distinctive part of the UK\, exploring its history through their creative visions. From abseiling down Portland’s infamous cliffsides to a one-to-one poetry workshop\, to diving into an augmented reality artwork of mythical mermaids and taking part in print and banner-making workshops\, there’s something for all the family to enjoy. \nThe festival will also culminate in The Big Portland Parade\, where attendees will be invited to a joint celebration of Portland. United under the theme of ‘Keep Portland Weird\,’ attendees are encouraged to show off their most weird and wonderful outfits in a parade led by the local community\, volunteers and b-side artists. \nPlease visit our website to see the full programme of events held across the four-day festival.
URL:https://www.theblackmorevale.co.uk/whats-on/b-side-festival/
LOCATION:St Georges Centre\, Reforne\, Easton Portland\, St Georges Centre\, Reforne\, DT5 2AN
CATEGORIES:Art,Crafts,Exhibition,Family event,Festival,outdoor theatre,Wildlife
ATTACH;FMTTYPE=image/jpeg:https://www.theblackmorevale.co.uk/wp-content/uploads/2022/09/B-Side-2021-Credit-Paul-Box-2-scaled.jpg
ORGANIZER;CN="Sandy Kirby":MAILTO:info@b-side.org.uk
END:VEVENT
BEGIN:VEVENT
DTSTART;TZID=Europe/London:20220429T103000
DTEND;TZID=Europe/London:20220429T123000
DTSTAMP:20260420T224005
CREATED:20220331T121617Z
LAST-MODIFIED:20220425T154512Z
UID:6612-1651228200-1651235400@www.theblackmorevale.co.uk
SUMMARY:Life Drawing Sessions
DESCRIPTION:Friendly life drawing sessions\, all abilities welcome.\nAt Marnhull Village Hall 10.30am – 12.30pm\nLast Friday of each month.\n£8 per session \nContact Katie on 07766 311 810
URL:https://www.theblackmorevale.co.uk/whats-on/life-drawing-sessions/
LOCATION:Marnhull Village Hall\, Burton St\, Marnhull\, DT10 1PP
CATEGORIES:Art,classes
ATTACH;FMTTYPE=image/png:https://www.theblackmorevale.co.uk/wp-content/uploads/2022/03/277354979_522354769583774_2655889739756088879_n.png
END:VEVENT
END:VCALENDAR