BEGIN:VCALENDAR
VERSION:2.0
PRODID:-//The BV - ECPv6.15.20//NONSGML v1.0//EN
CALSCALE:GREGORIAN
METHOD:PUBLISH
X-WR-CALNAME:The BV
X-ORIGINAL-URL:https://www.theblackmorevale.co.uk
X-WR-CALDESC:Events for The BV
REFRESH-INTERVAL;VALUE=DURATION:PT1H
X-Robots-Tag:noindex
X-PUBLISHED-TTL:PT1H
BEGIN:VTIMEZONE
TZID:Europe/London
BEGIN:DAYLIGHT
TZOFFSETFROM:+0000
TZOFFSETTO:+0100
TZNAME:BST
DTSTART:20250330T010000
END:DAYLIGHT
BEGIN:STANDARD
TZOFFSETFROM:+0100
TZOFFSETTO:+0000
TZNAME:GMT
DTSTART:20251026T010000
END:STANDARD
BEGIN:DAYLIGHT
TZOFFSETFROM:+0000
TZOFFSETTO:+0100
TZNAME:BST
DTSTART:20260329T010000
END:DAYLIGHT
BEGIN:STANDARD
TZOFFSETFROM:+0100
TZOFFSETTO:+0000
TZNAME:GMT
DTSTART:20261025T010000
END:STANDARD
BEGIN:DAYLIGHT
TZOFFSETFROM:+0000
TZOFFSETTO:+0100
TZNAME:BST
DTSTART:20270328T010000
END:DAYLIGHT
BEGIN:STANDARD
TZOFFSETFROM:+0100
TZOFFSETTO:+0000
TZNAME:GMT
DTSTART:20271031T010000
END:STANDARD
END:VTIMEZONE
BEGIN:VEVENT
DTSTART;TZID=Europe/London:20260422T190000
DTEND;TZID=Europe/London:20260422T203000
DTSTAMP:20260422T033050
CREATED:20260331T181720Z
LAST-MODIFIED:20260331T215131Z
UID:80308-1776884400-1776889800@www.theblackmorevale.co.uk
SUMMARY:A CAREER IN RUINS !
DESCRIPTION:Join us on Wed 22 April at 7pm in Fifehead Magdalen Village Hall for an evening with local archaeologist Julian Richards. He’ll share some of the memories from his 55-year career of working with English Heritage at Stonehenge\, as well as his work on TV and radio. \n£8 including refreshments and cake. All proceeds to charity. \nBooking essential. Please email : fifehead.events@gmail.com
URL:https://www.theblackmorevale.co.uk/whats-on/a-career-in-ruins/
LOCATION:Fifehead Magdalen Village Hall\, Fifehead Magdalen\, Gillingham\, SP8 5RR
ATTACH;FMTTYPE=image/jpeg:https://www.theblackmorevale.co.uk/wp-content/uploads/2026/03/Poster-JPEG-1.webp
END:VEVENT
END:VCALENDAR